BEGIN:VCALENDAR
VERSION:2.0
PRODID:-//per-cani e.V. - ECPv6.15.20//NONSGML v1.0//EN
CALSCALE:GREGORIAN
METHOD:PUBLISH
X-WR-CALNAME:per-cani e.V.
X-ORIGINAL-URL:https://per-cani.de
X-WR-CALDESC:Veranstaltungen für per-cani e.V.
REFRESH-INTERVAL;VALUE=DURATION:PT1H
X-Robots-Tag:noindex
X-PUBLISHED-TTL:PT1H
BEGIN:VTIMEZONE
TZID:Europe/Berlin
BEGIN:DAYLIGHT
TZOFFSETFROM:+0100
TZOFFSETTO:+0200
TZNAME:CEST
DTSTART:20250330T010000
END:DAYLIGHT
BEGIN:STANDARD
TZOFFSETFROM:+0200
TZOFFSETTO:+0100
TZNAME:CET
DTSTART:20251026T010000
END:STANDARD
BEGIN:DAYLIGHT
TZOFFSETFROM:+0100
TZOFFSETTO:+0200
TZNAME:CEST
DTSTART:20260329T010000
END:DAYLIGHT
BEGIN:STANDARD
TZOFFSETFROM:+0200
TZOFFSETTO:+0100
TZNAME:CET
DTSTART:20261025T010000
END:STANDARD
BEGIN:DAYLIGHT
TZOFFSETFROM:+0100
TZOFFSETTO:+0200
TZNAME:CEST
DTSTART:20270328T010000
END:DAYLIGHT
BEGIN:STANDARD
TZOFFSETFROM:+0200
TZOFFSETTO:+0100
TZNAME:CET
DTSTART:20271031T010000
END:STANDARD
BEGIN:DAYLIGHT
TZOFFSETFROM:+0100
TZOFFSETTO:+0200
TZNAME:CEST
DTSTART:20280326T010000
END:DAYLIGHT
BEGIN:STANDARD
TZOFFSETFROM:+0200
TZOFFSETTO:+0100
TZNAME:CET
DTSTART:20281029T010000
END:STANDARD
BEGIN:DAYLIGHT
TZOFFSETFROM:+0100
TZOFFSETTO:+0200
TZNAME:CEST
DTSTART:20290325T010000
END:DAYLIGHT
BEGIN:STANDARD
TZOFFSETFROM:+0200
TZOFFSETTO:+0100
TZNAME:CET
DTSTART:20291028T010000
END:STANDARD
BEGIN:DAYLIGHT
TZOFFSETFROM:+0100
TZOFFSETTO:+0200
TZNAME:CEST
DTSTART:20300331T010000
END:DAYLIGHT
BEGIN:STANDARD
TZOFFSETFROM:+0200
TZOFFSETTO:+0100
TZNAME:CET
DTSTART:20301027T010000
END:STANDARD
BEGIN:DAYLIGHT
TZOFFSETFROM:+0100
TZOFFSETTO:+0200
TZNAME:CEST
DTSTART:20310330T010000
END:DAYLIGHT
BEGIN:STANDARD
TZOFFSETFROM:+0200
TZOFFSETTO:+0100
TZNAME:CET
DTSTART:20311026T010000
END:STANDARD
BEGIN:DAYLIGHT
TZOFFSETFROM:+0100
TZOFFSETTO:+0200
TZNAME:CEST
DTSTART:20320328T010000
END:DAYLIGHT
BEGIN:STANDARD
TZOFFSETFROM:+0200
TZOFFSETTO:+0100
TZNAME:CET
DTSTART:20321031T010000
END:STANDARD
END:VTIMEZONE
BEGIN:VEVENT
DTSTART;TZID=Europe/Berlin:20260519T180000
DTEND;TZID=Europe/Berlin:20260519T193000
DTSTAMP:20260421T133012
CREATED:20260325T123719Z
LAST-MODIFIED:20260325T123720Z
UID:10000592-1779213600-1779219000@per-cani.de
SUMMARY:Lernrunde; Archäologischen Lehrpfad
DESCRIPTION:Google-Maps:  Kreuzkrug\, 33189 Schlangen\nHinweis: Parken am Kreuzkrug. Wir gehen dann über den Aschenweg zum Archäologischen Lehrpfad \nDie Lernrunde dauert etwa eine Stunde und bietet eine bunte Mischung aus verschiedenen Übungen – abgestimmt auf das\, was die Topologie des Geländes gerade ermöglicht. \nJeder darf mitmachen\, niemand muss – der Spaß und das gemeinsame Lernen stehen im Vordergrund. \nGeplant sind kleine Übungen. \nNatürlich ist auch Raum für Fragen – wir nehmen uns gerne Zeit dafür!
URL:https://per-cani.de/event/lernrunde-3-2/2026-05-19/
LOCATION:Am Kreuzkrug\, Kreuzkrug 1\, Schlangen\, 33189\, Germany
ORGANIZER;CN="per-cani e.V.":MAILTO:info@per-cani.de
END:VEVENT
BEGIN:VEVENT
DTSTART;TZID=Europe/Berlin:20260728T180000
DTEND;TZID=Europe/Berlin:20260728T193000
DTSTAMP:20260421T133012
CREATED:20260325T123719Z
LAST-MODIFIED:20260325T123720Z
UID:10001405-1785261600-1785267000@per-cani.de
SUMMARY:Lernrunde; Archäologischen Lehrpfad
DESCRIPTION:Google-Maps:  Kreuzkrug\, 33189 Schlangen\nHinweis: Parken am Kreuzkrug. Wir gehen dann über den Aschenweg zum Archäologischen Lehrpfad \nDie Lernrunde dauert etwa eine Stunde und bietet eine bunte Mischung aus verschiedenen Übungen – abgestimmt auf das\, was die Topologie des Geländes gerade ermöglicht. \nJeder darf mitmachen\, niemand muss – der Spaß und das gemeinsame Lernen stehen im Vordergrund. \nGeplant sind kleine Übungen. \nNatürlich ist auch Raum für Fragen – wir nehmen uns gerne Zeit dafür!
URL:https://per-cani.de/event/lernrunde-3-2/2026-07-28/
LOCATION:Am Kreuzkrug\, Kreuzkrug 1\, Schlangen\, 33189\, Germany
ORGANIZER;CN="per-cani e.V.":MAILTO:info@per-cani.de
END:VEVENT
BEGIN:VEVENT
DTSTART;TZID=Europe/Berlin:20261006T180000
DTEND;TZID=Europe/Berlin:20261006T193000
DTSTAMP:20260421T133012
CREATED:20260325T123719Z
LAST-MODIFIED:20260325T123720Z
UID:10001406-1791309600-1791315000@per-cani.de
SUMMARY:Lernrunde; Archäologischen Lehrpfad
DESCRIPTION:Google-Maps:  Kreuzkrug\, 33189 Schlangen\nHinweis: Parken am Kreuzkrug. Wir gehen dann über den Aschenweg zum Archäologischen Lehrpfad \nDie Lernrunde dauert etwa eine Stunde und bietet eine bunte Mischung aus verschiedenen Übungen – abgestimmt auf das\, was die Topologie des Geländes gerade ermöglicht. \nJeder darf mitmachen\, niemand muss – der Spaß und das gemeinsame Lernen stehen im Vordergrund. \nGeplant sind kleine Übungen. \nNatürlich ist auch Raum für Fragen – wir nehmen uns gerne Zeit dafür!
URL:https://per-cani.de/event/lernrunde-3-2/2026-10-06/
LOCATION:Am Kreuzkrug\, Kreuzkrug 1\, Schlangen\, 33189\, Germany
ORGANIZER;CN="per-cani e.V.":MAILTO:info@per-cani.de
END:VEVENT
BEGIN:VEVENT
DTSTART;TZID=Europe/Berlin:20261215T180000
DTEND;TZID=Europe/Berlin:20261215T193000
DTSTAMP:20260421T133012
CREATED:20260325T123719Z
LAST-MODIFIED:20260325T123720Z
UID:10001407-1797357600-1797363000@per-cani.de
SUMMARY:Lernrunde; Archäologischen Lehrpfad
DESCRIPTION:Google-Maps:  Kreuzkrug\, 33189 Schlangen\nHinweis: Parken am Kreuzkrug. Wir gehen dann über den Aschenweg zum Archäologischen Lehrpfad \nDie Lernrunde dauert etwa eine Stunde und bietet eine bunte Mischung aus verschiedenen Übungen – abgestimmt auf das\, was die Topologie des Geländes gerade ermöglicht. \nJeder darf mitmachen\, niemand muss – der Spaß und das gemeinsame Lernen stehen im Vordergrund. \nGeplant sind kleine Übungen. \nNatürlich ist auch Raum für Fragen – wir nehmen uns gerne Zeit dafür!
URL:https://per-cani.de/event/lernrunde-3-2/2026-12-15/
LOCATION:Am Kreuzkrug\, Kreuzkrug 1\, Schlangen\, 33189\, Germany
ORGANIZER;CN="per-cani e.V.":MAILTO:info@per-cani.de
END:VEVENT
BEGIN:VEVENT
DTSTART;TZID=Europe/Berlin:20270223T180000
DTEND;TZID=Europe/Berlin:20270223T193000
DTSTAMP:20260421T133012
CREATED:20260325T123719Z
LAST-MODIFIED:20260325T123720Z
UID:10001408-1803405600-1803411000@per-cani.de
SUMMARY:Lernrunde; Archäologischen Lehrpfad
DESCRIPTION:Google-Maps:  Kreuzkrug\, 33189 Schlangen\nHinweis: Parken am Kreuzkrug. Wir gehen dann über den Aschenweg zum Archäologischen Lehrpfad \nDie Lernrunde dauert etwa eine Stunde und bietet eine bunte Mischung aus verschiedenen Übungen – abgestimmt auf das\, was die Topologie des Geländes gerade ermöglicht. \nJeder darf mitmachen\, niemand muss – der Spaß und das gemeinsame Lernen stehen im Vordergrund. \nGeplant sind kleine Übungen. \nNatürlich ist auch Raum für Fragen – wir nehmen uns gerne Zeit dafür!
URL:https://per-cani.de/event/lernrunde-3-2/2027-02-23/
LOCATION:Am Kreuzkrug\, Kreuzkrug 1\, Schlangen\, 33189\, Germany
ORGANIZER;CN="per-cani e.V.":MAILTO:info@per-cani.de
END:VEVENT
BEGIN:VEVENT
DTSTART;TZID=Europe/Berlin:20270504T180000
DTEND;TZID=Europe/Berlin:20270504T193000
DTSTAMP:20260421T133012
CREATED:20260325T123719Z
LAST-MODIFIED:20260325T123720Z
UID:10001409-1809453600-1809459000@per-cani.de
SUMMARY:Lernrunde; Archäologischen Lehrpfad
DESCRIPTION:Google-Maps:  Kreuzkrug\, 33189 Schlangen\nHinweis: Parken am Kreuzkrug. Wir gehen dann über den Aschenweg zum Archäologischen Lehrpfad \nDie Lernrunde dauert etwa eine Stunde und bietet eine bunte Mischung aus verschiedenen Übungen – abgestimmt auf das\, was die Topologie des Geländes gerade ermöglicht. \nJeder darf mitmachen\, niemand muss – der Spaß und das gemeinsame Lernen stehen im Vordergrund. \nGeplant sind kleine Übungen. \nNatürlich ist auch Raum für Fragen – wir nehmen uns gerne Zeit dafür!
URL:https://per-cani.de/event/lernrunde-3-2/2027-05-04/
LOCATION:Am Kreuzkrug\, Kreuzkrug 1\, Schlangen\, 33189\, Germany
ORGANIZER;CN="per-cani e.V.":MAILTO:info@per-cani.de
END:VEVENT
BEGIN:VEVENT
DTSTART;TZID=Europe/Berlin:20270713T180000
DTEND;TZID=Europe/Berlin:20270713T193000
DTSTAMP:20260421T133012
CREATED:20260325T123719Z
LAST-MODIFIED:20260325T123720Z
UID:10001410-1815501600-1815507000@per-cani.de
SUMMARY:Lernrunde; Archäologischen Lehrpfad
DESCRIPTION:Google-Maps:  Kreuzkrug\, 33189 Schlangen\nHinweis: Parken am Kreuzkrug. Wir gehen dann über den Aschenweg zum Archäologischen Lehrpfad \nDie Lernrunde dauert etwa eine Stunde und bietet eine bunte Mischung aus verschiedenen Übungen – abgestimmt auf das\, was die Topologie des Geländes gerade ermöglicht. \nJeder darf mitmachen\, niemand muss – der Spaß und das gemeinsame Lernen stehen im Vordergrund. \nGeplant sind kleine Übungen. \nNatürlich ist auch Raum für Fragen – wir nehmen uns gerne Zeit dafür!
URL:https://per-cani.de/event/lernrunde-3-2/2027-07-13/
LOCATION:Am Kreuzkrug\, Kreuzkrug 1\, Schlangen\, 33189\, Germany
ORGANIZER;CN="per-cani e.V.":MAILTO:info@per-cani.de
END:VEVENT
BEGIN:VEVENT
DTSTART;TZID=Europe/Berlin:20270921T180000
DTEND;TZID=Europe/Berlin:20270921T193000
DTSTAMP:20260421T133012
CREATED:20260325T123719Z
LAST-MODIFIED:20260325T123720Z
UID:10001411-1821549600-1821555000@per-cani.de
SUMMARY:Lernrunde; Archäologischen Lehrpfad
DESCRIPTION:Google-Maps:  Kreuzkrug\, 33189 Schlangen\nHinweis: Parken am Kreuzkrug. Wir gehen dann über den Aschenweg zum Archäologischen Lehrpfad \nDie Lernrunde dauert etwa eine Stunde und bietet eine bunte Mischung aus verschiedenen Übungen – abgestimmt auf das\, was die Topologie des Geländes gerade ermöglicht. \nJeder darf mitmachen\, niemand muss – der Spaß und das gemeinsame Lernen stehen im Vordergrund. \nGeplant sind kleine Übungen. \nNatürlich ist auch Raum für Fragen – wir nehmen uns gerne Zeit dafür!
URL:https://per-cani.de/event/lernrunde-3-2/2027-09-21/
LOCATION:Am Kreuzkrug\, Kreuzkrug 1\, Schlangen\, 33189\, Germany
ORGANIZER;CN="per-cani e.V.":MAILTO:info@per-cani.de
END:VEVENT
BEGIN:VEVENT
DTSTART;TZID=Europe/Berlin:20271130T180000
DTEND;TZID=Europe/Berlin:20271130T193000
DTSTAMP:20260421T133012
CREATED:20260325T123719Z
LAST-MODIFIED:20260325T123720Z
UID:10001412-1827597600-1827603000@per-cani.de
SUMMARY:Lernrunde; Archäologischen Lehrpfad
DESCRIPTION:Google-Maps:  Kreuzkrug\, 33189 Schlangen\nHinweis: Parken am Kreuzkrug. Wir gehen dann über den Aschenweg zum Archäologischen Lehrpfad \nDie Lernrunde dauert etwa eine Stunde und bietet eine bunte Mischung aus verschiedenen Übungen – abgestimmt auf das\, was die Topologie des Geländes gerade ermöglicht. \nJeder darf mitmachen\, niemand muss – der Spaß und das gemeinsame Lernen stehen im Vordergrund. \nGeplant sind kleine Übungen. \nNatürlich ist auch Raum für Fragen – wir nehmen uns gerne Zeit dafür!
URL:https://per-cani.de/event/lernrunde-3-2/2027-11-30/
LOCATION:Am Kreuzkrug\, Kreuzkrug 1\, Schlangen\, 33189\, Germany
ORGANIZER;CN="per-cani e.V.":MAILTO:info@per-cani.de
END:VEVENT
BEGIN:VEVENT
DTSTART;TZID=Europe/Berlin:20280208T180000
DTEND;TZID=Europe/Berlin:20280208T193000
DTSTAMP:20260421T133012
CREATED:20260325T123719Z
LAST-MODIFIED:20260325T123720Z
UID:10001413-1833645600-1833651000@per-cani.de
SUMMARY:Lernrunde; Archäologischen Lehrpfad
DESCRIPTION:Google-Maps:  Kreuzkrug\, 33189 Schlangen\nHinweis: Parken am Kreuzkrug. Wir gehen dann über den Aschenweg zum Archäologischen Lehrpfad \nDie Lernrunde dauert etwa eine Stunde und bietet eine bunte Mischung aus verschiedenen Übungen – abgestimmt auf das\, was die Topologie des Geländes gerade ermöglicht. \nJeder darf mitmachen\, niemand muss – der Spaß und das gemeinsame Lernen stehen im Vordergrund. \nGeplant sind kleine Übungen. \nNatürlich ist auch Raum für Fragen – wir nehmen uns gerne Zeit dafür!
URL:https://per-cani.de/event/lernrunde-3-2/2028-02-08/
LOCATION:Am Kreuzkrug\, Kreuzkrug 1\, Schlangen\, 33189\, Germany
ORGANIZER;CN="per-cani e.V.":MAILTO:info@per-cani.de
END:VEVENT
BEGIN:VEVENT
DTSTART;TZID=Europe/Berlin:20280418T180000
DTEND;TZID=Europe/Berlin:20280418T193000
DTSTAMP:20260421T133012
CREATED:20260325T123719Z
LAST-MODIFIED:20260325T123720Z
UID:10001414-1839693600-1839699000@per-cani.de
SUMMARY:Lernrunde; Archäologischen Lehrpfad
DESCRIPTION:Google-Maps:  Kreuzkrug\, 33189 Schlangen\nHinweis: Parken am Kreuzkrug. Wir gehen dann über den Aschenweg zum Archäologischen Lehrpfad \nDie Lernrunde dauert etwa eine Stunde und bietet eine bunte Mischung aus verschiedenen Übungen – abgestimmt auf das\, was die Topologie des Geländes gerade ermöglicht. \nJeder darf mitmachen\, niemand muss – der Spaß und das gemeinsame Lernen stehen im Vordergrund. \nGeplant sind kleine Übungen. \nNatürlich ist auch Raum für Fragen – wir nehmen uns gerne Zeit dafür!
URL:https://per-cani.de/event/lernrunde-3-2/2028-04-18/
LOCATION:Am Kreuzkrug\, Kreuzkrug 1\, Schlangen\, 33189\, Germany
ORGANIZER;CN="per-cani e.V.":MAILTO:info@per-cani.de
END:VEVENT
BEGIN:VEVENT
DTSTART;TZID=Europe/Berlin:20280627T180000
DTEND;TZID=Europe/Berlin:20280627T193000
DTSTAMP:20260421T133012
CREATED:20260325T123719Z
LAST-MODIFIED:20260325T123720Z
UID:10001415-1845741600-1845747000@per-cani.de
SUMMARY:Lernrunde; Archäologischen Lehrpfad
DESCRIPTION:Google-Maps:  Kreuzkrug\, 33189 Schlangen\nHinweis: Parken am Kreuzkrug. Wir gehen dann über den Aschenweg zum Archäologischen Lehrpfad \nDie Lernrunde dauert etwa eine Stunde und bietet eine bunte Mischung aus verschiedenen Übungen – abgestimmt auf das\, was die Topologie des Geländes gerade ermöglicht. \nJeder darf mitmachen\, niemand muss – der Spaß und das gemeinsame Lernen stehen im Vordergrund. \nGeplant sind kleine Übungen. \nNatürlich ist auch Raum für Fragen – wir nehmen uns gerne Zeit dafür!
URL:https://per-cani.de/event/lernrunde-3-2/2028-06-27/
LOCATION:Am Kreuzkrug\, Kreuzkrug 1\, Schlangen\, 33189\, Germany
ORGANIZER;CN="per-cani e.V.":MAILTO:info@per-cani.de
END:VEVENT
BEGIN:VEVENT
DTSTART;TZID=Europe/Berlin:20280905T180000
DTEND;TZID=Europe/Berlin:20280905T193000
DTSTAMP:20260421T133012
CREATED:20260325T123719Z
LAST-MODIFIED:20260325T123720Z
UID:10001416-1851789600-1851795000@per-cani.de
SUMMARY:Lernrunde; Archäologischen Lehrpfad
DESCRIPTION:Google-Maps:  Kreuzkrug\, 33189 Schlangen\nHinweis: Parken am Kreuzkrug. Wir gehen dann über den Aschenweg zum Archäologischen Lehrpfad \nDie Lernrunde dauert etwa eine Stunde und bietet eine bunte Mischung aus verschiedenen Übungen – abgestimmt auf das\, was die Topologie des Geländes gerade ermöglicht. \nJeder darf mitmachen\, niemand muss – der Spaß und das gemeinsame Lernen stehen im Vordergrund. \nGeplant sind kleine Übungen. \nNatürlich ist auch Raum für Fragen – wir nehmen uns gerne Zeit dafür!
URL:https://per-cani.de/event/lernrunde-3-2/2028-09-05/
LOCATION:Am Kreuzkrug\, Kreuzkrug 1\, Schlangen\, 33189\, Germany
ORGANIZER;CN="per-cani e.V.":MAILTO:info@per-cani.de
END:VEVENT
BEGIN:VEVENT
DTSTART;TZID=Europe/Berlin:20281114T180000
DTEND;TZID=Europe/Berlin:20281114T193000
DTSTAMP:20260421T133012
CREATED:20260325T123719Z
LAST-MODIFIED:20260325T123720Z
UID:10001417-1857837600-1857843000@per-cani.de
SUMMARY:Lernrunde; Archäologischen Lehrpfad
DESCRIPTION:Google-Maps:  Kreuzkrug\, 33189 Schlangen\nHinweis: Parken am Kreuzkrug. Wir gehen dann über den Aschenweg zum Archäologischen Lehrpfad \nDie Lernrunde dauert etwa eine Stunde und bietet eine bunte Mischung aus verschiedenen Übungen – abgestimmt auf das\, was die Topologie des Geländes gerade ermöglicht. \nJeder darf mitmachen\, niemand muss – der Spaß und das gemeinsame Lernen stehen im Vordergrund. \nGeplant sind kleine Übungen. \nNatürlich ist auch Raum für Fragen – wir nehmen uns gerne Zeit dafür!
URL:https://per-cani.de/event/lernrunde-3-2/2028-11-14/
LOCATION:Am Kreuzkrug\, Kreuzkrug 1\, Schlangen\, 33189\, Germany
ORGANIZER;CN="per-cani e.V.":MAILTO:info@per-cani.de
END:VEVENT
BEGIN:VEVENT
DTSTART;TZID=Europe/Berlin:20290123T180000
DTEND;TZID=Europe/Berlin:20290123T193000
DTSTAMP:20260421T133012
CREATED:20260325T123719Z
LAST-MODIFIED:20260325T123720Z
UID:10001418-1863885600-1863891000@per-cani.de
SUMMARY:Lernrunde; Archäologischen Lehrpfad
DESCRIPTION:Google-Maps:  Kreuzkrug\, 33189 Schlangen\nHinweis: Parken am Kreuzkrug. Wir gehen dann über den Aschenweg zum Archäologischen Lehrpfad \nDie Lernrunde dauert etwa eine Stunde und bietet eine bunte Mischung aus verschiedenen Übungen – abgestimmt auf das\, was die Topologie des Geländes gerade ermöglicht. \nJeder darf mitmachen\, niemand muss – der Spaß und das gemeinsame Lernen stehen im Vordergrund. \nGeplant sind kleine Übungen. \nNatürlich ist auch Raum für Fragen – wir nehmen uns gerne Zeit dafür!
URL:https://per-cani.de/event/lernrunde-3-2/2029-01-23/
LOCATION:Am Kreuzkrug\, Kreuzkrug 1\, Schlangen\, 33189\, Germany
ORGANIZER;CN="per-cani e.V.":MAILTO:info@per-cani.de
END:VEVENT
BEGIN:VEVENT
DTSTART;TZID=Europe/Berlin:20290403T180000
DTEND;TZID=Europe/Berlin:20290403T193000
DTSTAMP:20260421T133012
CREATED:20260325T123719Z
LAST-MODIFIED:20260325T123720Z
UID:10001419-1869933600-1869939000@per-cani.de
SUMMARY:Lernrunde; Archäologischen Lehrpfad
DESCRIPTION:Google-Maps:  Kreuzkrug\, 33189 Schlangen\nHinweis: Parken am Kreuzkrug. Wir gehen dann über den Aschenweg zum Archäologischen Lehrpfad \nDie Lernrunde dauert etwa eine Stunde und bietet eine bunte Mischung aus verschiedenen Übungen – abgestimmt auf das\, was die Topologie des Geländes gerade ermöglicht. \nJeder darf mitmachen\, niemand muss – der Spaß und das gemeinsame Lernen stehen im Vordergrund. \nGeplant sind kleine Übungen. \nNatürlich ist auch Raum für Fragen – wir nehmen uns gerne Zeit dafür!
URL:https://per-cani.de/event/lernrunde-3-2/2029-04-03/
LOCATION:Am Kreuzkrug\, Kreuzkrug 1\, Schlangen\, 33189\, Germany
ORGANIZER;CN="per-cani e.V.":MAILTO:info@per-cani.de
END:VEVENT
BEGIN:VEVENT
DTSTART;TZID=Europe/Berlin:20290612T180000
DTEND;TZID=Europe/Berlin:20290612T193000
DTSTAMP:20260421T133012
CREATED:20260325T123719Z
LAST-MODIFIED:20260325T123720Z
UID:10001420-1875981600-1875987000@per-cani.de
SUMMARY:Lernrunde; Archäologischen Lehrpfad
DESCRIPTION:Google-Maps:  Kreuzkrug\, 33189 Schlangen\nHinweis: Parken am Kreuzkrug. Wir gehen dann über den Aschenweg zum Archäologischen Lehrpfad \nDie Lernrunde dauert etwa eine Stunde und bietet eine bunte Mischung aus verschiedenen Übungen – abgestimmt auf das\, was die Topologie des Geländes gerade ermöglicht. \nJeder darf mitmachen\, niemand muss – der Spaß und das gemeinsame Lernen stehen im Vordergrund. \nGeplant sind kleine Übungen. \nNatürlich ist auch Raum für Fragen – wir nehmen uns gerne Zeit dafür!
URL:https://per-cani.de/event/lernrunde-3-2/2029-06-12/
LOCATION:Am Kreuzkrug\, Kreuzkrug 1\, Schlangen\, 33189\, Germany
ORGANIZER;CN="per-cani e.V.":MAILTO:info@per-cani.de
END:VEVENT
BEGIN:VEVENT
DTSTART;TZID=Europe/Berlin:20290821T180000
DTEND;TZID=Europe/Berlin:20290821T193000
DTSTAMP:20260421T133012
CREATED:20260325T123719Z
LAST-MODIFIED:20260325T123720Z
UID:10001421-1882029600-1882035000@per-cani.de
SUMMARY:Lernrunde; Archäologischen Lehrpfad
DESCRIPTION:Google-Maps:  Kreuzkrug\, 33189 Schlangen\nHinweis: Parken am Kreuzkrug. Wir gehen dann über den Aschenweg zum Archäologischen Lehrpfad \nDie Lernrunde dauert etwa eine Stunde und bietet eine bunte Mischung aus verschiedenen Übungen – abgestimmt auf das\, was die Topologie des Geländes gerade ermöglicht. \nJeder darf mitmachen\, niemand muss – der Spaß und das gemeinsame Lernen stehen im Vordergrund. \nGeplant sind kleine Übungen. \nNatürlich ist auch Raum für Fragen – wir nehmen uns gerne Zeit dafür!
URL:https://per-cani.de/event/lernrunde-3-2/2029-08-21/
LOCATION:Am Kreuzkrug\, Kreuzkrug 1\, Schlangen\, 33189\, Germany
ORGANIZER;CN="per-cani e.V.":MAILTO:info@per-cani.de
END:VEVENT
BEGIN:VEVENT
DTSTART;TZID=Europe/Berlin:20291030T180000
DTEND;TZID=Europe/Berlin:20291030T193000
DTSTAMP:20260421T133012
CREATED:20260325T123719Z
LAST-MODIFIED:20260325T123720Z
UID:10001422-1888077600-1888083000@per-cani.de
SUMMARY:Lernrunde; Archäologischen Lehrpfad
DESCRIPTION:Google-Maps:  Kreuzkrug\, 33189 Schlangen\nHinweis: Parken am Kreuzkrug. Wir gehen dann über den Aschenweg zum Archäologischen Lehrpfad \nDie Lernrunde dauert etwa eine Stunde und bietet eine bunte Mischung aus verschiedenen Übungen – abgestimmt auf das\, was die Topologie des Geländes gerade ermöglicht. \nJeder darf mitmachen\, niemand muss – der Spaß und das gemeinsame Lernen stehen im Vordergrund. \nGeplant sind kleine Übungen. \nNatürlich ist auch Raum für Fragen – wir nehmen uns gerne Zeit dafür!
URL:https://per-cani.de/event/lernrunde-3-2/2029-10-30/
LOCATION:Am Kreuzkrug\, Kreuzkrug 1\, Schlangen\, 33189\, Germany
ORGANIZER;CN="per-cani e.V.":MAILTO:info@per-cani.de
END:VEVENT
BEGIN:VEVENT
DTSTART;TZID=Europe/Berlin:20300108T180000
DTEND;TZID=Europe/Berlin:20300108T193000
DTSTAMP:20260421T133012
CREATED:20260325T123719Z
LAST-MODIFIED:20260325T123720Z
UID:10001423-1894125600-1894131000@per-cani.de
SUMMARY:Lernrunde; Archäologischen Lehrpfad
DESCRIPTION:Google-Maps:  Kreuzkrug\, 33189 Schlangen\nHinweis: Parken am Kreuzkrug. Wir gehen dann über den Aschenweg zum Archäologischen Lehrpfad \nDie Lernrunde dauert etwa eine Stunde und bietet eine bunte Mischung aus verschiedenen Übungen – abgestimmt auf das\, was die Topologie des Geländes gerade ermöglicht. \nJeder darf mitmachen\, niemand muss – der Spaß und das gemeinsame Lernen stehen im Vordergrund. \nGeplant sind kleine Übungen. \nNatürlich ist auch Raum für Fragen – wir nehmen uns gerne Zeit dafür!
URL:https://per-cani.de/event/lernrunde-3-2/2030-01-08/
LOCATION:Am Kreuzkrug\, Kreuzkrug 1\, Schlangen\, 33189\, Germany
ORGANIZER;CN="per-cani e.V.":MAILTO:info@per-cani.de
END:VEVENT
BEGIN:VEVENT
DTSTART;TZID=Europe/Berlin:20300319T180000
DTEND;TZID=Europe/Berlin:20300319T193000
DTSTAMP:20260421T133012
CREATED:20260325T123719Z
LAST-MODIFIED:20260325T123720Z
UID:10001424-1900173600-1900179000@per-cani.de
SUMMARY:Lernrunde; Archäologischen Lehrpfad
DESCRIPTION:Google-Maps:  Kreuzkrug\, 33189 Schlangen\nHinweis: Parken am Kreuzkrug. Wir gehen dann über den Aschenweg zum Archäologischen Lehrpfad \nDie Lernrunde dauert etwa eine Stunde und bietet eine bunte Mischung aus verschiedenen Übungen – abgestimmt auf das\, was die Topologie des Geländes gerade ermöglicht. \nJeder darf mitmachen\, niemand muss – der Spaß und das gemeinsame Lernen stehen im Vordergrund. \nGeplant sind kleine Übungen. \nNatürlich ist auch Raum für Fragen – wir nehmen uns gerne Zeit dafür!
URL:https://per-cani.de/event/lernrunde-3-2/2030-03-19/
LOCATION:Am Kreuzkrug\, Kreuzkrug 1\, Schlangen\, 33189\, Germany
ORGANIZER;CN="per-cani e.V.":MAILTO:info@per-cani.de
END:VEVENT
BEGIN:VEVENT
DTSTART;TZID=Europe/Berlin:20300528T180000
DTEND;TZID=Europe/Berlin:20300528T193000
DTSTAMP:20260421T133012
CREATED:20260325T123719Z
LAST-MODIFIED:20260325T123720Z
UID:10001425-1906221600-1906227000@per-cani.de
SUMMARY:Lernrunde; Archäologischen Lehrpfad
DESCRIPTION:Google-Maps:  Kreuzkrug\, 33189 Schlangen\nHinweis: Parken am Kreuzkrug. Wir gehen dann über den Aschenweg zum Archäologischen Lehrpfad \nDie Lernrunde dauert etwa eine Stunde und bietet eine bunte Mischung aus verschiedenen Übungen – abgestimmt auf das\, was die Topologie des Geländes gerade ermöglicht. \nJeder darf mitmachen\, niemand muss – der Spaß und das gemeinsame Lernen stehen im Vordergrund. \nGeplant sind kleine Übungen. \nNatürlich ist auch Raum für Fragen – wir nehmen uns gerne Zeit dafür!
URL:https://per-cani.de/event/lernrunde-3-2/2030-05-28/
LOCATION:Am Kreuzkrug\, Kreuzkrug 1\, Schlangen\, 33189\, Germany
ORGANIZER;CN="per-cani e.V.":MAILTO:info@per-cani.de
END:VEVENT
BEGIN:VEVENT
DTSTART;TZID=Europe/Berlin:20300806T180000
DTEND;TZID=Europe/Berlin:20300806T193000
DTSTAMP:20260421T133012
CREATED:20260325T123719Z
LAST-MODIFIED:20260325T123720Z
UID:10001426-1912269600-1912275000@per-cani.de
SUMMARY:Lernrunde; Archäologischen Lehrpfad
DESCRIPTION:Google-Maps:  Kreuzkrug\, 33189 Schlangen\nHinweis: Parken am Kreuzkrug. Wir gehen dann über den Aschenweg zum Archäologischen Lehrpfad \nDie Lernrunde dauert etwa eine Stunde und bietet eine bunte Mischung aus verschiedenen Übungen – abgestimmt auf das\, was die Topologie des Geländes gerade ermöglicht. \nJeder darf mitmachen\, niemand muss – der Spaß und das gemeinsame Lernen stehen im Vordergrund. \nGeplant sind kleine Übungen. \nNatürlich ist auch Raum für Fragen – wir nehmen uns gerne Zeit dafür!
URL:https://per-cani.de/event/lernrunde-3-2/2030-08-06/
LOCATION:Am Kreuzkrug\, Kreuzkrug 1\, Schlangen\, 33189\, Germany
ORGANIZER;CN="per-cani e.V.":MAILTO:info@per-cani.de
END:VEVENT
BEGIN:VEVENT
DTSTART;TZID=Europe/Berlin:20301015T180000
DTEND;TZID=Europe/Berlin:20301015T193000
DTSTAMP:20260421T133012
CREATED:20260325T123719Z
LAST-MODIFIED:20260325T123720Z
UID:10001427-1918317600-1918323000@per-cani.de
SUMMARY:Lernrunde; Archäologischen Lehrpfad
DESCRIPTION:Google-Maps:  Kreuzkrug\, 33189 Schlangen\nHinweis: Parken am Kreuzkrug. Wir gehen dann über den Aschenweg zum Archäologischen Lehrpfad \nDie Lernrunde dauert etwa eine Stunde und bietet eine bunte Mischung aus verschiedenen Übungen – abgestimmt auf das\, was die Topologie des Geländes gerade ermöglicht. \nJeder darf mitmachen\, niemand muss – der Spaß und das gemeinsame Lernen stehen im Vordergrund. \nGeplant sind kleine Übungen. \nNatürlich ist auch Raum für Fragen – wir nehmen uns gerne Zeit dafür!
URL:https://per-cani.de/event/lernrunde-3-2/2030-10-15/
LOCATION:Am Kreuzkrug\, Kreuzkrug 1\, Schlangen\, 33189\, Germany
ORGANIZER;CN="per-cani e.V.":MAILTO:info@per-cani.de
END:VEVENT
BEGIN:VEVENT
DTSTART;TZID=Europe/Berlin:20301224T180000
DTEND;TZID=Europe/Berlin:20301224T193000
DTSTAMP:20260421T133012
CREATED:20260325T123719Z
LAST-MODIFIED:20260325T123720Z
UID:10001428-1924365600-1924371000@per-cani.de
SUMMARY:Lernrunde; Archäologischen Lehrpfad
DESCRIPTION:Google-Maps:  Kreuzkrug\, 33189 Schlangen\nHinweis: Parken am Kreuzkrug. Wir gehen dann über den Aschenweg zum Archäologischen Lehrpfad \nDie Lernrunde dauert etwa eine Stunde und bietet eine bunte Mischung aus verschiedenen Übungen – abgestimmt auf das\, was die Topologie des Geländes gerade ermöglicht. \nJeder darf mitmachen\, niemand muss – der Spaß und das gemeinsame Lernen stehen im Vordergrund. \nGeplant sind kleine Übungen. \nNatürlich ist auch Raum für Fragen – wir nehmen uns gerne Zeit dafür!
URL:https://per-cani.de/event/lernrunde-3-2/2030-12-24/
LOCATION:Am Kreuzkrug\, Kreuzkrug 1\, Schlangen\, 33189\, Germany
ORGANIZER;CN="per-cani e.V.":MAILTO:info@per-cani.de
END:VEVENT
BEGIN:VEVENT
DTSTART;TZID=Europe/Berlin:20310304T180000
DTEND;TZID=Europe/Berlin:20310304T193000
DTSTAMP:20260421T133012
CREATED:20260325T123719Z
LAST-MODIFIED:20260325T123720Z
UID:10001429-1930413600-1930419000@per-cani.de
SUMMARY:Lernrunde; Archäologischen Lehrpfad
DESCRIPTION:Google-Maps:  Kreuzkrug\, 33189 Schlangen\nHinweis: Parken am Kreuzkrug. Wir gehen dann über den Aschenweg zum Archäologischen Lehrpfad \nDie Lernrunde dauert etwa eine Stunde und bietet eine bunte Mischung aus verschiedenen Übungen – abgestimmt auf das\, was die Topologie des Geländes gerade ermöglicht. \nJeder darf mitmachen\, niemand muss – der Spaß und das gemeinsame Lernen stehen im Vordergrund. \nGeplant sind kleine Übungen. \nNatürlich ist auch Raum für Fragen – wir nehmen uns gerne Zeit dafür!
URL:https://per-cani.de/event/lernrunde-3-2/2031-03-04/
LOCATION:Am Kreuzkrug\, Kreuzkrug 1\, Schlangen\, 33189\, Germany
ORGANIZER;CN="per-cani e.V.":MAILTO:info@per-cani.de
END:VEVENT
END:VCALENDAR