BEGIN:VCALENDAR
VERSION:2.0
PRODID:-//per-cani e.V. - ECPv6.15.20//NONSGML v1.0//EN
CALSCALE:GREGORIAN
METHOD:PUBLISH
X-WR-CALNAME:per-cani e.V.
X-ORIGINAL-URL:https://per-cani.de
X-WR-CALDESC:Veranstaltungen für per-cani e.V.
REFRESH-INTERVAL;VALUE=DURATION:PT1H
X-Robots-Tag:noindex
X-PUBLISHED-TTL:PT1H
BEGIN:VTIMEZONE
TZID:Europe/Berlin
BEGIN:DAYLIGHT
TZOFFSETFROM:+0100
TZOFFSETTO:+0200
TZNAME:CEST
DTSTART:20250330T010000
END:DAYLIGHT
BEGIN:STANDARD
TZOFFSETFROM:+0200
TZOFFSETTO:+0100
TZNAME:CET
DTSTART:20251026T010000
END:STANDARD
BEGIN:DAYLIGHT
TZOFFSETFROM:+0100
TZOFFSETTO:+0200
TZNAME:CEST
DTSTART:20260329T010000
END:DAYLIGHT
BEGIN:STANDARD
TZOFFSETFROM:+0200
TZOFFSETTO:+0100
TZNAME:CET
DTSTART:20261025T010000
END:STANDARD
BEGIN:DAYLIGHT
TZOFFSETFROM:+0100
TZOFFSETTO:+0200
TZNAME:CEST
DTSTART:20270328T010000
END:DAYLIGHT
BEGIN:STANDARD
TZOFFSETFROM:+0200
TZOFFSETTO:+0100
TZNAME:CET
DTSTART:20271031T010000
END:STANDARD
BEGIN:DAYLIGHT
TZOFFSETFROM:+0100
TZOFFSETTO:+0200
TZNAME:CEST
DTSTART:20280326T010000
END:DAYLIGHT
BEGIN:STANDARD
TZOFFSETFROM:+0200
TZOFFSETTO:+0100
TZNAME:CET
DTSTART:20281029T010000
END:STANDARD
BEGIN:DAYLIGHT
TZOFFSETFROM:+0100
TZOFFSETTO:+0200
TZNAME:CEST
DTSTART:20290325T010000
END:DAYLIGHT
BEGIN:STANDARD
TZOFFSETFROM:+0200
TZOFFSETTO:+0100
TZNAME:CET
DTSTART:20291028T010000
END:STANDARD
BEGIN:DAYLIGHT
TZOFFSETFROM:+0100
TZOFFSETTO:+0200
TZNAME:CEST
DTSTART:20300331T010000
END:DAYLIGHT
BEGIN:STANDARD
TZOFFSETFROM:+0200
TZOFFSETTO:+0100
TZNAME:CET
DTSTART:20301027T010000
END:STANDARD
BEGIN:DAYLIGHT
TZOFFSETFROM:+0100
TZOFFSETTO:+0200
TZNAME:CEST
DTSTART:20310330T010000
END:DAYLIGHT
BEGIN:STANDARD
TZOFFSETFROM:+0200
TZOFFSETTO:+0100
TZNAME:CET
DTSTART:20311026T010000
END:STANDARD
BEGIN:DAYLIGHT
TZOFFSETFROM:+0100
TZOFFSETTO:+0200
TZNAME:CEST
DTSTART:20320328T010000
END:DAYLIGHT
BEGIN:STANDARD
TZOFFSETFROM:+0200
TZOFFSETTO:+0100
TZNAME:CET
DTSTART:20321031T010000
END:STANDARD
END:VTIMEZONE
BEGIN:VEVENT
DTSTART;TZID=Europe/Berlin:20260526T180000
DTEND;TZID=Europe/Berlin:20260526T193000
DTSTAMP:20260419T204318
CREATED:20250409T102140Z
LAST-MODIFIED:20260325T123852Z
UID:10000615-1779818400-1779823800@per-cani.de
SUMMARY:Lernrunde; Windrad am Schlänger Bruch
DESCRIPTION:Google-Maps: Windrad am Schlänger Bruch\, 33175 Bad Lippspringe\nHinweis: In Google Maps die Adresse eingeben und bis zum ersten Windrad weiter fahren. Dort ist ein Parkplatz. \nDie Lernrunde dauert etwa eine Stunde und bietet eine bunte Mischung aus verschiedenen Übungen – abgestimmt auf das\, was die Topologie des Geländes gerade ermöglicht. \nJeder darf mitmachen\, niemand muss – der Spaß und das gemeinsame Lernen stehen im Vordergrund. \nGeplant ist außerdem ein freiwilliger Freilauf mit Ablage  auf einer Wiese und das bisher gelernte anwenden. \nNatürlich ist auch Raum für Fragen – wir nehmen uns gerne Zeit dafür!
URL:https://per-cani.de/event/lernrunde-2/
ORGANIZER;CN="per-cani e.V.":MAILTO:info@per-cani.de
END:VEVENT
BEGIN:VEVENT
DTSTART;TZID=Europe/Berlin:20260804T150000
DTEND;TZID=Europe/Berlin:20260804T163000
DTSTAMP:20260419T204318
CREATED:20260410T203256Z
LAST-MODIFIED:20260410T203256Z
UID:10000800-1785855600-1785861000@per-cani.de
SUMMARY:Lernrunde; Windmühle am Schlänger Bruch
DESCRIPTION:Google-Maps: Windmühle am Schlänger Bruch\, 33175 Bad Lippspringe\nHinweis: In Google Maps die Adresse eingeben und bis zur Windmühle weiter fahren. Dort ist ein Parkplatz. \nDie Lernrunde dauert etwa eine Stunde und bietet eine bunte Mischung aus verschiedenen Übungen – abgestimmt auf das\, was die Topologie des Geländes gerade ermöglicht. \nJeder darf mitmachen\, niemand muss – der Spaß und das gemeinsame Lernen stehen im Vordergrund. \nGeplant ist außerdem ein freiwilliger Freilauf mit Ablage  auf einer Wiese und das bisher gelernte anwenden. \nNatürlich ist auch Raum für Fragen – wir nehmen uns gerne Zeit dafür!
URL:https://per-cani.de/event/lernrunde-2-2-2/2026-08-04/
CATEGORIES:geführter Spaziergang
ORGANIZER;CN="per-cani e.V.":MAILTO:info@per-cani.de
END:VEVENT
BEGIN:VEVENT
DTSTART;TZID=Europe/Berlin:20261013T150000
DTEND;TZID=Europe/Berlin:20261013T163000
DTSTAMP:20260419T204318
CREATED:20260410T203256Z
LAST-MODIFIED:20260410T203256Z
UID:10003007-1791903600-1791909000@per-cani.de
SUMMARY:Lernrunde; Windmühle am Schlänger Bruch
DESCRIPTION:Google-Maps: Windmühle am Schlänger Bruch\, 33175 Bad Lippspringe\nHinweis: In Google Maps die Adresse eingeben und bis zur Windmühle weiter fahren. Dort ist ein Parkplatz. \nDie Lernrunde dauert etwa eine Stunde und bietet eine bunte Mischung aus verschiedenen Übungen – abgestimmt auf das\, was die Topologie des Geländes gerade ermöglicht. \nJeder darf mitmachen\, niemand muss – der Spaß und das gemeinsame Lernen stehen im Vordergrund. \nGeplant ist außerdem ein freiwilliger Freilauf mit Ablage  auf einer Wiese und das bisher gelernte anwenden. \nNatürlich ist auch Raum für Fragen – wir nehmen uns gerne Zeit dafür!
URL:https://per-cani.de/event/lernrunde-2-2-2/2026-10-13/
CATEGORIES:geführter Spaziergang
ORGANIZER;CN="per-cani e.V.":MAILTO:info@per-cani.de
END:VEVENT
BEGIN:VEVENT
DTSTART;TZID=Europe/Berlin:20261222T150000
DTEND;TZID=Europe/Berlin:20261222T163000
DTSTAMP:20260419T204318
CREATED:20260410T203256Z
LAST-MODIFIED:20260410T203256Z
UID:10003008-1797951600-1797957000@per-cani.de
SUMMARY:Lernrunde; Windmühle am Schlänger Bruch
DESCRIPTION:Google-Maps: Windmühle am Schlänger Bruch\, 33175 Bad Lippspringe\nHinweis: In Google Maps die Adresse eingeben und bis zur Windmühle weiter fahren. Dort ist ein Parkplatz. \nDie Lernrunde dauert etwa eine Stunde und bietet eine bunte Mischung aus verschiedenen Übungen – abgestimmt auf das\, was die Topologie des Geländes gerade ermöglicht. \nJeder darf mitmachen\, niemand muss – der Spaß und das gemeinsame Lernen stehen im Vordergrund. \nGeplant ist außerdem ein freiwilliger Freilauf mit Ablage  auf einer Wiese und das bisher gelernte anwenden. \nNatürlich ist auch Raum für Fragen – wir nehmen uns gerne Zeit dafür!
URL:https://per-cani.de/event/lernrunde-2-2-2/2026-12-22/
CATEGORIES:geführter Spaziergang
ORGANIZER;CN="per-cani e.V.":MAILTO:info@per-cani.de
END:VEVENT
BEGIN:VEVENT
DTSTART;TZID=Europe/Berlin:20270302T150000
DTEND;TZID=Europe/Berlin:20270302T163000
DTSTAMP:20260419T204318
CREATED:20260410T203256Z
LAST-MODIFIED:20260410T203256Z
UID:10003009-1803999600-1804005000@per-cani.de
SUMMARY:Lernrunde; Windmühle am Schlänger Bruch
DESCRIPTION:Google-Maps: Windmühle am Schlänger Bruch\, 33175 Bad Lippspringe\nHinweis: In Google Maps die Adresse eingeben und bis zur Windmühle weiter fahren. Dort ist ein Parkplatz. \nDie Lernrunde dauert etwa eine Stunde und bietet eine bunte Mischung aus verschiedenen Übungen – abgestimmt auf das\, was die Topologie des Geländes gerade ermöglicht. \nJeder darf mitmachen\, niemand muss – der Spaß und das gemeinsame Lernen stehen im Vordergrund. \nGeplant ist außerdem ein freiwilliger Freilauf mit Ablage  auf einer Wiese und das bisher gelernte anwenden. \nNatürlich ist auch Raum für Fragen – wir nehmen uns gerne Zeit dafür!
URL:https://per-cani.de/event/lernrunde-2-2-2/2027-03-02/
CATEGORIES:geführter Spaziergang
ORGANIZER;CN="per-cani e.V.":MAILTO:info@per-cani.de
END:VEVENT
BEGIN:VEVENT
DTSTART;TZID=Europe/Berlin:20270511T150000
DTEND;TZID=Europe/Berlin:20270511T163000
DTSTAMP:20260419T204318
CREATED:20260410T203256Z
LAST-MODIFIED:20260410T203256Z
UID:10003010-1810047600-1810053000@per-cani.de
SUMMARY:Lernrunde; Windmühle am Schlänger Bruch
DESCRIPTION:Google-Maps: Windmühle am Schlänger Bruch\, 33175 Bad Lippspringe\nHinweis: In Google Maps die Adresse eingeben und bis zur Windmühle weiter fahren. Dort ist ein Parkplatz. \nDie Lernrunde dauert etwa eine Stunde und bietet eine bunte Mischung aus verschiedenen Übungen – abgestimmt auf das\, was die Topologie des Geländes gerade ermöglicht. \nJeder darf mitmachen\, niemand muss – der Spaß und das gemeinsame Lernen stehen im Vordergrund. \nGeplant ist außerdem ein freiwilliger Freilauf mit Ablage  auf einer Wiese und das bisher gelernte anwenden. \nNatürlich ist auch Raum für Fragen – wir nehmen uns gerne Zeit dafür!
URL:https://per-cani.de/event/lernrunde-2-2-2/2027-05-11/
CATEGORIES:geführter Spaziergang
ORGANIZER;CN="per-cani e.V.":MAILTO:info@per-cani.de
END:VEVENT
BEGIN:VEVENT
DTSTART;TZID=Europe/Berlin:20270720T150000
DTEND;TZID=Europe/Berlin:20270720T163000
DTSTAMP:20260419T204318
CREATED:20260410T203256Z
LAST-MODIFIED:20260410T203256Z
UID:10003011-1816095600-1816101000@per-cani.de
SUMMARY:Lernrunde; Windmühle am Schlänger Bruch
DESCRIPTION:Google-Maps: Windmühle am Schlänger Bruch\, 33175 Bad Lippspringe\nHinweis: In Google Maps die Adresse eingeben und bis zur Windmühle weiter fahren. Dort ist ein Parkplatz. \nDie Lernrunde dauert etwa eine Stunde und bietet eine bunte Mischung aus verschiedenen Übungen – abgestimmt auf das\, was die Topologie des Geländes gerade ermöglicht. \nJeder darf mitmachen\, niemand muss – der Spaß und das gemeinsame Lernen stehen im Vordergrund. \nGeplant ist außerdem ein freiwilliger Freilauf mit Ablage  auf einer Wiese und das bisher gelernte anwenden. \nNatürlich ist auch Raum für Fragen – wir nehmen uns gerne Zeit dafür!
URL:https://per-cani.de/event/lernrunde-2-2-2/2027-07-20/
CATEGORIES:geführter Spaziergang
ORGANIZER;CN="per-cani e.V.":MAILTO:info@per-cani.de
END:VEVENT
BEGIN:VEVENT
DTSTART;TZID=Europe/Berlin:20270928T150000
DTEND;TZID=Europe/Berlin:20270928T163000
DTSTAMP:20260419T204318
CREATED:20260410T203256Z
LAST-MODIFIED:20260410T203256Z
UID:10003012-1822143600-1822149000@per-cani.de
SUMMARY:Lernrunde; Windmühle am Schlänger Bruch
DESCRIPTION:Google-Maps: Windmühle am Schlänger Bruch\, 33175 Bad Lippspringe\nHinweis: In Google Maps die Adresse eingeben und bis zur Windmühle weiter fahren. Dort ist ein Parkplatz. \nDie Lernrunde dauert etwa eine Stunde und bietet eine bunte Mischung aus verschiedenen Übungen – abgestimmt auf das\, was die Topologie des Geländes gerade ermöglicht. \nJeder darf mitmachen\, niemand muss – der Spaß und das gemeinsame Lernen stehen im Vordergrund. \nGeplant ist außerdem ein freiwilliger Freilauf mit Ablage  auf einer Wiese und das bisher gelernte anwenden. \nNatürlich ist auch Raum für Fragen – wir nehmen uns gerne Zeit dafür!
URL:https://per-cani.de/event/lernrunde-2-2-2/2027-09-28/
CATEGORIES:geführter Spaziergang
ORGANIZER;CN="per-cani e.V.":MAILTO:info@per-cani.de
END:VEVENT
BEGIN:VEVENT
DTSTART;TZID=Europe/Berlin:20271207T150000
DTEND;TZID=Europe/Berlin:20271207T163000
DTSTAMP:20260419T204318
CREATED:20260410T203256Z
LAST-MODIFIED:20260410T203256Z
UID:10003013-1828191600-1828197000@per-cani.de
SUMMARY:Lernrunde; Windmühle am Schlänger Bruch
DESCRIPTION:Google-Maps: Windmühle am Schlänger Bruch\, 33175 Bad Lippspringe\nHinweis: In Google Maps die Adresse eingeben und bis zur Windmühle weiter fahren. Dort ist ein Parkplatz. \nDie Lernrunde dauert etwa eine Stunde und bietet eine bunte Mischung aus verschiedenen Übungen – abgestimmt auf das\, was die Topologie des Geländes gerade ermöglicht. \nJeder darf mitmachen\, niemand muss – der Spaß und das gemeinsame Lernen stehen im Vordergrund. \nGeplant ist außerdem ein freiwilliger Freilauf mit Ablage  auf einer Wiese und das bisher gelernte anwenden. \nNatürlich ist auch Raum für Fragen – wir nehmen uns gerne Zeit dafür!
URL:https://per-cani.de/event/lernrunde-2-2-2/2027-12-07/
CATEGORIES:geführter Spaziergang
ORGANIZER;CN="per-cani e.V.":MAILTO:info@per-cani.de
END:VEVENT
BEGIN:VEVENT
DTSTART;TZID=Europe/Berlin:20280215T150000
DTEND;TZID=Europe/Berlin:20280215T163000
DTSTAMP:20260419T204318
CREATED:20260410T203256Z
LAST-MODIFIED:20260410T203256Z
UID:10003014-1834239600-1834245000@per-cani.de
SUMMARY:Lernrunde; Windmühle am Schlänger Bruch
DESCRIPTION:Google-Maps: Windmühle am Schlänger Bruch\, 33175 Bad Lippspringe\nHinweis: In Google Maps die Adresse eingeben und bis zur Windmühle weiter fahren. Dort ist ein Parkplatz. \nDie Lernrunde dauert etwa eine Stunde und bietet eine bunte Mischung aus verschiedenen Übungen – abgestimmt auf das\, was die Topologie des Geländes gerade ermöglicht. \nJeder darf mitmachen\, niemand muss – der Spaß und das gemeinsame Lernen stehen im Vordergrund. \nGeplant ist außerdem ein freiwilliger Freilauf mit Ablage  auf einer Wiese und das bisher gelernte anwenden. \nNatürlich ist auch Raum für Fragen – wir nehmen uns gerne Zeit dafür!
URL:https://per-cani.de/event/lernrunde-2-2-2/2028-02-15/
CATEGORIES:geführter Spaziergang
ORGANIZER;CN="per-cani e.V.":MAILTO:info@per-cani.de
END:VEVENT
BEGIN:VEVENT
DTSTART;TZID=Europe/Berlin:20280425T150000
DTEND;TZID=Europe/Berlin:20280425T163000
DTSTAMP:20260419T204318
CREATED:20260410T203256Z
LAST-MODIFIED:20260410T203256Z
UID:10003015-1840287600-1840293000@per-cani.de
SUMMARY:Lernrunde; Windmühle am Schlänger Bruch
DESCRIPTION:Google-Maps: Windmühle am Schlänger Bruch\, 33175 Bad Lippspringe\nHinweis: In Google Maps die Adresse eingeben und bis zur Windmühle weiter fahren. Dort ist ein Parkplatz. \nDie Lernrunde dauert etwa eine Stunde und bietet eine bunte Mischung aus verschiedenen Übungen – abgestimmt auf das\, was die Topologie des Geländes gerade ermöglicht. \nJeder darf mitmachen\, niemand muss – der Spaß und das gemeinsame Lernen stehen im Vordergrund. \nGeplant ist außerdem ein freiwilliger Freilauf mit Ablage  auf einer Wiese und das bisher gelernte anwenden. \nNatürlich ist auch Raum für Fragen – wir nehmen uns gerne Zeit dafür!
URL:https://per-cani.de/event/lernrunde-2-2-2/2028-04-25/
CATEGORIES:geführter Spaziergang
ORGANIZER;CN="per-cani e.V.":MAILTO:info@per-cani.de
END:VEVENT
BEGIN:VEVENT
DTSTART;TZID=Europe/Berlin:20280704T150000
DTEND;TZID=Europe/Berlin:20280704T163000
DTSTAMP:20260419T204318
CREATED:20260410T203256Z
LAST-MODIFIED:20260410T203256Z
UID:10003016-1846335600-1846341000@per-cani.de
SUMMARY:Lernrunde; Windmühle am Schlänger Bruch
DESCRIPTION:Google-Maps: Windmühle am Schlänger Bruch\, 33175 Bad Lippspringe\nHinweis: In Google Maps die Adresse eingeben und bis zur Windmühle weiter fahren. Dort ist ein Parkplatz. \nDie Lernrunde dauert etwa eine Stunde und bietet eine bunte Mischung aus verschiedenen Übungen – abgestimmt auf das\, was die Topologie des Geländes gerade ermöglicht. \nJeder darf mitmachen\, niemand muss – der Spaß und das gemeinsame Lernen stehen im Vordergrund. \nGeplant ist außerdem ein freiwilliger Freilauf mit Ablage  auf einer Wiese und das bisher gelernte anwenden. \nNatürlich ist auch Raum für Fragen – wir nehmen uns gerne Zeit dafür!
URL:https://per-cani.de/event/lernrunde-2-2-2/2028-07-04/
CATEGORIES:geführter Spaziergang
ORGANIZER;CN="per-cani e.V.":MAILTO:info@per-cani.de
END:VEVENT
BEGIN:VEVENT
DTSTART;TZID=Europe/Berlin:20280912T150000
DTEND;TZID=Europe/Berlin:20280912T163000
DTSTAMP:20260419T204318
CREATED:20260410T203256Z
LAST-MODIFIED:20260410T203256Z
UID:10003017-1852383600-1852389000@per-cani.de
SUMMARY:Lernrunde; Windmühle am Schlänger Bruch
DESCRIPTION:Google-Maps: Windmühle am Schlänger Bruch\, 33175 Bad Lippspringe\nHinweis: In Google Maps die Adresse eingeben und bis zur Windmühle weiter fahren. Dort ist ein Parkplatz. \nDie Lernrunde dauert etwa eine Stunde und bietet eine bunte Mischung aus verschiedenen Übungen – abgestimmt auf das\, was die Topologie des Geländes gerade ermöglicht. \nJeder darf mitmachen\, niemand muss – der Spaß und das gemeinsame Lernen stehen im Vordergrund. \nGeplant ist außerdem ein freiwilliger Freilauf mit Ablage  auf einer Wiese und das bisher gelernte anwenden. \nNatürlich ist auch Raum für Fragen – wir nehmen uns gerne Zeit dafür!
URL:https://per-cani.de/event/lernrunde-2-2-2/2028-09-12/
CATEGORIES:geführter Spaziergang
ORGANIZER;CN="per-cani e.V.":MAILTO:info@per-cani.de
END:VEVENT
BEGIN:VEVENT
DTSTART;TZID=Europe/Berlin:20281121T150000
DTEND;TZID=Europe/Berlin:20281121T163000
DTSTAMP:20260419T204318
CREATED:20260410T203256Z
LAST-MODIFIED:20260410T203256Z
UID:10003018-1858431600-1858437000@per-cani.de
SUMMARY:Lernrunde; Windmühle am Schlänger Bruch
DESCRIPTION:Google-Maps: Windmühle am Schlänger Bruch\, 33175 Bad Lippspringe\nHinweis: In Google Maps die Adresse eingeben und bis zur Windmühle weiter fahren. Dort ist ein Parkplatz. \nDie Lernrunde dauert etwa eine Stunde und bietet eine bunte Mischung aus verschiedenen Übungen – abgestimmt auf das\, was die Topologie des Geländes gerade ermöglicht. \nJeder darf mitmachen\, niemand muss – der Spaß und das gemeinsame Lernen stehen im Vordergrund. \nGeplant ist außerdem ein freiwilliger Freilauf mit Ablage  auf einer Wiese und das bisher gelernte anwenden. \nNatürlich ist auch Raum für Fragen – wir nehmen uns gerne Zeit dafür!
URL:https://per-cani.de/event/lernrunde-2-2-2/2028-11-21/
CATEGORIES:geführter Spaziergang
ORGANIZER;CN="per-cani e.V.":MAILTO:info@per-cani.de
END:VEVENT
BEGIN:VEVENT
DTSTART;TZID=Europe/Berlin:20290130T150000
DTEND;TZID=Europe/Berlin:20290130T163000
DTSTAMP:20260419T204318
CREATED:20260410T203256Z
LAST-MODIFIED:20260410T203256Z
UID:10003019-1864479600-1864485000@per-cani.de
SUMMARY:Lernrunde; Windmühle am Schlänger Bruch
DESCRIPTION:Google-Maps: Windmühle am Schlänger Bruch\, 33175 Bad Lippspringe\nHinweis: In Google Maps die Adresse eingeben und bis zur Windmühle weiter fahren. Dort ist ein Parkplatz. \nDie Lernrunde dauert etwa eine Stunde und bietet eine bunte Mischung aus verschiedenen Übungen – abgestimmt auf das\, was die Topologie des Geländes gerade ermöglicht. \nJeder darf mitmachen\, niemand muss – der Spaß und das gemeinsame Lernen stehen im Vordergrund. \nGeplant ist außerdem ein freiwilliger Freilauf mit Ablage  auf einer Wiese und das bisher gelernte anwenden. \nNatürlich ist auch Raum für Fragen – wir nehmen uns gerne Zeit dafür!
URL:https://per-cani.de/event/lernrunde-2-2-2/2029-01-30/
CATEGORIES:geführter Spaziergang
ORGANIZER;CN="per-cani e.V.":MAILTO:info@per-cani.de
END:VEVENT
BEGIN:VEVENT
DTSTART;TZID=Europe/Berlin:20290410T150000
DTEND;TZID=Europe/Berlin:20290410T163000
DTSTAMP:20260419T204318
CREATED:20260410T203256Z
LAST-MODIFIED:20260410T203256Z
UID:10003020-1870527600-1870533000@per-cani.de
SUMMARY:Lernrunde; Windmühle am Schlänger Bruch
DESCRIPTION:Google-Maps: Windmühle am Schlänger Bruch\, 33175 Bad Lippspringe\nHinweis: In Google Maps die Adresse eingeben und bis zur Windmühle weiter fahren. Dort ist ein Parkplatz. \nDie Lernrunde dauert etwa eine Stunde und bietet eine bunte Mischung aus verschiedenen Übungen – abgestimmt auf das\, was die Topologie des Geländes gerade ermöglicht. \nJeder darf mitmachen\, niemand muss – der Spaß und das gemeinsame Lernen stehen im Vordergrund. \nGeplant ist außerdem ein freiwilliger Freilauf mit Ablage  auf einer Wiese und das bisher gelernte anwenden. \nNatürlich ist auch Raum für Fragen – wir nehmen uns gerne Zeit dafür!
URL:https://per-cani.de/event/lernrunde-2-2-2/2029-04-10/
CATEGORIES:geführter Spaziergang
ORGANIZER;CN="per-cani e.V.":MAILTO:info@per-cani.de
END:VEVENT
BEGIN:VEVENT
DTSTART;TZID=Europe/Berlin:20290619T150000
DTEND;TZID=Europe/Berlin:20290619T163000
DTSTAMP:20260419T204318
CREATED:20260410T203256Z
LAST-MODIFIED:20260410T203256Z
UID:10003021-1876575600-1876581000@per-cani.de
SUMMARY:Lernrunde; Windmühle am Schlänger Bruch
DESCRIPTION:Google-Maps: Windmühle am Schlänger Bruch\, 33175 Bad Lippspringe\nHinweis: In Google Maps die Adresse eingeben und bis zur Windmühle weiter fahren. Dort ist ein Parkplatz. \nDie Lernrunde dauert etwa eine Stunde und bietet eine bunte Mischung aus verschiedenen Übungen – abgestimmt auf das\, was die Topologie des Geländes gerade ermöglicht. \nJeder darf mitmachen\, niemand muss – der Spaß und das gemeinsame Lernen stehen im Vordergrund. \nGeplant ist außerdem ein freiwilliger Freilauf mit Ablage  auf einer Wiese und das bisher gelernte anwenden. \nNatürlich ist auch Raum für Fragen – wir nehmen uns gerne Zeit dafür!
URL:https://per-cani.de/event/lernrunde-2-2-2/2029-06-19/
CATEGORIES:geführter Spaziergang
ORGANIZER;CN="per-cani e.V.":MAILTO:info@per-cani.de
END:VEVENT
BEGIN:VEVENT
DTSTART;TZID=Europe/Berlin:20290828T150000
DTEND;TZID=Europe/Berlin:20290828T163000
DTSTAMP:20260419T204318
CREATED:20260410T203256Z
LAST-MODIFIED:20260410T203256Z
UID:10003022-1882623600-1882629000@per-cani.de
SUMMARY:Lernrunde; Windmühle am Schlänger Bruch
DESCRIPTION:Google-Maps: Windmühle am Schlänger Bruch\, 33175 Bad Lippspringe\nHinweis: In Google Maps die Adresse eingeben und bis zur Windmühle weiter fahren. Dort ist ein Parkplatz. \nDie Lernrunde dauert etwa eine Stunde und bietet eine bunte Mischung aus verschiedenen Übungen – abgestimmt auf das\, was die Topologie des Geländes gerade ermöglicht. \nJeder darf mitmachen\, niemand muss – der Spaß und das gemeinsame Lernen stehen im Vordergrund. \nGeplant ist außerdem ein freiwilliger Freilauf mit Ablage  auf einer Wiese und das bisher gelernte anwenden. \nNatürlich ist auch Raum für Fragen – wir nehmen uns gerne Zeit dafür!
URL:https://per-cani.de/event/lernrunde-2-2-2/2029-08-28/
CATEGORIES:geführter Spaziergang
ORGANIZER;CN="per-cani e.V.":MAILTO:info@per-cani.de
END:VEVENT
BEGIN:VEVENT
DTSTART;TZID=Europe/Berlin:20291106T150000
DTEND;TZID=Europe/Berlin:20291106T163000
DTSTAMP:20260419T204318
CREATED:20260410T203256Z
LAST-MODIFIED:20260410T203256Z
UID:10003023-1888671600-1888677000@per-cani.de
SUMMARY:Lernrunde; Windmühle am Schlänger Bruch
DESCRIPTION:Google-Maps: Windmühle am Schlänger Bruch\, 33175 Bad Lippspringe\nHinweis: In Google Maps die Adresse eingeben und bis zur Windmühle weiter fahren. Dort ist ein Parkplatz. \nDie Lernrunde dauert etwa eine Stunde und bietet eine bunte Mischung aus verschiedenen Übungen – abgestimmt auf das\, was die Topologie des Geländes gerade ermöglicht. \nJeder darf mitmachen\, niemand muss – der Spaß und das gemeinsame Lernen stehen im Vordergrund. \nGeplant ist außerdem ein freiwilliger Freilauf mit Ablage  auf einer Wiese und das bisher gelernte anwenden. \nNatürlich ist auch Raum für Fragen – wir nehmen uns gerne Zeit dafür!
URL:https://per-cani.de/event/lernrunde-2-2-2/2029-11-06/
CATEGORIES:geführter Spaziergang
ORGANIZER;CN="per-cani e.V.":MAILTO:info@per-cani.de
END:VEVENT
BEGIN:VEVENT
DTSTART;TZID=Europe/Berlin:20300115T150000
DTEND;TZID=Europe/Berlin:20300115T163000
DTSTAMP:20260419T204318
CREATED:20260410T203256Z
LAST-MODIFIED:20260410T203256Z
UID:10003024-1894719600-1894725000@per-cani.de
SUMMARY:Lernrunde; Windmühle am Schlänger Bruch
DESCRIPTION:Google-Maps: Windmühle am Schlänger Bruch\, 33175 Bad Lippspringe\nHinweis: In Google Maps die Adresse eingeben und bis zur Windmühle weiter fahren. Dort ist ein Parkplatz. \nDie Lernrunde dauert etwa eine Stunde und bietet eine bunte Mischung aus verschiedenen Übungen – abgestimmt auf das\, was die Topologie des Geländes gerade ermöglicht. \nJeder darf mitmachen\, niemand muss – der Spaß und das gemeinsame Lernen stehen im Vordergrund. \nGeplant ist außerdem ein freiwilliger Freilauf mit Ablage  auf einer Wiese und das bisher gelernte anwenden. \nNatürlich ist auch Raum für Fragen – wir nehmen uns gerne Zeit dafür!
URL:https://per-cani.de/event/lernrunde-2-2-2/2030-01-15/
CATEGORIES:geführter Spaziergang
ORGANIZER;CN="per-cani e.V.":MAILTO:info@per-cani.de
END:VEVENT
BEGIN:VEVENT
DTSTART;TZID=Europe/Berlin:20300326T150000
DTEND;TZID=Europe/Berlin:20300326T163000
DTSTAMP:20260419T204318
CREATED:20260410T203256Z
LAST-MODIFIED:20260410T203256Z
UID:10003025-1900767600-1900773000@per-cani.de
SUMMARY:Lernrunde; Windmühle am Schlänger Bruch
DESCRIPTION:Google-Maps: Windmühle am Schlänger Bruch\, 33175 Bad Lippspringe\nHinweis: In Google Maps die Adresse eingeben und bis zur Windmühle weiter fahren. Dort ist ein Parkplatz. \nDie Lernrunde dauert etwa eine Stunde und bietet eine bunte Mischung aus verschiedenen Übungen – abgestimmt auf das\, was die Topologie des Geländes gerade ermöglicht. \nJeder darf mitmachen\, niemand muss – der Spaß und das gemeinsame Lernen stehen im Vordergrund. \nGeplant ist außerdem ein freiwilliger Freilauf mit Ablage  auf einer Wiese und das bisher gelernte anwenden. \nNatürlich ist auch Raum für Fragen – wir nehmen uns gerne Zeit dafür!
URL:https://per-cani.de/event/lernrunde-2-2-2/2030-03-26/
CATEGORIES:geführter Spaziergang
ORGANIZER;CN="per-cani e.V.":MAILTO:info@per-cani.de
END:VEVENT
BEGIN:VEVENT
DTSTART;TZID=Europe/Berlin:20300604T150000
DTEND;TZID=Europe/Berlin:20300604T163000
DTSTAMP:20260419T204318
CREATED:20260410T203256Z
LAST-MODIFIED:20260410T203256Z
UID:10003026-1906815600-1906821000@per-cani.de
SUMMARY:Lernrunde; Windmühle am Schlänger Bruch
DESCRIPTION:Google-Maps: Windmühle am Schlänger Bruch\, 33175 Bad Lippspringe\nHinweis: In Google Maps die Adresse eingeben und bis zur Windmühle weiter fahren. Dort ist ein Parkplatz. \nDie Lernrunde dauert etwa eine Stunde und bietet eine bunte Mischung aus verschiedenen Übungen – abgestimmt auf das\, was die Topologie des Geländes gerade ermöglicht. \nJeder darf mitmachen\, niemand muss – der Spaß und das gemeinsame Lernen stehen im Vordergrund. \nGeplant ist außerdem ein freiwilliger Freilauf mit Ablage  auf einer Wiese und das bisher gelernte anwenden. \nNatürlich ist auch Raum für Fragen – wir nehmen uns gerne Zeit dafür!
URL:https://per-cani.de/event/lernrunde-2-2-2/2030-06-04/
CATEGORIES:geführter Spaziergang
ORGANIZER;CN="per-cani e.V.":MAILTO:info@per-cani.de
END:VEVENT
BEGIN:VEVENT
DTSTART;TZID=Europe/Berlin:20300813T150000
DTEND;TZID=Europe/Berlin:20300813T163000
DTSTAMP:20260419T204318
CREATED:20260410T203256Z
LAST-MODIFIED:20260410T203256Z
UID:10003027-1912863600-1912869000@per-cani.de
SUMMARY:Lernrunde; Windmühle am Schlänger Bruch
DESCRIPTION:Google-Maps: Windmühle am Schlänger Bruch\, 33175 Bad Lippspringe\nHinweis: In Google Maps die Adresse eingeben und bis zur Windmühle weiter fahren. Dort ist ein Parkplatz. \nDie Lernrunde dauert etwa eine Stunde und bietet eine bunte Mischung aus verschiedenen Übungen – abgestimmt auf das\, was die Topologie des Geländes gerade ermöglicht. \nJeder darf mitmachen\, niemand muss – der Spaß und das gemeinsame Lernen stehen im Vordergrund. \nGeplant ist außerdem ein freiwilliger Freilauf mit Ablage  auf einer Wiese und das bisher gelernte anwenden. \nNatürlich ist auch Raum für Fragen – wir nehmen uns gerne Zeit dafür!
URL:https://per-cani.de/event/lernrunde-2-2-2/2030-08-13/
CATEGORIES:geführter Spaziergang
ORGANIZER;CN="per-cani e.V.":MAILTO:info@per-cani.de
END:VEVENT
BEGIN:VEVENT
DTSTART;TZID=Europe/Berlin:20301022T150000
DTEND;TZID=Europe/Berlin:20301022T163000
DTSTAMP:20260419T204318
CREATED:20260410T203256Z
LAST-MODIFIED:20260410T203256Z
UID:10003028-1918911600-1918917000@per-cani.de
SUMMARY:Lernrunde; Windmühle am Schlänger Bruch
DESCRIPTION:Google-Maps: Windmühle am Schlänger Bruch\, 33175 Bad Lippspringe\nHinweis: In Google Maps die Adresse eingeben und bis zur Windmühle weiter fahren. Dort ist ein Parkplatz. \nDie Lernrunde dauert etwa eine Stunde und bietet eine bunte Mischung aus verschiedenen Übungen – abgestimmt auf das\, was die Topologie des Geländes gerade ermöglicht. \nJeder darf mitmachen\, niemand muss – der Spaß und das gemeinsame Lernen stehen im Vordergrund. \nGeplant ist außerdem ein freiwilliger Freilauf mit Ablage  auf einer Wiese und das bisher gelernte anwenden. \nNatürlich ist auch Raum für Fragen – wir nehmen uns gerne Zeit dafür!
URL:https://per-cani.de/event/lernrunde-2-2-2/2030-10-22/
CATEGORIES:geführter Spaziergang
ORGANIZER;CN="per-cani e.V.":MAILTO:info@per-cani.de
END:VEVENT
BEGIN:VEVENT
DTSTART;TZID=Europe/Berlin:20301231T150000
DTEND;TZID=Europe/Berlin:20301231T163000
DTSTAMP:20260419T204318
CREATED:20260410T203256Z
LAST-MODIFIED:20260410T203256Z
UID:10003029-1924959600-1924965000@per-cani.de
SUMMARY:Lernrunde; Windmühle am Schlänger Bruch
DESCRIPTION:Google-Maps: Windmühle am Schlänger Bruch\, 33175 Bad Lippspringe\nHinweis: In Google Maps die Adresse eingeben und bis zur Windmühle weiter fahren. Dort ist ein Parkplatz. \nDie Lernrunde dauert etwa eine Stunde und bietet eine bunte Mischung aus verschiedenen Übungen – abgestimmt auf das\, was die Topologie des Geländes gerade ermöglicht. \nJeder darf mitmachen\, niemand muss – der Spaß und das gemeinsame Lernen stehen im Vordergrund. \nGeplant ist außerdem ein freiwilliger Freilauf mit Ablage  auf einer Wiese und das bisher gelernte anwenden. \nNatürlich ist auch Raum für Fragen – wir nehmen uns gerne Zeit dafür!
URL:https://per-cani.de/event/lernrunde-2-2-2/2030-12-31/
CATEGORIES:geführter Spaziergang
ORGANIZER;CN="per-cani e.V.":MAILTO:info@per-cani.de
END:VEVENT
BEGIN:VEVENT
DTSTART;TZID=Europe/Berlin:20310311T150000
DTEND;TZID=Europe/Berlin:20310311T163000
DTSTAMP:20260419T204318
CREATED:20260410T203256Z
LAST-MODIFIED:20260410T203256Z
UID:10003030-1931007600-1931013000@per-cani.de
SUMMARY:Lernrunde; Windmühle am Schlänger Bruch
DESCRIPTION:Google-Maps: Windmühle am Schlänger Bruch\, 33175 Bad Lippspringe\nHinweis: In Google Maps die Adresse eingeben und bis zur Windmühle weiter fahren. Dort ist ein Parkplatz. \nDie Lernrunde dauert etwa eine Stunde und bietet eine bunte Mischung aus verschiedenen Übungen – abgestimmt auf das\, was die Topologie des Geländes gerade ermöglicht. \nJeder darf mitmachen\, niemand muss – der Spaß und das gemeinsame Lernen stehen im Vordergrund. \nGeplant ist außerdem ein freiwilliger Freilauf mit Ablage  auf einer Wiese und das bisher gelernte anwenden. \nNatürlich ist auch Raum für Fragen – wir nehmen uns gerne Zeit dafür!
URL:https://per-cani.de/event/lernrunde-2-2-2/2031-03-11/
CATEGORIES:geführter Spaziergang
ORGANIZER;CN="per-cani e.V.":MAILTO:info@per-cani.de
END:VEVENT
END:VCALENDAR