BEGIN:VCALENDAR
VERSION:2.0
PRODID:-//per-cani e.V. - ECPv6.15.20//NONSGML v1.0//EN
CALSCALE:GREGORIAN
METHOD:PUBLISH
X-WR-CALNAME:per-cani e.V.
X-ORIGINAL-URL:https://per-cani.de
X-WR-CALDESC:Veranstaltungen für per-cani e.V.
REFRESH-INTERVAL;VALUE=DURATION:PT1H
X-Robots-Tag:noindex
X-PUBLISHED-TTL:PT1H
BEGIN:VTIMEZONE
TZID:Europe/Berlin
BEGIN:DAYLIGHT
TZOFFSETFROM:+0100
TZOFFSETTO:+0200
TZNAME:CEST
DTSTART:20250330T010000
END:DAYLIGHT
BEGIN:STANDARD
TZOFFSETFROM:+0200
TZOFFSETTO:+0100
TZNAME:CET
DTSTART:20251026T010000
END:STANDARD
BEGIN:DAYLIGHT
TZOFFSETFROM:+0100
TZOFFSETTO:+0200
TZNAME:CEST
DTSTART:20260329T010000
END:DAYLIGHT
BEGIN:STANDARD
TZOFFSETFROM:+0200
TZOFFSETTO:+0100
TZNAME:CET
DTSTART:20261025T010000
END:STANDARD
BEGIN:DAYLIGHT
TZOFFSETFROM:+0100
TZOFFSETTO:+0200
TZNAME:CEST
DTSTART:20270328T010000
END:DAYLIGHT
BEGIN:STANDARD
TZOFFSETFROM:+0200
TZOFFSETTO:+0100
TZNAME:CET
DTSTART:20271031T010000
END:STANDARD
BEGIN:DAYLIGHT
TZOFFSETFROM:+0100
TZOFFSETTO:+0200
TZNAME:CEST
DTSTART:20280326T010000
END:DAYLIGHT
BEGIN:STANDARD
TZOFFSETFROM:+0200
TZOFFSETTO:+0100
TZNAME:CET
DTSTART:20281029T010000
END:STANDARD
BEGIN:DAYLIGHT
TZOFFSETFROM:+0100
TZOFFSETTO:+0200
TZNAME:CEST
DTSTART:20290325T010000
END:DAYLIGHT
BEGIN:STANDARD
TZOFFSETFROM:+0200
TZOFFSETTO:+0100
TZNAME:CET
DTSTART:20291028T010000
END:STANDARD
END:VTIMEZONE
BEGIN:VEVENT
DTSTART;TZID=Europe/Berlin:20260505T000000
DTEND;TZID=Europe/Berlin:20260505T000000
DTSTAMP:20260422T181921
CREATED:20260422T114101Z
LAST-MODIFIED:20260422T114445Z
UID:10003091-1777939200-1777939200@per-cani.de
SUMMARY:Bei der heutigen Lernrunde intensiviert Roland das Deuten von Hundekörpersprache bei Hundebegegnungen
DESCRIPTION:Roland stellt anhand von Praxisbeispielen die Hundekörpersprache vor.
URL:https://per-cani.de/event/deuten-von-hundekoerpersprache-bei-hundebegegnungen/2026-05-05/
END:VEVENT
BEGIN:VEVENT
DTSTART;TZID=Europe/Berlin:20260602T000000
DTEND;TZID=Europe/Berlin:20260602T000000
DTSTAMP:20260422T181921
CREATED:20260422T114101Z
LAST-MODIFIED:20260422T114445Z
UID:10003092-1780358400-1780358400@per-cani.de
SUMMARY:Bei der heutigen Lernrunde intensiviert Roland das Deuten von Hundekörpersprache bei Hundebegegnungen
DESCRIPTION:Roland stellt anhand von Praxisbeispielen die Hundekörpersprache vor.
URL:https://per-cani.de/event/deuten-von-hundekoerpersprache-bei-hundebegegnungen/2026-06-02/
END:VEVENT
BEGIN:VEVENT
DTSTART;TZID=Europe/Berlin:20260707T000000
DTEND;TZID=Europe/Berlin:20260707T000000
DTSTAMP:20260422T181921
CREATED:20260422T114101Z
LAST-MODIFIED:20260422T114445Z
UID:10003093-1783382400-1783382400@per-cani.de
SUMMARY:Bei der heutigen Lernrunde intensiviert Roland das Deuten von Hundekörpersprache bei Hundebegegnungen
DESCRIPTION:Roland stellt anhand von Praxisbeispielen die Hundekörpersprache vor.
URL:https://per-cani.de/event/deuten-von-hundekoerpersprache-bei-hundebegegnungen/2026-07-07/
END:VEVENT
BEGIN:VEVENT
DTSTART;TZID=Europe/Berlin:20260804T000000
DTEND;TZID=Europe/Berlin:20260804T000000
DTSTAMP:20260422T181921
CREATED:20260422T114101Z
LAST-MODIFIED:20260422T114445Z
UID:10003094-1785801600-1785801600@per-cani.de
SUMMARY:Bei der heutigen Lernrunde intensiviert Roland das Deuten von Hundekörpersprache bei Hundebegegnungen
DESCRIPTION:Roland stellt anhand von Praxisbeispielen die Hundekörpersprache vor.
URL:https://per-cani.de/event/deuten-von-hundekoerpersprache-bei-hundebegegnungen/2026-08-04/
END:VEVENT
BEGIN:VEVENT
DTSTART;TZID=Europe/Berlin:20260901T000000
DTEND;TZID=Europe/Berlin:20260901T000000
DTSTAMP:20260422T181921
CREATED:20260422T114101Z
LAST-MODIFIED:20260422T114445Z
UID:10003095-1788220800-1788220800@per-cani.de
SUMMARY:Bei der heutigen Lernrunde intensiviert Roland das Deuten von Hundekörpersprache bei Hundebegegnungen
DESCRIPTION:Roland stellt anhand von Praxisbeispielen die Hundekörpersprache vor.
URL:https://per-cani.de/event/deuten-von-hundekoerpersprache-bei-hundebegegnungen/2026-09-01/
END:VEVENT
BEGIN:VEVENT
DTSTART;TZID=Europe/Berlin:20261006T000000
DTEND;TZID=Europe/Berlin:20261006T000000
DTSTAMP:20260422T181921
CREATED:20260422T114101Z
LAST-MODIFIED:20260422T114445Z
UID:10003096-1791244800-1791244800@per-cani.de
SUMMARY:Bei der heutigen Lernrunde intensiviert Roland das Deuten von Hundekörpersprache bei Hundebegegnungen
DESCRIPTION:Roland stellt anhand von Praxisbeispielen die Hundekörpersprache vor.
URL:https://per-cani.de/event/deuten-von-hundekoerpersprache-bei-hundebegegnungen/2026-10-06/
END:VEVENT
BEGIN:VEVENT
DTSTART;TZID=Europe/Berlin:20261103T000000
DTEND;TZID=Europe/Berlin:20261103T000000
DTSTAMP:20260422T181921
CREATED:20260422T114101Z
LAST-MODIFIED:20260422T114445Z
UID:10003097-1793664000-1793664000@per-cani.de
SUMMARY:Bei der heutigen Lernrunde intensiviert Roland das Deuten von Hundekörpersprache bei Hundebegegnungen
DESCRIPTION:Roland stellt anhand von Praxisbeispielen die Hundekörpersprache vor.
URL:https://per-cani.de/event/deuten-von-hundekoerpersprache-bei-hundebegegnungen/2026-11-03/
END:VEVENT
BEGIN:VEVENT
DTSTART;TZID=Europe/Berlin:20261201T000000
DTEND;TZID=Europe/Berlin:20261201T000000
DTSTAMP:20260422T181921
CREATED:20260422T114101Z
LAST-MODIFIED:20260422T114445Z
UID:10003098-1796083200-1796083200@per-cani.de
SUMMARY:Bei der heutigen Lernrunde intensiviert Roland das Deuten von Hundekörpersprache bei Hundebegegnungen
DESCRIPTION:Roland stellt anhand von Praxisbeispielen die Hundekörpersprache vor.
URL:https://per-cani.de/event/deuten-von-hundekoerpersprache-bei-hundebegegnungen/2026-12-01/
END:VEVENT
BEGIN:VEVENT
DTSTART;TZID=Europe/Berlin:20270105T000000
DTEND;TZID=Europe/Berlin:20270105T000000
DTSTAMP:20260422T181921
CREATED:20260422T114101Z
LAST-MODIFIED:20260422T114445Z
UID:10003099-1799107200-1799107200@per-cani.de
SUMMARY:Bei der heutigen Lernrunde intensiviert Roland das Deuten von Hundekörpersprache bei Hundebegegnungen
DESCRIPTION:Roland stellt anhand von Praxisbeispielen die Hundekörpersprache vor.
URL:https://per-cani.de/event/deuten-von-hundekoerpersprache-bei-hundebegegnungen/2027-01-05/
END:VEVENT
BEGIN:VEVENT
DTSTART;TZID=Europe/Berlin:20270202T000000
DTEND;TZID=Europe/Berlin:20270202T000000
DTSTAMP:20260422T181921
CREATED:20260422T114101Z
LAST-MODIFIED:20260422T114445Z
UID:10003100-1801526400-1801526400@per-cani.de
SUMMARY:Bei der heutigen Lernrunde intensiviert Roland das Deuten von Hundekörpersprache bei Hundebegegnungen
DESCRIPTION:Roland stellt anhand von Praxisbeispielen die Hundekörpersprache vor.
URL:https://per-cani.de/event/deuten-von-hundekoerpersprache-bei-hundebegegnungen/2027-02-02/
END:VEVENT
BEGIN:VEVENT
DTSTART;TZID=Europe/Berlin:20270302T000000
DTEND;TZID=Europe/Berlin:20270302T000000
DTSTAMP:20260422T181921
CREATED:20260422T114101Z
LAST-MODIFIED:20260422T114445Z
UID:10003101-1803945600-1803945600@per-cani.de
SUMMARY:Bei der heutigen Lernrunde intensiviert Roland das Deuten von Hundekörpersprache bei Hundebegegnungen
DESCRIPTION:Roland stellt anhand von Praxisbeispielen die Hundekörpersprache vor.
URL:https://per-cani.de/event/deuten-von-hundekoerpersprache-bei-hundebegegnungen/2027-03-02/
END:VEVENT
BEGIN:VEVENT
DTSTART;TZID=Europe/Berlin:20270406T000000
DTEND;TZID=Europe/Berlin:20270406T000000
DTSTAMP:20260422T181921
CREATED:20260422T114101Z
LAST-MODIFIED:20260422T114445Z
UID:10003102-1806969600-1806969600@per-cani.de
SUMMARY:Bei der heutigen Lernrunde intensiviert Roland das Deuten von Hundekörpersprache bei Hundebegegnungen
DESCRIPTION:Roland stellt anhand von Praxisbeispielen die Hundekörpersprache vor.
URL:https://per-cani.de/event/deuten-von-hundekoerpersprache-bei-hundebegegnungen/2027-04-06/
END:VEVENT
BEGIN:VEVENT
DTSTART;TZID=Europe/Berlin:20270504T000000
DTEND;TZID=Europe/Berlin:20270504T000000
DTSTAMP:20260422T181921
CREATED:20260422T114101Z
LAST-MODIFIED:20260422T114445Z
UID:10003103-1809388800-1809388800@per-cani.de
SUMMARY:Bei der heutigen Lernrunde intensiviert Roland das Deuten von Hundekörpersprache bei Hundebegegnungen
DESCRIPTION:Roland stellt anhand von Praxisbeispielen die Hundekörpersprache vor.
URL:https://per-cani.de/event/deuten-von-hundekoerpersprache-bei-hundebegegnungen/2027-05-04/
END:VEVENT
BEGIN:VEVENT
DTSTART;TZID=Europe/Berlin:20270601T000000
DTEND;TZID=Europe/Berlin:20270601T000000
DTSTAMP:20260422T181921
CREATED:20260422T114101Z
LAST-MODIFIED:20260422T114445Z
UID:10003104-1811808000-1811808000@per-cani.de
SUMMARY:Bei der heutigen Lernrunde intensiviert Roland das Deuten von Hundekörpersprache bei Hundebegegnungen
DESCRIPTION:Roland stellt anhand von Praxisbeispielen die Hundekörpersprache vor.
URL:https://per-cani.de/event/deuten-von-hundekoerpersprache-bei-hundebegegnungen/2027-06-01/
END:VEVENT
BEGIN:VEVENT
DTSTART;TZID=Europe/Berlin:20270706T000000
DTEND;TZID=Europe/Berlin:20270706T000000
DTSTAMP:20260422T181921
CREATED:20260422T114101Z
LAST-MODIFIED:20260422T114445Z
UID:10003105-1814832000-1814832000@per-cani.de
SUMMARY:Bei der heutigen Lernrunde intensiviert Roland das Deuten von Hundekörpersprache bei Hundebegegnungen
DESCRIPTION:Roland stellt anhand von Praxisbeispielen die Hundekörpersprache vor.
URL:https://per-cani.de/event/deuten-von-hundekoerpersprache-bei-hundebegegnungen/2027-07-06/
END:VEVENT
BEGIN:VEVENT
DTSTART;TZID=Europe/Berlin:20270803T000000
DTEND;TZID=Europe/Berlin:20270803T000000
DTSTAMP:20260422T181921
CREATED:20260422T114101Z
LAST-MODIFIED:20260422T114445Z
UID:10003106-1817251200-1817251200@per-cani.de
SUMMARY:Bei der heutigen Lernrunde intensiviert Roland das Deuten von Hundekörpersprache bei Hundebegegnungen
DESCRIPTION:Roland stellt anhand von Praxisbeispielen die Hundekörpersprache vor.
URL:https://per-cani.de/event/deuten-von-hundekoerpersprache-bei-hundebegegnungen/2027-08-03/
END:VEVENT
BEGIN:VEVENT
DTSTART;TZID=Europe/Berlin:20270907T000000
DTEND;TZID=Europe/Berlin:20270907T000000
DTSTAMP:20260422T181921
CREATED:20260422T114101Z
LAST-MODIFIED:20260422T114445Z
UID:10003107-1820275200-1820275200@per-cani.de
SUMMARY:Bei der heutigen Lernrunde intensiviert Roland das Deuten von Hundekörpersprache bei Hundebegegnungen
DESCRIPTION:Roland stellt anhand von Praxisbeispielen die Hundekörpersprache vor.
URL:https://per-cani.de/event/deuten-von-hundekoerpersprache-bei-hundebegegnungen/2027-09-07/
END:VEVENT
BEGIN:VEVENT
DTSTART;TZID=Europe/Berlin:20271005T000000
DTEND;TZID=Europe/Berlin:20271005T000000
DTSTAMP:20260422T181921
CREATED:20260422T114101Z
LAST-MODIFIED:20260422T114445Z
UID:10003108-1822694400-1822694400@per-cani.de
SUMMARY:Bei der heutigen Lernrunde intensiviert Roland das Deuten von Hundekörpersprache bei Hundebegegnungen
DESCRIPTION:Roland stellt anhand von Praxisbeispielen die Hundekörpersprache vor.
URL:https://per-cani.de/event/deuten-von-hundekoerpersprache-bei-hundebegegnungen/2027-10-05/
END:VEVENT
BEGIN:VEVENT
DTSTART;TZID=Europe/Berlin:20271102T000000
DTEND;TZID=Europe/Berlin:20271102T000000
DTSTAMP:20260422T181921
CREATED:20260422T114101Z
LAST-MODIFIED:20260422T114445Z
UID:10003109-1825113600-1825113600@per-cani.de
SUMMARY:Bei der heutigen Lernrunde intensiviert Roland das Deuten von Hundekörpersprache bei Hundebegegnungen
DESCRIPTION:Roland stellt anhand von Praxisbeispielen die Hundekörpersprache vor.
URL:https://per-cani.de/event/deuten-von-hundekoerpersprache-bei-hundebegegnungen/2027-11-02/
END:VEVENT
BEGIN:VEVENT
DTSTART;TZID=Europe/Berlin:20271207T000000
DTEND;TZID=Europe/Berlin:20271207T000000
DTSTAMP:20260422T181921
CREATED:20260422T114101Z
LAST-MODIFIED:20260422T114445Z
UID:10003110-1828137600-1828137600@per-cani.de
SUMMARY:Bei der heutigen Lernrunde intensiviert Roland das Deuten von Hundekörpersprache bei Hundebegegnungen
DESCRIPTION:Roland stellt anhand von Praxisbeispielen die Hundekörpersprache vor.
URL:https://per-cani.de/event/deuten-von-hundekoerpersprache-bei-hundebegegnungen/2027-12-07/
END:VEVENT
BEGIN:VEVENT
DTSTART;TZID=Europe/Berlin:20280104T000000
DTEND;TZID=Europe/Berlin:20280104T000000
DTSTAMP:20260422T181921
CREATED:20260422T114101Z
LAST-MODIFIED:20260422T114445Z
UID:10003111-1830556800-1830556800@per-cani.de
SUMMARY:Bei der heutigen Lernrunde intensiviert Roland das Deuten von Hundekörpersprache bei Hundebegegnungen
DESCRIPTION:Roland stellt anhand von Praxisbeispielen die Hundekörpersprache vor.
URL:https://per-cani.de/event/deuten-von-hundekoerpersprache-bei-hundebegegnungen/2028-01-04/
END:VEVENT
BEGIN:VEVENT
DTSTART;TZID=Europe/Berlin:20280201T000000
DTEND;TZID=Europe/Berlin:20280201T000000
DTSTAMP:20260422T181921
CREATED:20260422T114101Z
LAST-MODIFIED:20260422T114445Z
UID:10003112-1832976000-1832976000@per-cani.de
SUMMARY:Bei der heutigen Lernrunde intensiviert Roland das Deuten von Hundekörpersprache bei Hundebegegnungen
DESCRIPTION:Roland stellt anhand von Praxisbeispielen die Hundekörpersprache vor.
URL:https://per-cani.de/event/deuten-von-hundekoerpersprache-bei-hundebegegnungen/2028-02-01/
END:VEVENT
BEGIN:VEVENT
DTSTART;TZID=Europe/Berlin:20280307T000000
DTEND;TZID=Europe/Berlin:20280307T000000
DTSTAMP:20260422T181921
CREATED:20260422T114101Z
LAST-MODIFIED:20260422T114445Z
UID:10003113-1836000000-1836000000@per-cani.de
SUMMARY:Bei der heutigen Lernrunde intensiviert Roland das Deuten von Hundekörpersprache bei Hundebegegnungen
DESCRIPTION:Roland stellt anhand von Praxisbeispielen die Hundekörpersprache vor.
URL:https://per-cani.de/event/deuten-von-hundekoerpersprache-bei-hundebegegnungen/2028-03-07/
END:VEVENT
BEGIN:VEVENT
DTSTART;TZID=Europe/Berlin:20280404T000000
DTEND;TZID=Europe/Berlin:20280404T000000
DTSTAMP:20260422T181921
CREATED:20260422T114101Z
LAST-MODIFIED:20260422T114445Z
UID:10003114-1838419200-1838419200@per-cani.de
SUMMARY:Bei der heutigen Lernrunde intensiviert Roland das Deuten von Hundekörpersprache bei Hundebegegnungen
DESCRIPTION:Roland stellt anhand von Praxisbeispielen die Hundekörpersprache vor.
URL:https://per-cani.de/event/deuten-von-hundekoerpersprache-bei-hundebegegnungen/2028-04-04/
END:VEVENT
BEGIN:VEVENT
DTSTART;TZID=Europe/Berlin:20280502T000000
DTEND;TZID=Europe/Berlin:20280502T000000
DTSTAMP:20260422T181921
CREATED:20260422T114101Z
LAST-MODIFIED:20260422T114445Z
UID:10003115-1840838400-1840838400@per-cani.de
SUMMARY:Bei der heutigen Lernrunde intensiviert Roland das Deuten von Hundekörpersprache bei Hundebegegnungen
DESCRIPTION:Roland stellt anhand von Praxisbeispielen die Hundekörpersprache vor.
URL:https://per-cani.de/event/deuten-von-hundekoerpersprache-bei-hundebegegnungen/2028-05-02/
END:VEVENT
BEGIN:VEVENT
DTSTART;TZID=Europe/Berlin:20280606T000000
DTEND;TZID=Europe/Berlin:20280606T000000
DTSTAMP:20260422T181921
CREATED:20260422T114101Z
LAST-MODIFIED:20260422T114445Z
UID:10003116-1843862400-1843862400@per-cani.de
SUMMARY:Bei der heutigen Lernrunde intensiviert Roland das Deuten von Hundekörpersprache bei Hundebegegnungen
DESCRIPTION:Roland stellt anhand von Praxisbeispielen die Hundekörpersprache vor.
URL:https://per-cani.de/event/deuten-von-hundekoerpersprache-bei-hundebegegnungen/2028-06-06/
END:VEVENT
BEGIN:VEVENT
DTSTART;TZID=Europe/Berlin:20280704T000000
DTEND;TZID=Europe/Berlin:20280704T000000
DTSTAMP:20260422T181921
CREATED:20260422T114101Z
LAST-MODIFIED:20260422T114445Z
UID:10003117-1846281600-1846281600@per-cani.de
SUMMARY:Bei der heutigen Lernrunde intensiviert Roland das Deuten von Hundekörpersprache bei Hundebegegnungen
DESCRIPTION:Roland stellt anhand von Praxisbeispielen die Hundekörpersprache vor.
URL:https://per-cani.de/event/deuten-von-hundekoerpersprache-bei-hundebegegnungen/2028-07-04/
END:VEVENT
BEGIN:VEVENT
DTSTART;TZID=Europe/Berlin:20280801T000000
DTEND;TZID=Europe/Berlin:20280801T000000
DTSTAMP:20260422T181921
CREATED:20260422T114101Z
LAST-MODIFIED:20260422T114445Z
UID:10003118-1848700800-1848700800@per-cani.de
SUMMARY:Bei der heutigen Lernrunde intensiviert Roland das Deuten von Hundekörpersprache bei Hundebegegnungen
DESCRIPTION:Roland stellt anhand von Praxisbeispielen die Hundekörpersprache vor.
URL:https://per-cani.de/event/deuten-von-hundekoerpersprache-bei-hundebegegnungen/2028-08-01/
END:VEVENT
BEGIN:VEVENT
DTSTART;TZID=Europe/Berlin:20280905T000000
DTEND;TZID=Europe/Berlin:20280905T000000
DTSTAMP:20260422T181921
CREATED:20260422T114101Z
LAST-MODIFIED:20260422T114445Z
UID:10003119-1851724800-1851724800@per-cani.de
SUMMARY:Bei der heutigen Lernrunde intensiviert Roland das Deuten von Hundekörpersprache bei Hundebegegnungen
DESCRIPTION:Roland stellt anhand von Praxisbeispielen die Hundekörpersprache vor.
URL:https://per-cani.de/event/deuten-von-hundekoerpersprache-bei-hundebegegnungen/2028-09-05/
END:VEVENT
BEGIN:VEVENT
DTSTART;TZID=Europe/Berlin:20281003T000000
DTEND;TZID=Europe/Berlin:20281003T000000
DTSTAMP:20260422T181921
CREATED:20260422T114101Z
LAST-MODIFIED:20260422T114445Z
UID:10003120-1854144000-1854144000@per-cani.de
SUMMARY:Bei der heutigen Lernrunde intensiviert Roland das Deuten von Hundekörpersprache bei Hundebegegnungen
DESCRIPTION:Roland stellt anhand von Praxisbeispielen die Hundekörpersprache vor.
URL:https://per-cani.de/event/deuten-von-hundekoerpersprache-bei-hundebegegnungen/2028-10-03/
END:VEVENT
END:VCALENDAR