BEGIN:VCALENDAR
VERSION:2.0
PRODID:-//per-cani e.V. - ECPv6.15.20//NONSGML v1.0//EN
CALSCALE:GREGORIAN
METHOD:PUBLISH
X-WR-CALNAME:per-cani e.V.
X-ORIGINAL-URL:https://per-cani.de
X-WR-CALDESC:Veranstaltungen für per-cani e.V.
REFRESH-INTERVAL;VALUE=DURATION:PT1H
X-Robots-Tag:noindex
X-PUBLISHED-TTL:PT1H
BEGIN:VTIMEZONE
TZID:Europe/Berlin
BEGIN:DAYLIGHT
TZOFFSETFROM:+0100
TZOFFSETTO:+0200
TZNAME:CEST
DTSTART:20260329T010000
END:DAYLIGHT
BEGIN:STANDARD
TZOFFSETFROM:+0200
TZOFFSETTO:+0100
TZNAME:CET
DTSTART:20261025T010000
END:STANDARD
BEGIN:DAYLIGHT
TZOFFSETFROM:+0100
TZOFFSETTO:+0200
TZNAME:CEST
DTSTART:20270328T010000
END:DAYLIGHT
BEGIN:STANDARD
TZOFFSETFROM:+0200
TZOFFSETTO:+0100
TZNAME:CET
DTSTART:20271031T010000
END:STANDARD
BEGIN:DAYLIGHT
TZOFFSETFROM:+0100
TZOFFSETTO:+0200
TZNAME:CEST
DTSTART:20280326T010000
END:DAYLIGHT
BEGIN:STANDARD
TZOFFSETFROM:+0200
TZOFFSETTO:+0100
TZNAME:CET
DTSTART:20281029T010000
END:STANDARD
END:VTIMEZONE
BEGIN:VEVENT
DTSTART;TZID=Europe/Berlin:20270901T160000
DTEND;TZID=Europe/Berlin:20270901T173000
DTSTAMP:20260421T143234
CREATED:20260325T120344Z
LAST-MODIFIED:20260325T120344Z
UID:10001089-1819814400-1819819800@per-cani.de
SUMMARY:Geführter Spaziergang mit unseren Hunden
DESCRIPTION:Hinweis: Da wir sehr schöne Ecken rund um Schlangen haben\, werden die Treffpunkte sich auch immer wieder ändern. Wer mitmachen möchte\, läßt sich in unserer wattsapp-Gruppe aufnehmen. Dort werden die Treffpunkte immer aktuell bekannt gegeben. \nDer Spaziergang dauert ca 1\,5 Stunden und ist ca 3-4 Km lang. \nJeder darf maitmachen\, niemand muss – der Spaß und die Gemeinsamkeit stehen im Vordergrund. \nNatürlich ist auch Raum für Fragen und Vorschläge – wir nehmen uns gerne Zeit dafür!
URL:https://per-cani.de/event/gefuehrter-spaziergang-mit-unseren-hunden/2027-09-01/
END:VEVENT
BEGIN:VEVENT
DTSTART;TZID=Europe/Berlin:20270902T180000
DTEND;TZID=Europe/Berlin:20270902T190000
DTSTAMP:20260421T143234
CREATED:20260410T201929Z
LAST-MODIFIED:20260410T201930Z
UID:10001936-1819908000-1819911600@per-cani.de
SUMMARY:Offenes Training\, Hundewiese
DESCRIPTION:Google Maps: Quellenstr.\, Kohlstädt \nUnser offenes Training findet wöchentlich auf dem sicheren\, vertrauten Hundeplatz statt – flexibel\, ohne festen Ablauf und ohne Zeitdruck. Du kommst\, wann es passt\, und trainierst genau das\, was euch weiterbringt: Leinenführigkeit\, Rückruf\, Impulskontrolle oder Alltagssituationen. Wir Übungsleiter sind stets ansprechbar\, geben klare\, behutsame Korrekturen und zeigen praktikable Alternativen. Der Platz bietet Übersicht und Raum für Übungen von einfach bis anspruchsvoll – ohne Verkehr und unvorhersehbare Störungen. Gleichzeitig ist es ein Treffpunkt zum Austausch: zuschauen\, Fragen stellen\, voneinander lernen. So entsteht ein individuelles\, entspanntes Training mit verlässlicher Begleitung und echter Fortschrittschance – in deinem Tempo. \nÜbungsleiter: Roland\, Susanne
URL:https://per-cani.de/event/offenes-training-4-2/2027-09-02/
LOCATION:Hundewiese
ORGANIZER;CN="per-cani e.V.":MAILTO:info@per-cani.de
END:VEVENT
BEGIN:VEVENT
DTSTART;TZID=Europe/Berlin:20270907T180000
DTEND;TZID=Europe/Berlin:20270907T193000
DTSTAMP:20260421T143234
CREATED:20260410T202559Z
LAST-MODIFIED:20260410T202913Z
UID:10002988-1820340000-1820345400@per-cani.de
SUMMARY:Lernrunde; Hausrunde um den Tennisplatz
DESCRIPTION:Google-Maps: Alte-Rothe-Str. 75\, 33189 Schlangen \nDie Lernrunde dauert etwa eine Stunde und bietet eine bunte Mischung aus verschiedenen Übungen – abgestimmt auf das\, was die Topologie des Geländes gerade ermöglicht. \nJeder darf mitmachen\, niemand muss – der Spaß und das gemeinsame Lernen stehen im Vordergrund. \nGeplant ist außerdem ein kurzes Referat ca. 10 bis 15 Minuten. Natürlich ist auch Raum für Fragen – wir nehmen uns gerne Zeit dafür!
URL:https://per-cani.de/event/lernrunde-hausrunde-um-den-tennisplatz-2-2/2027-09-07/
END:VEVENT
BEGIN:VEVENT
DTSTART;TZID=Europe/Berlin:20270908T160000
DTEND;TZID=Europe/Berlin:20270908T173000
DTSTAMP:20260421T143234
CREATED:20260325T120344Z
LAST-MODIFIED:20260325T120344Z
UID:10001090-1820419200-1820424600@per-cani.de
SUMMARY:Geführter Spaziergang mit unseren Hunden
DESCRIPTION:Hinweis: Da wir sehr schöne Ecken rund um Schlangen haben\, werden die Treffpunkte sich auch immer wieder ändern. Wer mitmachen möchte\, läßt sich in unserer wattsapp-Gruppe aufnehmen. Dort werden die Treffpunkte immer aktuell bekannt gegeben. \nDer Spaziergang dauert ca 1\,5 Stunden und ist ca 3-4 Km lang. \nJeder darf maitmachen\, niemand muss – der Spaß und die Gemeinsamkeit stehen im Vordergrund. \nNatürlich ist auch Raum für Fragen und Vorschläge – wir nehmen uns gerne Zeit dafür!
URL:https://per-cani.de/event/gefuehrter-spaziergang-mit-unseren-hunden/2027-09-08/
END:VEVENT
BEGIN:VEVENT
DTSTART;TZID=Europe/Berlin:20270909T180000
DTEND;TZID=Europe/Berlin:20270909T190000
DTSTAMP:20260421T143234
CREATED:20260410T201929Z
LAST-MODIFIED:20260410T201930Z
UID:10001937-1820512800-1820516400@per-cani.de
SUMMARY:Offenes Training\, Hundewiese
DESCRIPTION:Google Maps: Quellenstr.\, Kohlstädt \nUnser offenes Training findet wöchentlich auf dem sicheren\, vertrauten Hundeplatz statt – flexibel\, ohne festen Ablauf und ohne Zeitdruck. Du kommst\, wann es passt\, und trainierst genau das\, was euch weiterbringt: Leinenführigkeit\, Rückruf\, Impulskontrolle oder Alltagssituationen. Wir Übungsleiter sind stets ansprechbar\, geben klare\, behutsame Korrekturen und zeigen praktikable Alternativen. Der Platz bietet Übersicht und Raum für Übungen von einfach bis anspruchsvoll – ohne Verkehr und unvorhersehbare Störungen. Gleichzeitig ist es ein Treffpunkt zum Austausch: zuschauen\, Fragen stellen\, voneinander lernen. So entsteht ein individuelles\, entspanntes Training mit verlässlicher Begleitung und echter Fortschrittschance – in deinem Tempo. \nÜbungsleiter: Roland\, Susanne
URL:https://per-cani.de/event/offenes-training-4-2/2027-09-09/
LOCATION:Hundewiese
ORGANIZER;CN="per-cani e.V.":MAILTO:info@per-cani.de
END:VEVENT
BEGIN:VEVENT
DTSTART;TZID=Europe/Berlin:20270914T180000
DTEND;TZID=Europe/Berlin:20270914T193000
DTSTAMP:20260421T143234
CREATED:20260325T123613Z
LAST-MODIFIED:20260325T123613Z
UID:10001386-1820944800-1820950200@per-cani.de
SUMMARY:Lernrunde; durch die Röhre
DESCRIPTION:Google Maps: Lippspringer Str. 87\, 33189 Schlangen \nHinweis: Wir können bei Elektro Sander parken.\nDie Lernrunde dauert etwa eine Stunde und bietet eine bunte Mischung aus verschiedenen Übungen – abgestimmt auf das\, was die Topologie des Geländes gerade ermöglicht. \nJeder darf mitmachen\, niemand muss – der Spaß und das gemeinsame Lernen stehen im Vordergrund. \nNatürlich ist auch Raum für Fragen – wir nehmen uns gerne Zeit dafür!
URL:https://per-cani.de/event/lernrunde-7-2-2/2027-09-14/
ORGANIZER;CN="per-cani e.V.":MAILTO:info@per-cani.de
END:VEVENT
BEGIN:VEVENT
DTSTART;TZID=Europe/Berlin:20270915T160000
DTEND;TZID=Europe/Berlin:20270915T173000
DTSTAMP:20260421T143234
CREATED:20260325T120344Z
LAST-MODIFIED:20260325T120344Z
UID:10001091-1821024000-1821029400@per-cani.de
SUMMARY:Geführter Spaziergang mit unseren Hunden
DESCRIPTION:Hinweis: Da wir sehr schöne Ecken rund um Schlangen haben\, werden die Treffpunkte sich auch immer wieder ändern. Wer mitmachen möchte\, läßt sich in unserer wattsapp-Gruppe aufnehmen. Dort werden die Treffpunkte immer aktuell bekannt gegeben. \nDer Spaziergang dauert ca 1\,5 Stunden und ist ca 3-4 Km lang. \nJeder darf maitmachen\, niemand muss – der Spaß und die Gemeinsamkeit stehen im Vordergrund. \nNatürlich ist auch Raum für Fragen und Vorschläge – wir nehmen uns gerne Zeit dafür!
URL:https://per-cani.de/event/gefuehrter-spaziergang-mit-unseren-hunden/2027-09-15/
END:VEVENT
BEGIN:VEVENT
DTSTART;TZID=Europe/Berlin:20270916T180000
DTEND;TZID=Europe/Berlin:20270916T190000
DTSTAMP:20260421T143234
CREATED:20260410T201929Z
LAST-MODIFIED:20260410T201930Z
UID:10001938-1821117600-1821121200@per-cani.de
SUMMARY:Offenes Training\, Hundewiese
DESCRIPTION:Google Maps: Quellenstr.\, Kohlstädt \nUnser offenes Training findet wöchentlich auf dem sicheren\, vertrauten Hundeplatz statt – flexibel\, ohne festen Ablauf und ohne Zeitdruck. Du kommst\, wann es passt\, und trainierst genau das\, was euch weiterbringt: Leinenführigkeit\, Rückruf\, Impulskontrolle oder Alltagssituationen. Wir Übungsleiter sind stets ansprechbar\, geben klare\, behutsame Korrekturen und zeigen praktikable Alternativen. Der Platz bietet Übersicht und Raum für Übungen von einfach bis anspruchsvoll – ohne Verkehr und unvorhersehbare Störungen. Gleichzeitig ist es ein Treffpunkt zum Austausch: zuschauen\, Fragen stellen\, voneinander lernen. So entsteht ein individuelles\, entspanntes Training mit verlässlicher Begleitung und echter Fortschrittschance – in deinem Tempo. \nÜbungsleiter: Roland\, Susanne
URL:https://per-cani.de/event/offenes-training-4-2/2027-09-16/
LOCATION:Hundewiese
ORGANIZER;CN="per-cani e.V.":MAILTO:info@per-cani.de
END:VEVENT
BEGIN:VEVENT
DTSTART;TZID=Europe/Berlin:20270921T180000
DTEND;TZID=Europe/Berlin:20270921T193000
DTSTAMP:20260421T143234
CREATED:20260325T123719Z
LAST-MODIFIED:20260325T123720Z
UID:10001411-1821549600-1821555000@per-cani.de
SUMMARY:Lernrunde; Archäologischen Lehrpfad
DESCRIPTION:Google-Maps:  Kreuzkrug\, 33189 Schlangen\nHinweis: Parken am Kreuzkrug. Wir gehen dann über den Aschenweg zum Archäologischen Lehrpfad \nDie Lernrunde dauert etwa eine Stunde und bietet eine bunte Mischung aus verschiedenen Übungen – abgestimmt auf das\, was die Topologie des Geländes gerade ermöglicht. \nJeder darf mitmachen\, niemand muss – der Spaß und das gemeinsame Lernen stehen im Vordergrund. \nGeplant sind kleine Übungen. \nNatürlich ist auch Raum für Fragen – wir nehmen uns gerne Zeit dafür!
URL:https://per-cani.de/event/lernrunde-3-2/2027-09-21/
LOCATION:Am Kreuzkrug\, Kreuzkrug 1\, Schlangen\, 33189\, Germany
ORGANIZER;CN="per-cani e.V.":MAILTO:info@per-cani.de
END:VEVENT
BEGIN:VEVENT
DTSTART;TZID=Europe/Berlin:20270922T160000
DTEND;TZID=Europe/Berlin:20270922T173000
DTSTAMP:20260421T143234
CREATED:20260325T120344Z
LAST-MODIFIED:20260325T120344Z
UID:10001092-1821628800-1821634200@per-cani.de
SUMMARY:Geführter Spaziergang mit unseren Hunden
DESCRIPTION:Hinweis: Da wir sehr schöne Ecken rund um Schlangen haben\, werden die Treffpunkte sich auch immer wieder ändern. Wer mitmachen möchte\, läßt sich in unserer wattsapp-Gruppe aufnehmen. Dort werden die Treffpunkte immer aktuell bekannt gegeben. \nDer Spaziergang dauert ca 1\,5 Stunden und ist ca 3-4 Km lang. \nJeder darf maitmachen\, niemand muss – der Spaß und die Gemeinsamkeit stehen im Vordergrund. \nNatürlich ist auch Raum für Fragen und Vorschläge – wir nehmen uns gerne Zeit dafür!
URL:https://per-cani.de/event/gefuehrter-spaziergang-mit-unseren-hunden/2027-09-22/
END:VEVENT
BEGIN:VEVENT
DTSTART;TZID=Europe/Berlin:20270923T180000
DTEND;TZID=Europe/Berlin:20270923T190000
DTSTAMP:20260421T143234
CREATED:20260410T201929Z
LAST-MODIFIED:20260410T201930Z
UID:10001939-1821722400-1821726000@per-cani.de
SUMMARY:Offenes Training\, Hundewiese
DESCRIPTION:Google Maps: Quellenstr.\, Kohlstädt \nUnser offenes Training findet wöchentlich auf dem sicheren\, vertrauten Hundeplatz statt – flexibel\, ohne festen Ablauf und ohne Zeitdruck. Du kommst\, wann es passt\, und trainierst genau das\, was euch weiterbringt: Leinenführigkeit\, Rückruf\, Impulskontrolle oder Alltagssituationen. Wir Übungsleiter sind stets ansprechbar\, geben klare\, behutsame Korrekturen und zeigen praktikable Alternativen. Der Platz bietet Übersicht und Raum für Übungen von einfach bis anspruchsvoll – ohne Verkehr und unvorhersehbare Störungen. Gleichzeitig ist es ein Treffpunkt zum Austausch: zuschauen\, Fragen stellen\, voneinander lernen. So entsteht ein individuelles\, entspanntes Training mit verlässlicher Begleitung und echter Fortschrittschance – in deinem Tempo. \nÜbungsleiter: Roland\, Susanne
URL:https://per-cani.de/event/offenes-training-4-2/2027-09-23/
LOCATION:Hundewiese
ORGANIZER;CN="per-cani e.V.":MAILTO:info@per-cani.de
END:VEVENT
BEGIN:VEVENT
DTSTART;TZID=Europe/Berlin:20270928T150000
DTEND;TZID=Europe/Berlin:20270928T163000
DTSTAMP:20260421T143234
CREATED:20260410T203256Z
LAST-MODIFIED:20260410T203256Z
UID:10003012-1822143600-1822149000@per-cani.de
SUMMARY:Lernrunde; Windmühle am Schlänger Bruch
DESCRIPTION:Google-Maps: Windmühle am Schlänger Bruch\, 33175 Bad Lippspringe\nHinweis: In Google Maps die Adresse eingeben und bis zur Windmühle weiter fahren. Dort ist ein Parkplatz. \nDie Lernrunde dauert etwa eine Stunde und bietet eine bunte Mischung aus verschiedenen Übungen – abgestimmt auf das\, was die Topologie des Geländes gerade ermöglicht. \nJeder darf mitmachen\, niemand muss – der Spaß und das gemeinsame Lernen stehen im Vordergrund. \nGeplant ist außerdem ein freiwilliger Freilauf mit Ablage  auf einer Wiese und das bisher gelernte anwenden. \nNatürlich ist auch Raum für Fragen – wir nehmen uns gerne Zeit dafür!
URL:https://per-cani.de/event/lernrunde-2-2-2/2027-09-28/
CATEGORIES:geführter Spaziergang
ORGANIZER;CN="per-cani e.V.":MAILTO:info@per-cani.de
END:VEVENT
BEGIN:VEVENT
DTSTART;TZID=Europe/Berlin:20270929T160000
DTEND;TZID=Europe/Berlin:20270929T173000
DTSTAMP:20260421T143234
CREATED:20260325T120344Z
LAST-MODIFIED:20260325T120344Z
UID:10001093-1822233600-1822239000@per-cani.de
SUMMARY:Geführter Spaziergang mit unseren Hunden
DESCRIPTION:Hinweis: Da wir sehr schöne Ecken rund um Schlangen haben\, werden die Treffpunkte sich auch immer wieder ändern. Wer mitmachen möchte\, läßt sich in unserer wattsapp-Gruppe aufnehmen. Dort werden die Treffpunkte immer aktuell bekannt gegeben. \nDer Spaziergang dauert ca 1\,5 Stunden und ist ca 3-4 Km lang. \nJeder darf maitmachen\, niemand muss – der Spaß und die Gemeinsamkeit stehen im Vordergrund. \nNatürlich ist auch Raum für Fragen und Vorschläge – wir nehmen uns gerne Zeit dafür!
URL:https://per-cani.de/event/gefuehrter-spaziergang-mit-unseren-hunden/2027-09-29/
END:VEVENT
BEGIN:VEVENT
DTSTART;TZID=Europe/Berlin:20270930T180000
DTEND;TZID=Europe/Berlin:20270930T190000
DTSTAMP:20260421T143234
CREATED:20260410T201929Z
LAST-MODIFIED:20260410T201930Z
UID:10001940-1822327200-1822330800@per-cani.de
SUMMARY:Offenes Training\, Hundewiese
DESCRIPTION:Google Maps: Quellenstr.\, Kohlstädt \nUnser offenes Training findet wöchentlich auf dem sicheren\, vertrauten Hundeplatz statt – flexibel\, ohne festen Ablauf und ohne Zeitdruck. Du kommst\, wann es passt\, und trainierst genau das\, was euch weiterbringt: Leinenführigkeit\, Rückruf\, Impulskontrolle oder Alltagssituationen. Wir Übungsleiter sind stets ansprechbar\, geben klare\, behutsame Korrekturen und zeigen praktikable Alternativen. Der Platz bietet Übersicht und Raum für Übungen von einfach bis anspruchsvoll – ohne Verkehr und unvorhersehbare Störungen. Gleichzeitig ist es ein Treffpunkt zum Austausch: zuschauen\, Fragen stellen\, voneinander lernen. So entsteht ein individuelles\, entspanntes Training mit verlässlicher Begleitung und echter Fortschrittschance – in deinem Tempo. \nÜbungsleiter: Roland\, Susanne
URL:https://per-cani.de/event/offenes-training-4-2/2027-09-30/
LOCATION:Hundewiese
ORGANIZER;CN="per-cani e.V.":MAILTO:info@per-cani.de
END:VEVENT
END:VCALENDAR