BEGIN:VCALENDAR
VERSION:2.0
PRODID:-//per-cani e.V. - ECPv6.15.20//NONSGML v1.0//EN
CALSCALE:GREGORIAN
METHOD:PUBLISH
X-WR-CALNAME:per-cani e.V.
X-ORIGINAL-URL:https://per-cani.de
X-WR-CALDESC:Veranstaltungen für per-cani e.V.
REFRESH-INTERVAL;VALUE=DURATION:PT1H
X-Robots-Tag:noindex
X-PUBLISHED-TTL:PT1H
BEGIN:VTIMEZONE
TZID:Europe/Berlin
BEGIN:DAYLIGHT
TZOFFSETFROM:+0100
TZOFFSETTO:+0200
TZNAME:CEST
DTSTART:20260329T010000
END:DAYLIGHT
BEGIN:STANDARD
TZOFFSETFROM:+0200
TZOFFSETTO:+0100
TZNAME:CET
DTSTART:20261025T010000
END:STANDARD
BEGIN:DAYLIGHT
TZOFFSETFROM:+0100
TZOFFSETTO:+0200
TZNAME:CEST
DTSTART:20270328T010000
END:DAYLIGHT
BEGIN:STANDARD
TZOFFSETFROM:+0200
TZOFFSETTO:+0100
TZNAME:CET
DTSTART:20271031T010000
END:STANDARD
BEGIN:DAYLIGHT
TZOFFSETFROM:+0100
TZOFFSETTO:+0200
TZNAME:CEST
DTSTART:20280326T010000
END:DAYLIGHT
BEGIN:STANDARD
TZOFFSETFROM:+0200
TZOFFSETTO:+0100
TZNAME:CET
DTSTART:20281029T010000
END:STANDARD
END:VTIMEZONE
BEGIN:VEVENT
DTSTART;TZID=Europe/Berlin:20271005T180000
DTEND;TZID=Europe/Berlin:20271005T193000
DTSTAMP:20260421T155616
CREATED:20260325T123943Z
LAST-MODIFIED:20260325T123943Z
UID:10001436-1822759200-1822764600@per-cani.de
SUMMARY:Lernrunde; Stadtrunde
DESCRIPTION:Thema:  Mit dem Ort auf Tuchfühlung\nGoogle-Maps: Schützenstraße 26\, 33189 Schlangen \nDie Lernrunde dauert etwa eine Stunde und bietet eine bunte Mischung aus verschiedenen Übungen – abgestimmt auf das\, was die Topologie des Geländes gerade ermöglicht. \nJeder darf mitmachen\, niemand muss – der Spaß und das gemeinsame Lernen stehen im Vordergrund. \nGeplant ist eine Stadtrunde mit Besuch der besten Eisdiele am Ort. 🙂 \nNatürlich ist auch Raum für Fragen – wir nehmen uns gerne Zeit dafür!
URL:https://per-cani.de/event/lernrunde-4-2/2027-10-05/
ORGANIZER;CN="per-cani e.V.":MAILTO:info@per-cani.de
END:VEVENT
BEGIN:VEVENT
DTSTART;TZID=Europe/Berlin:20271006T160000
DTEND;TZID=Europe/Berlin:20271006T173000
DTSTAMP:20260421T155616
CREATED:20260325T120344Z
LAST-MODIFIED:20260325T120344Z
UID:10001094-1822838400-1822843800@per-cani.de
SUMMARY:Geführter Spaziergang mit unseren Hunden
DESCRIPTION:Hinweis: Da wir sehr schöne Ecken rund um Schlangen haben\, werden die Treffpunkte sich auch immer wieder ändern. Wer mitmachen möchte\, läßt sich in unserer wattsapp-Gruppe aufnehmen. Dort werden die Treffpunkte immer aktuell bekannt gegeben. \nDer Spaziergang dauert ca 1\,5 Stunden und ist ca 3-4 Km lang. \nJeder darf maitmachen\, niemand muss – der Spaß und die Gemeinsamkeit stehen im Vordergrund. \nNatürlich ist auch Raum für Fragen und Vorschläge – wir nehmen uns gerne Zeit dafür!
URL:https://per-cani.de/event/gefuehrter-spaziergang-mit-unseren-hunden/2027-10-06/
END:VEVENT
BEGIN:VEVENT
DTSTART;TZID=Europe/Berlin:20271007T180000
DTEND;TZID=Europe/Berlin:20271007T190000
DTSTAMP:20260421T155616
CREATED:20260410T201929Z
LAST-MODIFIED:20260410T201930Z
UID:10001941-1822932000-1822935600@per-cani.de
SUMMARY:Offenes Training\, Hundewiese
DESCRIPTION:Google Maps: Quellenstr.\, Kohlstädt \nUnser offenes Training findet wöchentlich auf dem sicheren\, vertrauten Hundeplatz statt – flexibel\, ohne festen Ablauf und ohne Zeitdruck. Du kommst\, wann es passt\, und trainierst genau das\, was euch weiterbringt: Leinenführigkeit\, Rückruf\, Impulskontrolle oder Alltagssituationen. Wir Übungsleiter sind stets ansprechbar\, geben klare\, behutsame Korrekturen und zeigen praktikable Alternativen. Der Platz bietet Übersicht und Raum für Übungen von einfach bis anspruchsvoll – ohne Verkehr und unvorhersehbare Störungen. Gleichzeitig ist es ein Treffpunkt zum Austausch: zuschauen\, Fragen stellen\, voneinander lernen. So entsteht ein individuelles\, entspanntes Training mit verlässlicher Begleitung und echter Fortschrittschance – in deinem Tempo. \nÜbungsleiter: Roland\, Susanne
URL:https://per-cani.de/event/offenes-training-4-2/2027-10-07/
LOCATION:Hundewiese
ORGANIZER;CN="per-cani e.V.":MAILTO:info@per-cani.de
END:VEVENT
BEGIN:VEVENT
DTSTART;TZID=Europe/Berlin:20271012T180000
DTEND;TZID=Europe/Berlin:20271012T193000
DTSTAMP:20260421T155616
CREATED:20260325T124035Z
LAST-MODIFIED:20260325T124035Z
UID:10001461-1823364000-1823369400@per-cani.de
SUMMARY:Lernrunde; Welandsborn betreten erlaubt
DESCRIPTION:Google-Maps: Im Welandsborn 19\, Schlangen\nBeschreibung: Dann 50 m weiter. Rechts ist ein Parkplatz \nDie Lernrunde dauert etwa eine Stunde und bietet eine bunte Mischung aus verschiedenen Übungen – abgestimmt auf das\, was die Topologie des Geländes gerade ermöglicht. \nJeder darf mitmachen\, niemand muss – der Spaß und das gemeinsame Lernen stehen im Vordergrund. \nNatürlich ist auch Raum für Fragen – wir nehmen uns gerne Zeit dafür!
URL:https://per-cani.de/event/lernrunde-6-2/2027-10-12/
END:VEVENT
BEGIN:VEVENT
DTSTART;TZID=Europe/Berlin:20271013T160000
DTEND;TZID=Europe/Berlin:20271013T173000
DTSTAMP:20260421T155616
CREATED:20260325T120344Z
LAST-MODIFIED:20260325T120344Z
UID:10001095-1823443200-1823448600@per-cani.de
SUMMARY:Geführter Spaziergang mit unseren Hunden
DESCRIPTION:Hinweis: Da wir sehr schöne Ecken rund um Schlangen haben\, werden die Treffpunkte sich auch immer wieder ändern. Wer mitmachen möchte\, läßt sich in unserer wattsapp-Gruppe aufnehmen. Dort werden die Treffpunkte immer aktuell bekannt gegeben. \nDer Spaziergang dauert ca 1\,5 Stunden und ist ca 3-4 Km lang. \nJeder darf maitmachen\, niemand muss – der Spaß und die Gemeinsamkeit stehen im Vordergrund. \nNatürlich ist auch Raum für Fragen und Vorschläge – wir nehmen uns gerne Zeit dafür!
URL:https://per-cani.de/event/gefuehrter-spaziergang-mit-unseren-hunden/2027-10-13/
END:VEVENT
BEGIN:VEVENT
DTSTART;TZID=Europe/Berlin:20271014T180000
DTEND;TZID=Europe/Berlin:20271014T190000
DTSTAMP:20260421T155616
CREATED:20260410T201929Z
LAST-MODIFIED:20260410T201930Z
UID:10001942-1823536800-1823540400@per-cani.de
SUMMARY:Offenes Training\, Hundewiese
DESCRIPTION:Google Maps: Quellenstr.\, Kohlstädt \nUnser offenes Training findet wöchentlich auf dem sicheren\, vertrauten Hundeplatz statt – flexibel\, ohne festen Ablauf und ohne Zeitdruck. Du kommst\, wann es passt\, und trainierst genau das\, was euch weiterbringt: Leinenführigkeit\, Rückruf\, Impulskontrolle oder Alltagssituationen. Wir Übungsleiter sind stets ansprechbar\, geben klare\, behutsame Korrekturen und zeigen praktikable Alternativen. Der Platz bietet Übersicht und Raum für Übungen von einfach bis anspruchsvoll – ohne Verkehr und unvorhersehbare Störungen. Gleichzeitig ist es ein Treffpunkt zum Austausch: zuschauen\, Fragen stellen\, voneinander lernen. So entsteht ein individuelles\, entspanntes Training mit verlässlicher Begleitung und echter Fortschrittschance – in deinem Tempo. \nÜbungsleiter: Roland\, Susanne
URL:https://per-cani.de/event/offenes-training-4-2/2027-10-14/
LOCATION:Hundewiese
ORGANIZER;CN="per-cani e.V.":MAILTO:info@per-cani.de
END:VEVENT
BEGIN:VEVENT
DTSTART;TZID=Europe/Berlin:20271019T180000
DTEND;TZID=Europe/Berlin:20271019T193000
DTSTAMP:20260421T155616
CREATED:20260325T123045Z
LAST-MODIFIED:20260325T123045Z
UID:10001282-1823968800-1823974200@per-cani.de
SUMMARY:Lernrunde; Kreuzkrug alter Postweg
DESCRIPTION:Google Maps: Fürstliches Forsthaus Kreuzkrug\n \nDas Training dauert etwa eine Stunde und bietet eine bunte Mischung aus verschiedenen Übungen – abgestimmt auf das\, was die Topologie des Geländes gerade ermöglicht. \nJeder darf mitmachen\, niemand muss – der Spaß und das gemeinsame Lernen stehen im Vordergrund. \nGeplant ist außerdem ein kurzes Referat.
URL:https://per-cani.de/event/gefuehrter-spaziergang-2/2027-10-19/
LOCATION:Parkplatz Am Kreuzkrug\, Kreuzkrug 1003\, Schlangen\, 33189
ORGANIZER;CN="per-cani e.V.":MAILTO:info@per-cani.de
END:VEVENT
BEGIN:VEVENT
DTSTART;TZID=Europe/Berlin:20271020T160000
DTEND;TZID=Europe/Berlin:20271020T173000
DTSTAMP:20260421T155616
CREATED:20260325T120344Z
LAST-MODIFIED:20260325T120344Z
UID:10001096-1824048000-1824053400@per-cani.de
SUMMARY:Geführter Spaziergang mit unseren Hunden
DESCRIPTION:Hinweis: Da wir sehr schöne Ecken rund um Schlangen haben\, werden die Treffpunkte sich auch immer wieder ändern. Wer mitmachen möchte\, läßt sich in unserer wattsapp-Gruppe aufnehmen. Dort werden die Treffpunkte immer aktuell bekannt gegeben. \nDer Spaziergang dauert ca 1\,5 Stunden und ist ca 3-4 Km lang. \nJeder darf maitmachen\, niemand muss – der Spaß und die Gemeinsamkeit stehen im Vordergrund. \nNatürlich ist auch Raum für Fragen und Vorschläge – wir nehmen uns gerne Zeit dafür!
URL:https://per-cani.de/event/gefuehrter-spaziergang-mit-unseren-hunden/2027-10-20/
END:VEVENT
BEGIN:VEVENT
DTSTART;TZID=Europe/Berlin:20271021T180000
DTEND;TZID=Europe/Berlin:20271021T190000
DTSTAMP:20260421T155616
CREATED:20260410T201929Z
LAST-MODIFIED:20260410T201930Z
UID:10001943-1824141600-1824145200@per-cani.de
SUMMARY:Offenes Training\, Hundewiese
DESCRIPTION:Google Maps: Quellenstr.\, Kohlstädt \nUnser offenes Training findet wöchentlich auf dem sicheren\, vertrauten Hundeplatz statt – flexibel\, ohne festen Ablauf und ohne Zeitdruck. Du kommst\, wann es passt\, und trainierst genau das\, was euch weiterbringt: Leinenführigkeit\, Rückruf\, Impulskontrolle oder Alltagssituationen. Wir Übungsleiter sind stets ansprechbar\, geben klare\, behutsame Korrekturen und zeigen praktikable Alternativen. Der Platz bietet Übersicht und Raum für Übungen von einfach bis anspruchsvoll – ohne Verkehr und unvorhersehbare Störungen. Gleichzeitig ist es ein Treffpunkt zum Austausch: zuschauen\, Fragen stellen\, voneinander lernen. So entsteht ein individuelles\, entspanntes Training mit verlässlicher Begleitung und echter Fortschrittschance – in deinem Tempo. \nÜbungsleiter: Roland\, Susanne
URL:https://per-cani.de/event/offenes-training-4-2/2027-10-21/
LOCATION:Hundewiese
ORGANIZER;CN="per-cani e.V.":MAILTO:info@per-cani.de
END:VEVENT
BEGIN:VEVENT
DTSTART;TZID=Europe/Berlin:20271026T180000
DTEND;TZID=Europe/Berlin:20271026T193000
DTSTAMP:20260421T155616
CREATED:20260325T123150Z
LAST-MODIFIED:20260325T123150Z
UID:10001307-1824573600-1824579000@per-cani.de
SUMMARY:Lernrunde; Haverkampsee
DESCRIPTION:Google-Maps: Finkenkrug 1\, 33189 Schlangen \nDie Lernrunde dauert etwa eine Stunde und bietet eine bunte Mischung aus verschiedenen Übungen – abgestimmt auf das\, was die Topologie des Geländes gerade ermöglicht. \nJeder darf mitmachen\, niemand muss – der Spaß und das gemeinsame Lernen stehen im Vordergrund. \nGeplant ist außerdem ein kurzes Referat ca. 10 bis 15 Minuten. Natürlich ist auch Raum für Fragen – wir nehmen uns gerne Zeit dafür!
URL:https://per-cani.de/event/lernrunde-5-2/2027-10-26/
LOCATION:Parkplatz Haverkampsee\, Finkenkrug 1\, Schlangen\, 33189
ORGANIZER;CN="per-cani e.V.":MAILTO:info@per-cani.de
END:VEVENT
BEGIN:VEVENT
DTSTART;TZID=Europe/Berlin:20271027T160000
DTEND;TZID=Europe/Berlin:20271027T173000
DTSTAMP:20260421T155616
CREATED:20260325T120344Z
LAST-MODIFIED:20260325T120344Z
UID:10001097-1824652800-1824658200@per-cani.de
SUMMARY:Geführter Spaziergang mit unseren Hunden
DESCRIPTION:Hinweis: Da wir sehr schöne Ecken rund um Schlangen haben\, werden die Treffpunkte sich auch immer wieder ändern. Wer mitmachen möchte\, läßt sich in unserer wattsapp-Gruppe aufnehmen. Dort werden die Treffpunkte immer aktuell bekannt gegeben. \nDer Spaziergang dauert ca 1\,5 Stunden und ist ca 3-4 Km lang. \nJeder darf maitmachen\, niemand muss – der Spaß und die Gemeinsamkeit stehen im Vordergrund. \nNatürlich ist auch Raum für Fragen und Vorschläge – wir nehmen uns gerne Zeit dafür!
URL:https://per-cani.de/event/gefuehrter-spaziergang-mit-unseren-hunden/2027-10-27/
END:VEVENT
BEGIN:VEVENT
DTSTART;TZID=Europe/Berlin:20271028T180000
DTEND;TZID=Europe/Berlin:20271028T190000
DTSTAMP:20260421T155616
CREATED:20260410T201929Z
LAST-MODIFIED:20260410T201930Z
UID:10001944-1824746400-1824750000@per-cani.de
SUMMARY:Offenes Training\, Hundewiese
DESCRIPTION:Google Maps: Quellenstr.\, Kohlstädt \nUnser offenes Training findet wöchentlich auf dem sicheren\, vertrauten Hundeplatz statt – flexibel\, ohne festen Ablauf und ohne Zeitdruck. Du kommst\, wann es passt\, und trainierst genau das\, was euch weiterbringt: Leinenführigkeit\, Rückruf\, Impulskontrolle oder Alltagssituationen. Wir Übungsleiter sind stets ansprechbar\, geben klare\, behutsame Korrekturen und zeigen praktikable Alternativen. Der Platz bietet Übersicht und Raum für Übungen von einfach bis anspruchsvoll – ohne Verkehr und unvorhersehbare Störungen. Gleichzeitig ist es ein Treffpunkt zum Austausch: zuschauen\, Fragen stellen\, voneinander lernen. So entsteht ein individuelles\, entspanntes Training mit verlässlicher Begleitung und echter Fortschrittschance – in deinem Tempo. \nÜbungsleiter: Roland\, Susanne
URL:https://per-cani.de/event/offenes-training-4-2/2027-10-28/
LOCATION:Hundewiese
ORGANIZER;CN="per-cani e.V.":MAILTO:info@per-cani.de
END:VEVENT
END:VCALENDAR