BEGIN:VCALENDAR
VERSION:2.0
PRODID:-//per-cani e.V. - ECPv6.15.20//NONSGML v1.0//EN
CALSCALE:GREGORIAN
METHOD:PUBLISH
X-ORIGINAL-URL:https://per-cani.de
X-WR-CALDESC:Veranstaltungen für per-cani e.V.
REFRESH-INTERVAL;VALUE=DURATION:PT1H
X-Robots-Tag:noindex
X-PUBLISHED-TTL:PT1H
BEGIN:VTIMEZONE
TZID:Europe/Berlin
BEGIN:DAYLIGHT
TZOFFSETFROM:+0100
TZOFFSETTO:+0200
TZNAME:CEST
DTSTART:20270328T010000
END:DAYLIGHT
BEGIN:STANDARD
TZOFFSETFROM:+0200
TZOFFSETTO:+0100
TZNAME:CET
DTSTART:20271031T010000
END:STANDARD
BEGIN:DAYLIGHT
TZOFFSETFROM:+0100
TZOFFSETTO:+0200
TZNAME:CEST
DTSTART:20280326T010000
END:DAYLIGHT
BEGIN:STANDARD
TZOFFSETFROM:+0200
TZOFFSETTO:+0100
TZNAME:CET
DTSTART:20281029T010000
END:STANDARD
BEGIN:DAYLIGHT
TZOFFSETFROM:+0100
TZOFFSETTO:+0200
TZNAME:CEST
DTSTART:20290325T010000
END:DAYLIGHT
BEGIN:STANDARD
TZOFFSETFROM:+0200
TZOFFSETTO:+0100
TZNAME:CET
DTSTART:20291028T010000
END:STANDARD
END:VTIMEZONE
BEGIN:VEVENT
DTSTART;TZID=Europe/Berlin:20280104T180000
DTEND;TZID=Europe/Berlin:20280104T193000
DTSTAMP:20260421T202610
CREATED:20260325T123150Z
LAST-MODIFIED:20260325T123150Z
UID:10001308-1830621600-1830627000@per-cani.de
SUMMARY:Lernrunde; Haverkampsee
DESCRIPTION:Google-Maps: Finkenkrug 1\, 33189 Schlangen \nDie Lernrunde dauert etwa eine Stunde und bietet eine bunte Mischung aus verschiedenen Übungen – abgestimmt auf das\, was die Topologie des Geländes gerade ermöglicht. \nJeder darf mitmachen\, niemand muss – der Spaß und das gemeinsame Lernen stehen im Vordergrund. \nGeplant ist außerdem ein kurzes Referat ca. 10 bis 15 Minuten. Natürlich ist auch Raum für Fragen – wir nehmen uns gerne Zeit dafür!
URL:https://per-cani.de/event/lernrunde-5-2/2028-01-04/
LOCATION:Parkplatz Haverkampsee\, Finkenkrug 1\, Schlangen\, 33189
ORGANIZER;CN="per-cani e.V.":MAILTO:info@per-cani.de
END:VEVENT
BEGIN:VEVENT
DTSTART;TZID=Europe/Berlin:20280105T160000
DTEND;TZID=Europe/Berlin:20280105T173000
DTSTAMP:20260421T202610
CREATED:20260325T120344Z
LAST-MODIFIED:20260325T120344Z
UID:10001107-1830700800-1830706200@per-cani.de
SUMMARY:Geführter Spaziergang mit unseren Hunden
DESCRIPTION:Hinweis: Da wir sehr schöne Ecken rund um Schlangen haben\, werden die Treffpunkte sich auch immer wieder ändern. Wer mitmachen möchte\, läßt sich in unserer wattsapp-Gruppe aufnehmen. Dort werden die Treffpunkte immer aktuell bekannt gegeben. \nDer Spaziergang dauert ca 1\,5 Stunden und ist ca 3-4 Km lang. \nJeder darf maitmachen\, niemand muss – der Spaß und die Gemeinsamkeit stehen im Vordergrund. \nNatürlich ist auch Raum für Fragen und Vorschläge – wir nehmen uns gerne Zeit dafür!
URL:https://per-cani.de/event/gefuehrter-spaziergang-mit-unseren-hunden/2028-01-05/
END:VEVENT
BEGIN:VEVENT
DTSTART;TZID=Europe/Berlin:20280106T180000
DTEND;TZID=Europe/Berlin:20280106T190000
DTSTAMP:20260421T202610
CREATED:20260410T201929Z
LAST-MODIFIED:20260410T201930Z
UID:10001954-1830794400-1830798000@per-cani.de
SUMMARY:Offenes Training\, Hundewiese
DESCRIPTION:Google Maps: Quellenstr.\, Kohlstädt \nUnser offenes Training findet wöchentlich auf dem sicheren\, vertrauten Hundeplatz statt – flexibel\, ohne festen Ablauf und ohne Zeitdruck. Du kommst\, wann es passt\, und trainierst genau das\, was euch weiterbringt: Leinenführigkeit\, Rückruf\, Impulskontrolle oder Alltagssituationen. Wir Übungsleiter sind stets ansprechbar\, geben klare\, behutsame Korrekturen und zeigen praktikable Alternativen. Der Platz bietet Übersicht und Raum für Übungen von einfach bis anspruchsvoll – ohne Verkehr und unvorhersehbare Störungen. Gleichzeitig ist es ein Treffpunkt zum Austausch: zuschauen\, Fragen stellen\, voneinander lernen. So entsteht ein individuelles\, entspanntes Training mit verlässlicher Begleitung und echter Fortschrittschance – in deinem Tempo. \nÜbungsleiter: Roland\, Susanne
URL:https://per-cani.de/event/offenes-training-4-2/2028-01-06/
LOCATION:Hundewiese
ORGANIZER;CN="per-cani e.V.":MAILTO:info@per-cani.de
END:VEVENT
BEGIN:VEVENT
DTSTART;TZID=Europe/Berlin:20280111T180000
DTEND;TZID=Europe/Berlin:20280111T193000
DTSTAMP:20260421T202610
CREATED:20260325T123307Z
LAST-MODIFIED:20260410T201207Z
UID:10001333-1831226400-1831231800@per-cani.de
SUMMARY:Lernrunde; Dedinger-Heide-See
DESCRIPTION:Google-Maps: Maximilian-Kolbe-Straße 4\, 33175 Bad Lippspringe \nDie Lernrunde dauert etwa eine Stunde und bietet eine bunte Mischung aus verschiedenen Übungen – abgestimmt auf das\, was die Topologie des Geländes gerade ermöglicht. \nJeder darf mitmachen\, niemand muss – der Spaß und das gemeinsame Lernen stehen im Vordergrund. \nGeplant ist außerdem ein kurzes Referat ca. 10 bis 15 Minuten. Natürlich ist auch Raum für Fragen – wir nehmen uns gerne Zeit dafür!
URL:https://per-cani.de/event/lernrunde-dedinger-heide-see-2/2028-01-11/
END:VEVENT
BEGIN:VEVENT
DTSTART;TZID=Europe/Berlin:20280112T160000
DTEND;TZID=Europe/Berlin:20280112T173000
DTSTAMP:20260421T202610
CREATED:20260325T120344Z
LAST-MODIFIED:20260325T120344Z
UID:10001108-1831305600-1831311000@per-cani.de
SUMMARY:Geführter Spaziergang mit unseren Hunden
DESCRIPTION:Hinweis: Da wir sehr schöne Ecken rund um Schlangen haben\, werden die Treffpunkte sich auch immer wieder ändern. Wer mitmachen möchte\, läßt sich in unserer wattsapp-Gruppe aufnehmen. Dort werden die Treffpunkte immer aktuell bekannt gegeben. \nDer Spaziergang dauert ca 1\,5 Stunden und ist ca 3-4 Km lang. \nJeder darf maitmachen\, niemand muss – der Spaß und die Gemeinsamkeit stehen im Vordergrund. \nNatürlich ist auch Raum für Fragen und Vorschläge – wir nehmen uns gerne Zeit dafür!
URL:https://per-cani.de/event/gefuehrter-spaziergang-mit-unseren-hunden/2028-01-12/
END:VEVENT
BEGIN:VEVENT
DTSTART;TZID=Europe/Berlin:20280113T180000
DTEND;TZID=Europe/Berlin:20280113T190000
DTSTAMP:20260421T202610
CREATED:20260410T201929Z
LAST-MODIFIED:20260410T201930Z
UID:10001955-1831399200-1831402800@per-cani.de
SUMMARY:Offenes Training\, Hundewiese
DESCRIPTION:Google Maps: Quellenstr.\, Kohlstädt \nUnser offenes Training findet wöchentlich auf dem sicheren\, vertrauten Hundeplatz statt – flexibel\, ohne festen Ablauf und ohne Zeitdruck. Du kommst\, wann es passt\, und trainierst genau das\, was euch weiterbringt: Leinenführigkeit\, Rückruf\, Impulskontrolle oder Alltagssituationen. Wir Übungsleiter sind stets ansprechbar\, geben klare\, behutsame Korrekturen und zeigen praktikable Alternativen. Der Platz bietet Übersicht und Raum für Übungen von einfach bis anspruchsvoll – ohne Verkehr und unvorhersehbare Störungen. Gleichzeitig ist es ein Treffpunkt zum Austausch: zuschauen\, Fragen stellen\, voneinander lernen. So entsteht ein individuelles\, entspanntes Training mit verlässlicher Begleitung und echter Fortschrittschance – in deinem Tempo. \nÜbungsleiter: Roland\, Susanne
URL:https://per-cani.de/event/offenes-training-4-2/2028-01-13/
LOCATION:Hundewiese
ORGANIZER;CN="per-cani e.V.":MAILTO:info@per-cani.de
END:VEVENT
BEGIN:VEVENT
DTSTART;TZID=Europe/Berlin:20280118T180000
DTEND;TZID=Europe/Berlin:20280118T193000
DTSTAMP:20260421T202610
CREATED:20260325T123348Z
LAST-MODIFIED:20260325T123348Z
UID:10001358-1831831200-1831836600@per-cani.de
SUMMARY:Lernrunde; Reitstall
DESCRIPTION:Google Maps: Lönsweg\, 33175 Bad Lippspringe \nDie Lernrunde dauert etwa eine Stunde und bietet eine bunte Mischung aus verschiedenen Übungen – abgestimmt auf das\, was die Topologie des Geländes gerade ermöglicht. \nJeder darf mitmachen\, niemand muss – der Spaß und das gemeinsame Lernen stehen im Vordergrund. \nNatürlich ist auch Raum für Fragen – wir nehmen uns gerne Zeit dafür!
URL:https://per-cani.de/event/lernrunde-reitstall-2/2028-01-18/
END:VEVENT
BEGIN:VEVENT
DTSTART;TZID=Europe/Berlin:20280119T160000
DTEND;TZID=Europe/Berlin:20280119T173000
DTSTAMP:20260421T202610
CREATED:20260325T120344Z
LAST-MODIFIED:20260325T120344Z
UID:10001109-1831910400-1831915800@per-cani.de
SUMMARY:Geführter Spaziergang mit unseren Hunden
DESCRIPTION:Hinweis: Da wir sehr schöne Ecken rund um Schlangen haben\, werden die Treffpunkte sich auch immer wieder ändern. Wer mitmachen möchte\, läßt sich in unserer wattsapp-Gruppe aufnehmen. Dort werden die Treffpunkte immer aktuell bekannt gegeben. \nDer Spaziergang dauert ca 1\,5 Stunden und ist ca 3-4 Km lang. \nJeder darf maitmachen\, niemand muss – der Spaß und die Gemeinsamkeit stehen im Vordergrund. \nNatürlich ist auch Raum für Fragen und Vorschläge – wir nehmen uns gerne Zeit dafür!
URL:https://per-cani.de/event/gefuehrter-spaziergang-mit-unseren-hunden/2028-01-19/
END:VEVENT
BEGIN:VEVENT
DTSTART;TZID=Europe/Berlin:20280120T180000
DTEND;TZID=Europe/Berlin:20280120T190000
DTSTAMP:20260421T202610
CREATED:20260410T201929Z
LAST-MODIFIED:20260410T201930Z
UID:10001956-1832004000-1832007600@per-cani.de
SUMMARY:Offenes Training\, Hundewiese
DESCRIPTION:Google Maps: Quellenstr.\, Kohlstädt \nUnser offenes Training findet wöchentlich auf dem sicheren\, vertrauten Hundeplatz statt – flexibel\, ohne festen Ablauf und ohne Zeitdruck. Du kommst\, wann es passt\, und trainierst genau das\, was euch weiterbringt: Leinenführigkeit\, Rückruf\, Impulskontrolle oder Alltagssituationen. Wir Übungsleiter sind stets ansprechbar\, geben klare\, behutsame Korrekturen und zeigen praktikable Alternativen. Der Platz bietet Übersicht und Raum für Übungen von einfach bis anspruchsvoll – ohne Verkehr und unvorhersehbare Störungen. Gleichzeitig ist es ein Treffpunkt zum Austausch: zuschauen\, Fragen stellen\, voneinander lernen. So entsteht ein individuelles\, entspanntes Training mit verlässlicher Begleitung und echter Fortschrittschance – in deinem Tempo. \nÜbungsleiter: Roland\, Susanne
URL:https://per-cani.de/event/offenes-training-4-2/2028-01-20/
LOCATION:Hundewiese
ORGANIZER;CN="per-cani e.V.":MAILTO:info@per-cani.de
END:VEVENT
BEGIN:VEVENT
DTSTART;TZID=Europe/Berlin:20280125T180000
DTEND;TZID=Europe/Berlin:20280125T193000
DTSTAMP:20260421T202610
CREATED:20260410T202559Z
LAST-MODIFIED:20260410T202913Z
UID:10002990-1832436000-1832441400@per-cani.de
SUMMARY:Lernrunde; Hausrunde um den Tennisplatz
DESCRIPTION:Google-Maps: Alte-Rothe-Str. 75\, 33189 Schlangen \nDie Lernrunde dauert etwa eine Stunde und bietet eine bunte Mischung aus verschiedenen Übungen – abgestimmt auf das\, was die Topologie des Geländes gerade ermöglicht. \nJeder darf mitmachen\, niemand muss – der Spaß und das gemeinsame Lernen stehen im Vordergrund. \nGeplant ist außerdem ein kurzes Referat ca. 10 bis 15 Minuten. Natürlich ist auch Raum für Fragen – wir nehmen uns gerne Zeit dafür!
URL:https://per-cani.de/event/lernrunde-hausrunde-um-den-tennisplatz-2-2/2028-01-25/
END:VEVENT
BEGIN:VEVENT
DTSTART;TZID=Europe/Berlin:20280126T160000
DTEND;TZID=Europe/Berlin:20280126T173000
DTSTAMP:20260421T202610
CREATED:20260325T120344Z
LAST-MODIFIED:20260325T120344Z
UID:10001110-1832515200-1832520600@per-cani.de
SUMMARY:Geführter Spaziergang mit unseren Hunden
DESCRIPTION:Hinweis: Da wir sehr schöne Ecken rund um Schlangen haben\, werden die Treffpunkte sich auch immer wieder ändern. Wer mitmachen möchte\, läßt sich in unserer wattsapp-Gruppe aufnehmen. Dort werden die Treffpunkte immer aktuell bekannt gegeben. \nDer Spaziergang dauert ca 1\,5 Stunden und ist ca 3-4 Km lang. \nJeder darf maitmachen\, niemand muss – der Spaß und die Gemeinsamkeit stehen im Vordergrund. \nNatürlich ist auch Raum für Fragen und Vorschläge – wir nehmen uns gerne Zeit dafür!
URL:https://per-cani.de/event/gefuehrter-spaziergang-mit-unseren-hunden/2028-01-26/
END:VEVENT
BEGIN:VEVENT
DTSTART;TZID=Europe/Berlin:20280127T180000
DTEND;TZID=Europe/Berlin:20280127T190000
DTSTAMP:20260421T202610
CREATED:20260410T201929Z
LAST-MODIFIED:20260410T201930Z
UID:10001957-1832608800-1832612400@per-cani.de
SUMMARY:Offenes Training\, Hundewiese
DESCRIPTION:Google Maps: Quellenstr.\, Kohlstädt \nUnser offenes Training findet wöchentlich auf dem sicheren\, vertrauten Hundeplatz statt – flexibel\, ohne festen Ablauf und ohne Zeitdruck. Du kommst\, wann es passt\, und trainierst genau das\, was euch weiterbringt: Leinenführigkeit\, Rückruf\, Impulskontrolle oder Alltagssituationen. Wir Übungsleiter sind stets ansprechbar\, geben klare\, behutsame Korrekturen und zeigen praktikable Alternativen. Der Platz bietet Übersicht und Raum für Übungen von einfach bis anspruchsvoll – ohne Verkehr und unvorhersehbare Störungen. Gleichzeitig ist es ein Treffpunkt zum Austausch: zuschauen\, Fragen stellen\, voneinander lernen. So entsteht ein individuelles\, entspanntes Training mit verlässlicher Begleitung und echter Fortschrittschance – in deinem Tempo. \nÜbungsleiter: Roland\, Susanne
URL:https://per-cani.de/event/offenes-training-4-2/2028-01-27/
LOCATION:Hundewiese
ORGANIZER;CN="per-cani e.V.":MAILTO:info@per-cani.de
END:VEVENT
END:VCALENDAR