BEGIN:VCALENDAR
VERSION:2.0
PRODID:-//per-cani e.V. - ECPv6.15.20//NONSGML v1.0//EN
CALSCALE:GREGORIAN
METHOD:PUBLISH
X-ORIGINAL-URL:https://per-cani.de
X-WR-CALDESC:Veranstaltungen für per-cani e.V.
REFRESH-INTERVAL;VALUE=DURATION:PT1H
X-Robots-Tag:noindex
X-PUBLISHED-TTL:PT1H
BEGIN:VTIMEZONE
TZID:Europe/Berlin
BEGIN:DAYLIGHT
TZOFFSETFROM:+0100
TZOFFSETTO:+0200
TZNAME:CEST
DTSTART:20270328T010000
END:DAYLIGHT
BEGIN:STANDARD
TZOFFSETFROM:+0200
TZOFFSETTO:+0100
TZNAME:CET
DTSTART:20271031T010000
END:STANDARD
BEGIN:DAYLIGHT
TZOFFSETFROM:+0100
TZOFFSETTO:+0200
TZNAME:CEST
DTSTART:20280326T010000
END:DAYLIGHT
BEGIN:STANDARD
TZOFFSETFROM:+0200
TZOFFSETTO:+0100
TZNAME:CET
DTSTART:20281029T010000
END:STANDARD
BEGIN:DAYLIGHT
TZOFFSETFROM:+0100
TZOFFSETTO:+0200
TZNAME:CEST
DTSTART:20290325T010000
END:DAYLIGHT
BEGIN:STANDARD
TZOFFSETFROM:+0200
TZOFFSETTO:+0100
TZNAME:CET
DTSTART:20291028T010000
END:STANDARD
END:VTIMEZONE
BEGIN:VEVENT
DTSTART;TZID=Europe/Berlin:20280201T180000
DTEND;TZID=Europe/Berlin:20280201T193000
DTSTAMP:20260421T212842
CREATED:20260325T123613Z
LAST-MODIFIED:20260325T123613Z
UID:10001388-1833040800-1833046200@per-cani.de
SUMMARY:Lernrunde; durch die Röhre
DESCRIPTION:Google Maps: Lippspringer Str. 87\, 33189 Schlangen \nHinweis: Wir können bei Elektro Sander parken.\nDie Lernrunde dauert etwa eine Stunde und bietet eine bunte Mischung aus verschiedenen Übungen – abgestimmt auf das\, was die Topologie des Geländes gerade ermöglicht. \nJeder darf mitmachen\, niemand muss – der Spaß und das gemeinsame Lernen stehen im Vordergrund. \nNatürlich ist auch Raum für Fragen – wir nehmen uns gerne Zeit dafür!
URL:https://per-cani.de/event/lernrunde-7-2-2/2028-02-01/
ORGANIZER;CN="per-cani e.V.":MAILTO:info@per-cani.de
END:VEVENT
BEGIN:VEVENT
DTSTART;TZID=Europe/Berlin:20280202T160000
DTEND;TZID=Europe/Berlin:20280202T173000
DTSTAMP:20260421T212842
CREATED:20260325T120344Z
LAST-MODIFIED:20260325T120344Z
UID:10001111-1833120000-1833125400@per-cani.de
SUMMARY:Geführter Spaziergang mit unseren Hunden
DESCRIPTION:Hinweis: Da wir sehr schöne Ecken rund um Schlangen haben\, werden die Treffpunkte sich auch immer wieder ändern. Wer mitmachen möchte\, läßt sich in unserer wattsapp-Gruppe aufnehmen. Dort werden die Treffpunkte immer aktuell bekannt gegeben. \nDer Spaziergang dauert ca 1\,5 Stunden und ist ca 3-4 Km lang. \nJeder darf maitmachen\, niemand muss – der Spaß und die Gemeinsamkeit stehen im Vordergrund. \nNatürlich ist auch Raum für Fragen und Vorschläge – wir nehmen uns gerne Zeit dafür!
URL:https://per-cani.de/event/gefuehrter-spaziergang-mit-unseren-hunden/2028-02-02/
END:VEVENT
BEGIN:VEVENT
DTSTART;TZID=Europe/Berlin:20280203T180000
DTEND;TZID=Europe/Berlin:20280203T190000
DTSTAMP:20260421T212842
CREATED:20260410T201929Z
LAST-MODIFIED:20260410T201930Z
UID:10001958-1833213600-1833217200@per-cani.de
SUMMARY:Offenes Training\, Hundewiese
DESCRIPTION:Google Maps: Quellenstr.\, Kohlstädt \nUnser offenes Training findet wöchentlich auf dem sicheren\, vertrauten Hundeplatz statt – flexibel\, ohne festen Ablauf und ohne Zeitdruck. Du kommst\, wann es passt\, und trainierst genau das\, was euch weiterbringt: Leinenführigkeit\, Rückruf\, Impulskontrolle oder Alltagssituationen. Wir Übungsleiter sind stets ansprechbar\, geben klare\, behutsame Korrekturen und zeigen praktikable Alternativen. Der Platz bietet Übersicht und Raum für Übungen von einfach bis anspruchsvoll – ohne Verkehr und unvorhersehbare Störungen. Gleichzeitig ist es ein Treffpunkt zum Austausch: zuschauen\, Fragen stellen\, voneinander lernen. So entsteht ein individuelles\, entspanntes Training mit verlässlicher Begleitung und echter Fortschrittschance – in deinem Tempo. \nÜbungsleiter: Roland\, Susanne
URL:https://per-cani.de/event/offenes-training-4-2/2028-02-03/
LOCATION:Hundewiese
ORGANIZER;CN="per-cani e.V.":MAILTO:info@per-cani.de
END:VEVENT
BEGIN:VEVENT
DTSTART;TZID=Europe/Berlin:20280208T180000
DTEND;TZID=Europe/Berlin:20280208T193000
DTSTAMP:20260421T212842
CREATED:20260325T123719Z
LAST-MODIFIED:20260325T123720Z
UID:10001413-1833645600-1833651000@per-cani.de
SUMMARY:Lernrunde; Archäologischen Lehrpfad
DESCRIPTION:Google-Maps:  Kreuzkrug\, 33189 Schlangen\nHinweis: Parken am Kreuzkrug. Wir gehen dann über den Aschenweg zum Archäologischen Lehrpfad \nDie Lernrunde dauert etwa eine Stunde und bietet eine bunte Mischung aus verschiedenen Übungen – abgestimmt auf das\, was die Topologie des Geländes gerade ermöglicht. \nJeder darf mitmachen\, niemand muss – der Spaß und das gemeinsame Lernen stehen im Vordergrund. \nGeplant sind kleine Übungen. \nNatürlich ist auch Raum für Fragen – wir nehmen uns gerne Zeit dafür!
URL:https://per-cani.de/event/lernrunde-3-2/2028-02-08/
LOCATION:Am Kreuzkrug\, Kreuzkrug 1\, Schlangen\, 33189\, Germany
ORGANIZER;CN="per-cani e.V.":MAILTO:info@per-cani.de
END:VEVENT
BEGIN:VEVENT
DTSTART;TZID=Europe/Berlin:20280209T160000
DTEND;TZID=Europe/Berlin:20280209T173000
DTSTAMP:20260421T212842
CREATED:20260325T120344Z
LAST-MODIFIED:20260325T120344Z
UID:10001112-1833724800-1833730200@per-cani.de
SUMMARY:Geführter Spaziergang mit unseren Hunden
DESCRIPTION:Hinweis: Da wir sehr schöne Ecken rund um Schlangen haben\, werden die Treffpunkte sich auch immer wieder ändern. Wer mitmachen möchte\, läßt sich in unserer wattsapp-Gruppe aufnehmen. Dort werden die Treffpunkte immer aktuell bekannt gegeben. \nDer Spaziergang dauert ca 1\,5 Stunden und ist ca 3-4 Km lang. \nJeder darf maitmachen\, niemand muss – der Spaß und die Gemeinsamkeit stehen im Vordergrund. \nNatürlich ist auch Raum für Fragen und Vorschläge – wir nehmen uns gerne Zeit dafür!
URL:https://per-cani.de/event/gefuehrter-spaziergang-mit-unseren-hunden/2028-02-09/
END:VEVENT
BEGIN:VEVENT
DTSTART;TZID=Europe/Berlin:20280210T180000
DTEND;TZID=Europe/Berlin:20280210T190000
DTSTAMP:20260421T212842
CREATED:20260410T201929Z
LAST-MODIFIED:20260410T201930Z
UID:10001959-1833818400-1833822000@per-cani.de
SUMMARY:Offenes Training\, Hundewiese
DESCRIPTION:Google Maps: Quellenstr.\, Kohlstädt \nUnser offenes Training findet wöchentlich auf dem sicheren\, vertrauten Hundeplatz statt – flexibel\, ohne festen Ablauf und ohne Zeitdruck. Du kommst\, wann es passt\, und trainierst genau das\, was euch weiterbringt: Leinenführigkeit\, Rückruf\, Impulskontrolle oder Alltagssituationen. Wir Übungsleiter sind stets ansprechbar\, geben klare\, behutsame Korrekturen und zeigen praktikable Alternativen. Der Platz bietet Übersicht und Raum für Übungen von einfach bis anspruchsvoll – ohne Verkehr und unvorhersehbare Störungen. Gleichzeitig ist es ein Treffpunkt zum Austausch: zuschauen\, Fragen stellen\, voneinander lernen. So entsteht ein individuelles\, entspanntes Training mit verlässlicher Begleitung und echter Fortschrittschance – in deinem Tempo. \nÜbungsleiter: Roland\, Susanne
URL:https://per-cani.de/event/offenes-training-4-2/2028-02-10/
LOCATION:Hundewiese
ORGANIZER;CN="per-cani e.V.":MAILTO:info@per-cani.de
END:VEVENT
BEGIN:VEVENT
DTSTART;TZID=Europe/Berlin:20280215T150000
DTEND;TZID=Europe/Berlin:20280215T163000
DTSTAMP:20260421T212842
CREATED:20260410T203256Z
LAST-MODIFIED:20260410T203256Z
UID:10003014-1834239600-1834245000@per-cani.de
SUMMARY:Lernrunde; Windmühle am Schlänger Bruch
DESCRIPTION:Google-Maps: Windmühle am Schlänger Bruch\, 33175 Bad Lippspringe\nHinweis: In Google Maps die Adresse eingeben und bis zur Windmühle weiter fahren. Dort ist ein Parkplatz. \nDie Lernrunde dauert etwa eine Stunde und bietet eine bunte Mischung aus verschiedenen Übungen – abgestimmt auf das\, was die Topologie des Geländes gerade ermöglicht. \nJeder darf mitmachen\, niemand muss – der Spaß und das gemeinsame Lernen stehen im Vordergrund. \nGeplant ist außerdem ein freiwilliger Freilauf mit Ablage  auf einer Wiese und das bisher gelernte anwenden. \nNatürlich ist auch Raum für Fragen – wir nehmen uns gerne Zeit dafür!
URL:https://per-cani.de/event/lernrunde-2-2-2/2028-02-15/
CATEGORIES:geführter Spaziergang
ORGANIZER;CN="per-cani e.V.":MAILTO:info@per-cani.de
END:VEVENT
BEGIN:VEVENT
DTSTART;TZID=Europe/Berlin:20280216T160000
DTEND;TZID=Europe/Berlin:20280216T173000
DTSTAMP:20260421T212842
CREATED:20260325T120344Z
LAST-MODIFIED:20260325T120344Z
UID:10001113-1834329600-1834335000@per-cani.de
SUMMARY:Geführter Spaziergang mit unseren Hunden
DESCRIPTION:Hinweis: Da wir sehr schöne Ecken rund um Schlangen haben\, werden die Treffpunkte sich auch immer wieder ändern. Wer mitmachen möchte\, läßt sich in unserer wattsapp-Gruppe aufnehmen. Dort werden die Treffpunkte immer aktuell bekannt gegeben. \nDer Spaziergang dauert ca 1\,5 Stunden und ist ca 3-4 Km lang. \nJeder darf maitmachen\, niemand muss – der Spaß und die Gemeinsamkeit stehen im Vordergrund. \nNatürlich ist auch Raum für Fragen und Vorschläge – wir nehmen uns gerne Zeit dafür!
URL:https://per-cani.de/event/gefuehrter-spaziergang-mit-unseren-hunden/2028-02-16/
END:VEVENT
BEGIN:VEVENT
DTSTART;TZID=Europe/Berlin:20280217T180000
DTEND;TZID=Europe/Berlin:20280217T190000
DTSTAMP:20260421T212842
CREATED:20260410T201929Z
LAST-MODIFIED:20260410T201930Z
UID:10001960-1834423200-1834426800@per-cani.de
SUMMARY:Offenes Training\, Hundewiese
DESCRIPTION:Google Maps: Quellenstr.\, Kohlstädt \nUnser offenes Training findet wöchentlich auf dem sicheren\, vertrauten Hundeplatz statt – flexibel\, ohne festen Ablauf und ohne Zeitdruck. Du kommst\, wann es passt\, und trainierst genau das\, was euch weiterbringt: Leinenführigkeit\, Rückruf\, Impulskontrolle oder Alltagssituationen. Wir Übungsleiter sind stets ansprechbar\, geben klare\, behutsame Korrekturen und zeigen praktikable Alternativen. Der Platz bietet Übersicht und Raum für Übungen von einfach bis anspruchsvoll – ohne Verkehr und unvorhersehbare Störungen. Gleichzeitig ist es ein Treffpunkt zum Austausch: zuschauen\, Fragen stellen\, voneinander lernen. So entsteht ein individuelles\, entspanntes Training mit verlässlicher Begleitung und echter Fortschrittschance – in deinem Tempo. \nÜbungsleiter: Roland\, Susanne
URL:https://per-cani.de/event/offenes-training-4-2/2028-02-17/
LOCATION:Hundewiese
ORGANIZER;CN="per-cani e.V.":MAILTO:info@per-cani.de
END:VEVENT
BEGIN:VEVENT
DTSTART;TZID=Europe/Berlin:20280222T180000
DTEND;TZID=Europe/Berlin:20280222T193000
DTSTAMP:20260421T212842
CREATED:20260325T123943Z
LAST-MODIFIED:20260325T123943Z
UID:10001438-1834855200-1834860600@per-cani.de
SUMMARY:Lernrunde; Stadtrunde
DESCRIPTION:Thema:  Mit dem Ort auf Tuchfühlung\nGoogle-Maps: Schützenstraße 26\, 33189 Schlangen \nDie Lernrunde dauert etwa eine Stunde und bietet eine bunte Mischung aus verschiedenen Übungen – abgestimmt auf das\, was die Topologie des Geländes gerade ermöglicht. \nJeder darf mitmachen\, niemand muss – der Spaß und das gemeinsame Lernen stehen im Vordergrund. \nGeplant ist eine Stadtrunde mit Besuch der besten Eisdiele am Ort. 🙂 \nNatürlich ist auch Raum für Fragen – wir nehmen uns gerne Zeit dafür!
URL:https://per-cani.de/event/lernrunde-4-2/2028-02-22/
ORGANIZER;CN="per-cani e.V.":MAILTO:info@per-cani.de
END:VEVENT
BEGIN:VEVENT
DTSTART;TZID=Europe/Berlin:20280223T160000
DTEND;TZID=Europe/Berlin:20280223T173000
DTSTAMP:20260421T212842
CREATED:20260325T120344Z
LAST-MODIFIED:20260325T120344Z
UID:10001114-1834934400-1834939800@per-cani.de
SUMMARY:Geführter Spaziergang mit unseren Hunden
DESCRIPTION:Hinweis: Da wir sehr schöne Ecken rund um Schlangen haben\, werden die Treffpunkte sich auch immer wieder ändern. Wer mitmachen möchte\, läßt sich in unserer wattsapp-Gruppe aufnehmen. Dort werden die Treffpunkte immer aktuell bekannt gegeben. \nDer Spaziergang dauert ca 1\,5 Stunden und ist ca 3-4 Km lang. \nJeder darf maitmachen\, niemand muss – der Spaß und die Gemeinsamkeit stehen im Vordergrund. \nNatürlich ist auch Raum für Fragen und Vorschläge – wir nehmen uns gerne Zeit dafür!
URL:https://per-cani.de/event/gefuehrter-spaziergang-mit-unseren-hunden/2028-02-23/
END:VEVENT
BEGIN:VEVENT
DTSTART;TZID=Europe/Berlin:20280224T180000
DTEND;TZID=Europe/Berlin:20280224T190000
DTSTAMP:20260421T212842
CREATED:20260410T201929Z
LAST-MODIFIED:20260410T201930Z
UID:10001961-1835028000-1835031600@per-cani.de
SUMMARY:Offenes Training\, Hundewiese
DESCRIPTION:Google Maps: Quellenstr.\, Kohlstädt \nUnser offenes Training findet wöchentlich auf dem sicheren\, vertrauten Hundeplatz statt – flexibel\, ohne festen Ablauf und ohne Zeitdruck. Du kommst\, wann es passt\, und trainierst genau das\, was euch weiterbringt: Leinenführigkeit\, Rückruf\, Impulskontrolle oder Alltagssituationen. Wir Übungsleiter sind stets ansprechbar\, geben klare\, behutsame Korrekturen und zeigen praktikable Alternativen. Der Platz bietet Übersicht und Raum für Übungen von einfach bis anspruchsvoll – ohne Verkehr und unvorhersehbare Störungen. Gleichzeitig ist es ein Treffpunkt zum Austausch: zuschauen\, Fragen stellen\, voneinander lernen. So entsteht ein individuelles\, entspanntes Training mit verlässlicher Begleitung und echter Fortschrittschance – in deinem Tempo. \nÜbungsleiter: Roland\, Susanne
URL:https://per-cani.de/event/offenes-training-4-2/2028-02-24/
LOCATION:Hundewiese
ORGANIZER;CN="per-cani e.V.":MAILTO:info@per-cani.de
END:VEVENT
BEGIN:VEVENT
DTSTART;TZID=Europe/Berlin:20280229T180000
DTEND;TZID=Europe/Berlin:20280229T193000
DTSTAMP:20260421T212842
CREATED:20260325T124035Z
LAST-MODIFIED:20260325T124035Z
UID:10001463-1835460000-1835465400@per-cani.de
SUMMARY:Lernrunde; Welandsborn betreten erlaubt
DESCRIPTION:Google-Maps: Im Welandsborn 19\, Schlangen\nBeschreibung: Dann 50 m weiter. Rechts ist ein Parkplatz \nDie Lernrunde dauert etwa eine Stunde und bietet eine bunte Mischung aus verschiedenen Übungen – abgestimmt auf das\, was die Topologie des Geländes gerade ermöglicht. \nJeder darf mitmachen\, niemand muss – der Spaß und das gemeinsame Lernen stehen im Vordergrund. \nNatürlich ist auch Raum für Fragen – wir nehmen uns gerne Zeit dafür!
URL:https://per-cani.de/event/lernrunde-6-2/2028-02-29/
END:VEVENT
END:VCALENDAR