BEGIN:VCALENDAR
VERSION:2.0
PRODID:-//per-cani e.V. - ECPv6.15.20//NONSGML v1.0//EN
CALSCALE:GREGORIAN
METHOD:PUBLISH
X-WR-CALNAME:per-cani e.V.
X-ORIGINAL-URL:https://per-cani.de
X-WR-CALDESC:Veranstaltungen für per-cani e.V.
REFRESH-INTERVAL;VALUE=DURATION:PT1H
X-Robots-Tag:noindex
X-PUBLISHED-TTL:PT1H
BEGIN:VTIMEZONE
TZID:Europe/Berlin
BEGIN:DAYLIGHT
TZOFFSETFROM:+0100
TZOFFSETTO:+0200
TZNAME:CEST
DTSTART:20270328T010000
END:DAYLIGHT
BEGIN:STANDARD
TZOFFSETFROM:+0200
TZOFFSETTO:+0100
TZNAME:CET
DTSTART:20271031T010000
END:STANDARD
BEGIN:DAYLIGHT
TZOFFSETFROM:+0100
TZOFFSETTO:+0200
TZNAME:CEST
DTSTART:20280326T010000
END:DAYLIGHT
BEGIN:STANDARD
TZOFFSETFROM:+0200
TZOFFSETTO:+0100
TZNAME:CET
DTSTART:20281029T010000
END:STANDARD
BEGIN:DAYLIGHT
TZOFFSETFROM:+0100
TZOFFSETTO:+0200
TZNAME:CEST
DTSTART:20290325T010000
END:DAYLIGHT
BEGIN:STANDARD
TZOFFSETFROM:+0200
TZOFFSETTO:+0100
TZNAME:CET
DTSTART:20291028T010000
END:STANDARD
END:VTIMEZONE
BEGIN:VEVENT
DTSTART;TZID=Europe/Berlin:20280801T180000
DTEND;TZID=Europe/Berlin:20280801T193000
DTSTAMP:20260425T034232
CREATED:20260325T123150Z
LAST-MODIFIED:20260325T123150Z
UID:10001311-1848765600-1848771000@per-cani.de
SUMMARY:Lernrunde; Haverkampsee
DESCRIPTION:Google-Maps: Finkenkrug 1\, 33189 Schlangen \nDie Lernrunde dauert etwa eine Stunde und bietet eine bunte Mischung aus verschiedenen Übungen – abgestimmt auf das\, was die Topologie des Geländes gerade ermöglicht. \nJeder darf mitmachen\, niemand muss – der Spaß und das gemeinsame Lernen stehen im Vordergrund. \nGeplant ist außerdem ein kurzes Referat ca. 10 bis 15 Minuten. Natürlich ist auch Raum für Fragen – wir nehmen uns gerne Zeit dafür!
URL:https://per-cani.de/event/lernrunde-5-2/2028-08-01/
LOCATION:Parkplatz Haverkampsee\, Finkenkrug 1\, Schlangen\, 33189
ORGANIZER;CN="per-cani e.V.":MAILTO:info@per-cani.de
END:VEVENT
BEGIN:VEVENT
DTSTART;TZID=Europe/Berlin:20280802T160000
DTEND;TZID=Europe/Berlin:20280802T173000
DTSTAMP:20260425T034232
CREATED:20260325T120344Z
LAST-MODIFIED:20260325T120344Z
UID:10001137-1848844800-1848850200@per-cani.de
SUMMARY:Geführter Spaziergang mit unseren Hunden
DESCRIPTION:Hinweis: Da wir sehr schöne Ecken rund um Schlangen haben\, werden die Treffpunkte sich auch immer wieder ändern. Wer mitmachen möchte\, läßt sich in unserer wattsapp-Gruppe aufnehmen. Dort werden die Treffpunkte immer aktuell bekannt gegeben. \nDer Spaziergang dauert ca 1\,5 Stunden und ist ca 3-4 Km lang. \nJeder darf maitmachen\, niemand muss – der Spaß und die Gemeinsamkeit stehen im Vordergrund. \nNatürlich ist auch Raum für Fragen und Vorschläge – wir nehmen uns gerne Zeit dafür!
URL:https://per-cani.de/event/gefuehrter-spaziergang-mit-unseren-hunden/2028-08-02/
END:VEVENT
BEGIN:VEVENT
DTSTART;TZID=Europe/Berlin:20280803T180000
DTEND;TZID=Europe/Berlin:20280803T190000
DTSTAMP:20260425T034232
CREATED:20260410T201929Z
LAST-MODIFIED:20260410T201930Z
UID:10001984-1848938400-1848942000@per-cani.de
SUMMARY:Offenes Training\, Hundewiese
DESCRIPTION:Google Maps: Quellenstr.\, Kohlstädt \nUnser offenes Training findet wöchentlich auf dem sicheren\, vertrauten Hundeplatz statt – flexibel\, ohne festen Ablauf und ohne Zeitdruck. Du kommst\, wann es passt\, und trainierst genau das\, was euch weiterbringt: Leinenführigkeit\, Rückruf\, Impulskontrolle oder Alltagssituationen. Wir Übungsleiter sind stets ansprechbar\, geben klare\, behutsame Korrekturen und zeigen praktikable Alternativen. Der Platz bietet Übersicht und Raum für Übungen von einfach bis anspruchsvoll – ohne Verkehr und unvorhersehbare Störungen. Gleichzeitig ist es ein Treffpunkt zum Austausch: zuschauen\, Fragen stellen\, voneinander lernen. So entsteht ein individuelles\, entspanntes Training mit verlässlicher Begleitung und echter Fortschrittschance – in deinem Tempo. \nÜbungsleiter: Roland\, Susanne
URL:https://per-cani.de/event/offenes-training-4-2/2028-08-03/
LOCATION:Hundewiese
ORGANIZER;CN="per-cani e.V.":MAILTO:info@per-cani.de
END:VEVENT
BEGIN:VEVENT
DTSTART;TZID=Europe/Berlin:20280808T180000
DTEND;TZID=Europe/Berlin:20280808T193000
DTSTAMP:20260425T034232
CREATED:20260325T123307Z
LAST-MODIFIED:20260410T201207Z
UID:10001336-1849370400-1849375800@per-cani.de
SUMMARY:Lernrunde; Dedinger-Heide-See
DESCRIPTION:Google-Maps: Maximilian-Kolbe-Straße 4\, 33175 Bad Lippspringe \nDie Lernrunde dauert etwa eine Stunde und bietet eine bunte Mischung aus verschiedenen Übungen – abgestimmt auf das\, was die Topologie des Geländes gerade ermöglicht. \nJeder darf mitmachen\, niemand muss – der Spaß und das gemeinsame Lernen stehen im Vordergrund. \nGeplant ist außerdem ein kurzes Referat ca. 10 bis 15 Minuten. Natürlich ist auch Raum für Fragen – wir nehmen uns gerne Zeit dafür!
URL:https://per-cani.de/event/lernrunde-dedinger-heide-see-2/2028-08-08/
END:VEVENT
BEGIN:VEVENT
DTSTART;TZID=Europe/Berlin:20280809T160000
DTEND;TZID=Europe/Berlin:20280809T173000
DTSTAMP:20260425T034232
CREATED:20260325T120344Z
LAST-MODIFIED:20260325T120344Z
UID:10001138-1849449600-1849455000@per-cani.de
SUMMARY:Geführter Spaziergang mit unseren Hunden
DESCRIPTION:Hinweis: Da wir sehr schöne Ecken rund um Schlangen haben\, werden die Treffpunkte sich auch immer wieder ändern. Wer mitmachen möchte\, läßt sich in unserer wattsapp-Gruppe aufnehmen. Dort werden die Treffpunkte immer aktuell bekannt gegeben. \nDer Spaziergang dauert ca 1\,5 Stunden und ist ca 3-4 Km lang. \nJeder darf maitmachen\, niemand muss – der Spaß und die Gemeinsamkeit stehen im Vordergrund. \nNatürlich ist auch Raum für Fragen und Vorschläge – wir nehmen uns gerne Zeit dafür!
URL:https://per-cani.de/event/gefuehrter-spaziergang-mit-unseren-hunden/2028-08-09/
END:VEVENT
BEGIN:VEVENT
DTSTART;TZID=Europe/Berlin:20280810T180000
DTEND;TZID=Europe/Berlin:20280810T190000
DTSTAMP:20260425T034232
CREATED:20260410T201929Z
LAST-MODIFIED:20260410T201930Z
UID:10001985-1849543200-1849546800@per-cani.de
SUMMARY:Offenes Training\, Hundewiese
DESCRIPTION:Google Maps: Quellenstr.\, Kohlstädt \nUnser offenes Training findet wöchentlich auf dem sicheren\, vertrauten Hundeplatz statt – flexibel\, ohne festen Ablauf und ohne Zeitdruck. Du kommst\, wann es passt\, und trainierst genau das\, was euch weiterbringt: Leinenführigkeit\, Rückruf\, Impulskontrolle oder Alltagssituationen. Wir Übungsleiter sind stets ansprechbar\, geben klare\, behutsame Korrekturen und zeigen praktikable Alternativen. Der Platz bietet Übersicht und Raum für Übungen von einfach bis anspruchsvoll – ohne Verkehr und unvorhersehbare Störungen. Gleichzeitig ist es ein Treffpunkt zum Austausch: zuschauen\, Fragen stellen\, voneinander lernen. So entsteht ein individuelles\, entspanntes Training mit verlässlicher Begleitung und echter Fortschrittschance – in deinem Tempo. \nÜbungsleiter: Roland\, Susanne
URL:https://per-cani.de/event/offenes-training-4-2/2028-08-10/
LOCATION:Hundewiese
ORGANIZER;CN="per-cani e.V.":MAILTO:info@per-cani.de
END:VEVENT
BEGIN:VEVENT
DTSTART;TZID=Europe/Berlin:20280815T180000
DTEND;TZID=Europe/Berlin:20280815T193000
DTSTAMP:20260425T034232
CREATED:20260325T123348Z
LAST-MODIFIED:20260325T123348Z
UID:10001361-1849975200-1849980600@per-cani.de
SUMMARY:Lernrunde; Reitstall
DESCRIPTION:Google Maps: Lönsweg\, 33175 Bad Lippspringe \nDie Lernrunde dauert etwa eine Stunde und bietet eine bunte Mischung aus verschiedenen Übungen – abgestimmt auf das\, was die Topologie des Geländes gerade ermöglicht. \nJeder darf mitmachen\, niemand muss – der Spaß und das gemeinsame Lernen stehen im Vordergrund. \nNatürlich ist auch Raum für Fragen – wir nehmen uns gerne Zeit dafür!
URL:https://per-cani.de/event/lernrunde-reitstall-2/2028-08-15/
END:VEVENT
BEGIN:VEVENT
DTSTART;TZID=Europe/Berlin:20280816T160000
DTEND;TZID=Europe/Berlin:20280816T173000
DTSTAMP:20260425T034232
CREATED:20260325T120344Z
LAST-MODIFIED:20260325T120344Z
UID:10001139-1850054400-1850059800@per-cani.de
SUMMARY:Geführter Spaziergang mit unseren Hunden
DESCRIPTION:Hinweis: Da wir sehr schöne Ecken rund um Schlangen haben\, werden die Treffpunkte sich auch immer wieder ändern. Wer mitmachen möchte\, läßt sich in unserer wattsapp-Gruppe aufnehmen. Dort werden die Treffpunkte immer aktuell bekannt gegeben. \nDer Spaziergang dauert ca 1\,5 Stunden und ist ca 3-4 Km lang. \nJeder darf maitmachen\, niemand muss – der Spaß und die Gemeinsamkeit stehen im Vordergrund. \nNatürlich ist auch Raum für Fragen und Vorschläge – wir nehmen uns gerne Zeit dafür!
URL:https://per-cani.de/event/gefuehrter-spaziergang-mit-unseren-hunden/2028-08-16/
END:VEVENT
BEGIN:VEVENT
DTSTART;TZID=Europe/Berlin:20280817T180000
DTEND;TZID=Europe/Berlin:20280817T190000
DTSTAMP:20260425T034232
CREATED:20260410T201929Z
LAST-MODIFIED:20260410T201930Z
UID:10001986-1850148000-1850151600@per-cani.de
SUMMARY:Offenes Training\, Hundewiese
DESCRIPTION:Google Maps: Quellenstr.\, Kohlstädt \nUnser offenes Training findet wöchentlich auf dem sicheren\, vertrauten Hundeplatz statt – flexibel\, ohne festen Ablauf und ohne Zeitdruck. Du kommst\, wann es passt\, und trainierst genau das\, was euch weiterbringt: Leinenführigkeit\, Rückruf\, Impulskontrolle oder Alltagssituationen. Wir Übungsleiter sind stets ansprechbar\, geben klare\, behutsame Korrekturen und zeigen praktikable Alternativen. Der Platz bietet Übersicht und Raum für Übungen von einfach bis anspruchsvoll – ohne Verkehr und unvorhersehbare Störungen. Gleichzeitig ist es ein Treffpunkt zum Austausch: zuschauen\, Fragen stellen\, voneinander lernen. So entsteht ein individuelles\, entspanntes Training mit verlässlicher Begleitung und echter Fortschrittschance – in deinem Tempo. \nÜbungsleiter: Roland\, Susanne
URL:https://per-cani.de/event/offenes-training-4-2/2028-08-17/
LOCATION:Hundewiese
ORGANIZER;CN="per-cani e.V.":MAILTO:info@per-cani.de
END:VEVENT
BEGIN:VEVENT
DTSTART;TZID=Europe/Berlin:20280822T180000
DTEND;TZID=Europe/Berlin:20280822T193000
DTSTAMP:20260425T034232
CREATED:20260410T202559Z
LAST-MODIFIED:20260410T202913Z
UID:10002993-1850580000-1850585400@per-cani.de
SUMMARY:Lernrunde; Hausrunde um den Tennisplatz
DESCRIPTION:Google-Maps: Alte-Rothe-Str. 75\, 33189 Schlangen \nDie Lernrunde dauert etwa eine Stunde und bietet eine bunte Mischung aus verschiedenen Übungen – abgestimmt auf das\, was die Topologie des Geländes gerade ermöglicht. \nJeder darf mitmachen\, niemand muss – der Spaß und das gemeinsame Lernen stehen im Vordergrund. \nGeplant ist außerdem ein kurzes Referat ca. 10 bis 15 Minuten. Natürlich ist auch Raum für Fragen – wir nehmen uns gerne Zeit dafür!
URL:https://per-cani.de/event/lernrunde-hausrunde-um-den-tennisplatz-2-2/2028-08-22/
END:VEVENT
BEGIN:VEVENT
DTSTART;TZID=Europe/Berlin:20280823T160000
DTEND;TZID=Europe/Berlin:20280823T173000
DTSTAMP:20260425T034232
CREATED:20260325T120344Z
LAST-MODIFIED:20260325T120344Z
UID:10001140-1850659200-1850664600@per-cani.de
SUMMARY:Geführter Spaziergang mit unseren Hunden
DESCRIPTION:Hinweis: Da wir sehr schöne Ecken rund um Schlangen haben\, werden die Treffpunkte sich auch immer wieder ändern. Wer mitmachen möchte\, läßt sich in unserer wattsapp-Gruppe aufnehmen. Dort werden die Treffpunkte immer aktuell bekannt gegeben. \nDer Spaziergang dauert ca 1\,5 Stunden und ist ca 3-4 Km lang. \nJeder darf maitmachen\, niemand muss – der Spaß und die Gemeinsamkeit stehen im Vordergrund. \nNatürlich ist auch Raum für Fragen und Vorschläge – wir nehmen uns gerne Zeit dafür!
URL:https://per-cani.de/event/gefuehrter-spaziergang-mit-unseren-hunden/2028-08-23/
END:VEVENT
BEGIN:VEVENT
DTSTART;TZID=Europe/Berlin:20280824T180000
DTEND;TZID=Europe/Berlin:20280824T190000
DTSTAMP:20260425T034232
CREATED:20260410T201929Z
LAST-MODIFIED:20260410T201930Z
UID:10001987-1850752800-1850756400@per-cani.de
SUMMARY:Offenes Training\, Hundewiese
DESCRIPTION:Google Maps: Quellenstr.\, Kohlstädt \nUnser offenes Training findet wöchentlich auf dem sicheren\, vertrauten Hundeplatz statt – flexibel\, ohne festen Ablauf und ohne Zeitdruck. Du kommst\, wann es passt\, und trainierst genau das\, was euch weiterbringt: Leinenführigkeit\, Rückruf\, Impulskontrolle oder Alltagssituationen. Wir Übungsleiter sind stets ansprechbar\, geben klare\, behutsame Korrekturen und zeigen praktikable Alternativen. Der Platz bietet Übersicht und Raum für Übungen von einfach bis anspruchsvoll – ohne Verkehr und unvorhersehbare Störungen. Gleichzeitig ist es ein Treffpunkt zum Austausch: zuschauen\, Fragen stellen\, voneinander lernen. So entsteht ein individuelles\, entspanntes Training mit verlässlicher Begleitung und echter Fortschrittschance – in deinem Tempo. \nÜbungsleiter: Roland\, Susanne
URL:https://per-cani.de/event/offenes-training-4-2/2028-08-24/
LOCATION:Hundewiese
ORGANIZER;CN="per-cani e.V.":MAILTO:info@per-cani.de
END:VEVENT
BEGIN:VEVENT
DTSTART;TZID=Europe/Berlin:20280829T180000
DTEND;TZID=Europe/Berlin:20280829T193000
DTSTAMP:20260425T034232
CREATED:20260325T123613Z
LAST-MODIFIED:20260325T123613Z
UID:10001391-1851184800-1851190200@per-cani.de
SUMMARY:Lernrunde; durch die Röhre
DESCRIPTION:Google Maps: Lippspringer Str. 87\, 33189 Schlangen \nHinweis: Wir können bei Elektro Sander parken.\nDie Lernrunde dauert etwa eine Stunde und bietet eine bunte Mischung aus verschiedenen Übungen – abgestimmt auf das\, was die Topologie des Geländes gerade ermöglicht. \nJeder darf mitmachen\, niemand muss – der Spaß und das gemeinsame Lernen stehen im Vordergrund. \nNatürlich ist auch Raum für Fragen – wir nehmen uns gerne Zeit dafür!
URL:https://per-cani.de/event/lernrunde-7-2-2/2028-08-29/
ORGANIZER;CN="per-cani e.V.":MAILTO:info@per-cani.de
END:VEVENT
BEGIN:VEVENT
DTSTART;TZID=Europe/Berlin:20280830T160000
DTEND;TZID=Europe/Berlin:20280830T173000
DTSTAMP:20260425T034232
CREATED:20260325T120344Z
LAST-MODIFIED:20260325T120344Z
UID:10001141-1851264000-1851269400@per-cani.de
SUMMARY:Geführter Spaziergang mit unseren Hunden
DESCRIPTION:Hinweis: Da wir sehr schöne Ecken rund um Schlangen haben\, werden die Treffpunkte sich auch immer wieder ändern. Wer mitmachen möchte\, läßt sich in unserer wattsapp-Gruppe aufnehmen. Dort werden die Treffpunkte immer aktuell bekannt gegeben. \nDer Spaziergang dauert ca 1\,5 Stunden und ist ca 3-4 Km lang. \nJeder darf maitmachen\, niemand muss – der Spaß und die Gemeinsamkeit stehen im Vordergrund. \nNatürlich ist auch Raum für Fragen und Vorschläge – wir nehmen uns gerne Zeit dafür!
URL:https://per-cani.de/event/gefuehrter-spaziergang-mit-unseren-hunden/2028-08-30/
END:VEVENT
BEGIN:VEVENT
DTSTART;TZID=Europe/Berlin:20280831T180000
DTEND;TZID=Europe/Berlin:20280831T190000
DTSTAMP:20260425T034232
CREATED:20260410T201929Z
LAST-MODIFIED:20260410T201930Z
UID:10001988-1851357600-1851361200@per-cani.de
SUMMARY:Offenes Training\, Hundewiese
DESCRIPTION:Google Maps: Quellenstr.\, Kohlstädt \nUnser offenes Training findet wöchentlich auf dem sicheren\, vertrauten Hundeplatz statt – flexibel\, ohne festen Ablauf und ohne Zeitdruck. Du kommst\, wann es passt\, und trainierst genau das\, was euch weiterbringt: Leinenführigkeit\, Rückruf\, Impulskontrolle oder Alltagssituationen. Wir Übungsleiter sind stets ansprechbar\, geben klare\, behutsame Korrekturen und zeigen praktikable Alternativen. Der Platz bietet Übersicht und Raum für Übungen von einfach bis anspruchsvoll – ohne Verkehr und unvorhersehbare Störungen. Gleichzeitig ist es ein Treffpunkt zum Austausch: zuschauen\, Fragen stellen\, voneinander lernen. So entsteht ein individuelles\, entspanntes Training mit verlässlicher Begleitung und echter Fortschrittschance – in deinem Tempo. \nÜbungsleiter: Roland\, Susanne
URL:https://per-cani.de/event/offenes-training-4-2/2028-08-31/
LOCATION:Hundewiese
ORGANIZER;CN="per-cani e.V.":MAILTO:info@per-cani.de
END:VEVENT
END:VCALENDAR