BEGIN:VCALENDAR
VERSION:2.0
PRODID:-//per-cani e.V. - ECPv6.15.20//NONSGML v1.0//EN
CALSCALE:GREGORIAN
METHOD:PUBLISH
X-WR-CALNAME:per-cani e.V.
X-ORIGINAL-URL:https://per-cani.de
X-WR-CALDESC:Veranstaltungen für per-cani e.V.
REFRESH-INTERVAL;VALUE=DURATION:PT1H
X-Robots-Tag:noindex
X-PUBLISHED-TTL:PT1H
BEGIN:VTIMEZONE
TZID:Europe/Berlin
BEGIN:DAYLIGHT
TZOFFSETFROM:+0100
TZOFFSETTO:+0200
TZNAME:CEST
DTSTART:20240331T010000
END:DAYLIGHT
BEGIN:STANDARD
TZOFFSETFROM:+0200
TZOFFSETTO:+0100
TZNAME:CET
DTSTART:20241027T010000
END:STANDARD
BEGIN:DAYLIGHT
TZOFFSETFROM:+0100
TZOFFSETTO:+0200
TZNAME:CEST
DTSTART:20250330T010000
END:DAYLIGHT
BEGIN:STANDARD
TZOFFSETFROM:+0200
TZOFFSETTO:+0100
TZNAME:CET
DTSTART:20251026T010000
END:STANDARD
BEGIN:DAYLIGHT
TZOFFSETFROM:+0100
TZOFFSETTO:+0200
TZNAME:CEST
DTSTART:20260329T010000
END:DAYLIGHT
BEGIN:STANDARD
TZOFFSETFROM:+0200
TZOFFSETTO:+0100
TZNAME:CET
DTSTART:20261025T010000
END:STANDARD
END:VTIMEZONE
BEGIN:VEVENT
DTSTART;TZID=Europe/Berlin:20251108T150000
DTEND;TZID=Europe/Berlin:20251108T163000
DTSTAMP:20260423T135133
CREATED:20250409T104229Z
LAST-MODIFIED:20251107T121253Z
UID:10000771-1762614000-1762619400@per-cani.de
SUMMARY:Lernrunde; Stadtrunde
DESCRIPTION:Thema:  Mit dem Ort auf Tuchfühlung\nGoogle-Maps: Schützenstraße 26\, 33189 Schlangen \nDie Lernrunde dauert etwa eine Stunde und bietet eine bunte Mischung aus verschiedenen Übungen – abgestimmt auf das\, was die Topologie des Geländes gerade ermöglicht. \nJeder darf mitmachen\, niemand muss – der Spaß und das gemeinsame Lernen stehen im Vordergrund. \nGeplant ist eine Stadtrunde mit Besuch der besten Eisdiele am Ort. 🙂 \nNatürlich ist auch Raum für Fragen – wir nehmen uns gerne Zeit dafür!
URL:https://per-cani.de/event/lernrunde-4/2025-11-08/
ORGANIZER;CN="per-cani e.V.":MAILTO:info@per-cani.de
END:VEVENT
BEGIN:VEVENT
DTSTART;TZID=Europe/Berlin:20251115T150000
DTEND;TZID=Europe/Berlin:20251115T163000
DTSTAMP:20260423T135133
CREATED:20250504T055645Z
LAST-MODIFIED:20251107T121245Z
UID:10000745-1763218800-1763224200@per-cani.de
SUMMARY:Lernrunde; Welandsborn betreten erlaubt
DESCRIPTION:Google-Maps: Im Welandsborn 19\, Schlangen\nBeschreibung: Dann 50 m weiter. Rechts ist ein Parkplatz \nDie Lernrunde dauert etwa eine Stunde und bietet eine bunte Mischung aus verschiedenen Übungen – abgestimmt auf das\, was die Topologie des Geländes gerade ermöglicht. \nJeder darf mitmachen\, niemand muss – der Spaß und das gemeinsame Lernen stehen im Vordergrund. \nNatürlich ist auch Raum für Fragen – wir nehmen uns gerne Zeit dafür!
URL:https://per-cani.de/event/lernrunde-6/2025-11-15/
END:VEVENT
BEGIN:VEVENT
DTSTART;TZID=Europe/Berlin:20251122T150000
DTEND;TZID=Europe/Berlin:20251122T163000
DTSTAMP:20260423T135133
CREATED:20250325T141352Z
LAST-MODIFIED:20251107T121230Z
UID:10000719-1763823600-1763829000@per-cani.de
SUMMARY:Lernrunde; Kreuzkrug alter Postweg
DESCRIPTION:Google Maps: Fürstliches Forsthaus Kreuzkrug\n \nDas Training dauert etwa eine Stunde und bietet eine bunte Mischung aus verschiedenen Übungen – abgestimmt auf das\, was die Topologie des Geländes gerade ermöglicht. \nJeder darf mitmachen\, niemand muss – der Spaß und das gemeinsame Lernen stehen im Vordergrund. \nGeplant ist außerdem ein kurzes Referat.
URL:https://per-cani.de/event/gefuehrter-spaziergang/2025-11-22/
LOCATION:Parkplatz Am Kreuzkrug\, Kreuzkrug 1003\, Schlangen\, 33189
ORGANIZER;CN="per-cani e.V.":MAILTO:info@per-cani.de
END:VEVENT
BEGIN:VEVENT
DTSTART;TZID=Europe/Berlin:20251129T150000
DTEND;TZID=Europe/Berlin:20251129T163000
DTSTAMP:20260423T135133
CREATED:20251107T094540Z
LAST-MODIFIED:20251124T172302Z
UID:10000986-1764428400-1764433800@per-cani.de
SUMMARY:Lernrunde; Haverkampsee
DESCRIPTION:Google-Maps: Finkenkrug 1\, 33189 Schlangen \nDie Lernrunde dauert etwa eine Stunde und bietet eine bunte Mischung aus verschiedenen Übungen – abgestimmt auf das\, was die Topologie des Geländes gerade ermöglicht. \nJeder darf mitmachen\, niemand muss – der Spaß und das gemeinsame Lernen stehen im Vordergrund. \nGeplant ist außerdem ein kurzes Referat ca. 10 bis 15 Minuten. Natürlich ist auch Raum für Fragen – wir nehmen uns gerne Zeit dafür!
URL:https://per-cani.de/event/lernrunde-5/2025-11-29/
LOCATION:Parkplatz Haverkampsee\, Finkenkrug 1\, Schlangen\, 33189
ORGANIZER;CN="per-cani e.V.":MAILTO:info@per-cani.de
END:VEVENT
END:VCALENDAR