BEGIN:VCALENDAR
VERSION:2.0
PRODID:-//per-cani e.V. - ECPv6.15.20//NONSGML v1.0//EN
CALSCALE:GREGORIAN
METHOD:PUBLISH
X-ORIGINAL-URL:https://per-cani.de
X-WR-CALDESC:Veranstaltungen für per-cani e.V.
REFRESH-INTERVAL;VALUE=DURATION:PT1H
X-Robots-Tag:noindex
X-PUBLISHED-TTL:PT1H
BEGIN:VTIMEZONE
TZID:Europe/Berlin
BEGIN:DAYLIGHT
TZOFFSETFROM:+0100
TZOFFSETTO:+0200
TZNAME:CEST
DTSTART:20240331T010000
END:DAYLIGHT
BEGIN:STANDARD
TZOFFSETFROM:+0200
TZOFFSETTO:+0100
TZNAME:CET
DTSTART:20241027T010000
END:STANDARD
BEGIN:DAYLIGHT
TZOFFSETFROM:+0100
TZOFFSETTO:+0200
TZNAME:CEST
DTSTART:20250330T010000
END:DAYLIGHT
BEGIN:STANDARD
TZOFFSETFROM:+0200
TZOFFSETTO:+0100
TZNAME:CET
DTSTART:20251026T010000
END:STANDARD
BEGIN:DAYLIGHT
TZOFFSETFROM:+0100
TZOFFSETTO:+0200
TZNAME:CEST
DTSTART:20260329T010000
END:DAYLIGHT
BEGIN:STANDARD
TZOFFSETFROM:+0200
TZOFFSETTO:+0100
TZNAME:CET
DTSTART:20261025T010000
END:STANDARD
BEGIN:DAYLIGHT
TZOFFSETFROM:+0100
TZOFFSETTO:+0200
TZNAME:CEST
DTSTART:20270328T010000
END:DAYLIGHT
BEGIN:STANDARD
TZOFFSETFROM:+0200
TZOFFSETTO:+0100
TZNAME:CET
DTSTART:20271031T010000
END:STANDARD
END:VTIMEZONE
BEGIN:VEVENT
DTSTART;TZID=Europe/Berlin:20260416T180000
DTEND;TZID=Europe/Berlin:20260416T190000
DTSTAMP:20260421T131212
CREATED:20260410T201929Z
LAST-MODIFIED:20260410T201930Z
UID:10001864-1776362400-1776366000@per-cani.de
SUMMARY:Offenes Training\, Hundewiese
DESCRIPTION:Google Maps: Quellenstr.\, Kohlstädt \nUnser offenes Training findet wöchentlich auf dem sicheren\, vertrauten Hundeplatz statt – flexibel\, ohne festen Ablauf und ohne Zeitdruck. Du kommst\, wann es passt\, und trainierst genau das\, was euch weiterbringt: Leinenführigkeit\, Rückruf\, Impulskontrolle oder Alltagssituationen. Wir Übungsleiter sind stets ansprechbar\, geben klare\, behutsame Korrekturen und zeigen praktikable Alternativen. Der Platz bietet Übersicht und Raum für Übungen von einfach bis anspruchsvoll – ohne Verkehr und unvorhersehbare Störungen. Gleichzeitig ist es ein Treffpunkt zum Austausch: zuschauen\, Fragen stellen\, voneinander lernen. So entsteht ein individuelles\, entspanntes Training mit verlässlicher Begleitung und echter Fortschrittschance – in deinem Tempo. \nÜbungsleiter: Roland\, Susanne
URL:https://per-cani.de/event/offenes-training-4-2/2026-04-16/
LOCATION:Hundewiese
ORGANIZER;CN="per-cani e.V.":MAILTO:info@per-cani.de
END:VEVENT
BEGIN:VEVENT
DTSTART;TZID=Europe/Berlin:20260409T180000
DTEND;TZID=Europe/Berlin:20260409T190000
DTSTAMP:20260421T131212
CREATED:20260325T131023Z
LAST-MODIFIED:20260325T131132Z
UID:10001863-1775757600-1775761200@per-cani.de
SUMMARY:Offenes Training\, Hundewiese
DESCRIPTION:Google Maps: Quellenstr.\, Kohlstädt \nUnser offenes Training findet wöchentlich auf dem sicheren\, vertrauten Hundeplatz statt – flexibel\, ohne festen Ablauf und ohne Zeitdruck. Du kommst\, wann es passt\, und trainierst genau das\, was euch weiterbringt: Leinenführigkeit\, Rückruf\, Impulskontrolle oder Alltagssituationen. Wir Übungsleiter sind stets ansprechbar\, geben klare\, behutsame Korrekturen und zeigen praktikable Alternativen. Der Platz bietet Übersicht und Raum für Übungen von einfach bis anspruchsvoll – ohne Verkehr und unvorhersehbare Störungen. Gleichzeitig ist es ein Treffpunkt zum Austausch: zuschauen\, Fragen stellen\, voneinander lernen. So entsteht ein individuelles\, entspanntes Training mit verlässlicher Begleitung und echter Fortschrittschance – in deinem Tempo. \nÜbungsleiter: Roland\, Susanne
URL:https://per-cani.de/event/offenes-training-4/
LOCATION:Hundewiese
ORGANIZER;CN="per-cani e.V.":MAILTO:info@per-cani.de
END:VEVENT
BEGIN:VEVENT
DTSTART;TZID=Europe/Berlin:20260326T150000
DTEND;TZID=Europe/Berlin:20260326T160000
DTSTAMP:20260421T131212
CREATED:20260325T130321Z
LAST-MODIFIED:20260325T130321Z
UID:10001502-1774537200-1774540800@per-cani.de
SUMMARY:Offenes Training\, Hundewiese
DESCRIPTION:Google Maps: Quellenstr.\, Kohlstädt \nUnser offenes Training findet wöchentlich auf dem sicheren\, vertrauten Hundeplatz statt – flexibel\, ohne festen Ablauf und ohne Zeitdruck. Du kommst\, wann es passt\, und trainierst genau das\, was euch weiterbringt: Leinenführigkeit\, Rückruf\, Impulskontrolle oder Alltagssituationen. Wir Übungsleiter sind stets ansprechbar\, geben klare\, behutsame Korrekturen und zeigen praktikable Alternativen. Der Platz bietet Übersicht und Raum für Übungen von einfach bis anspruchsvoll – ohne Verkehr und unvorhersehbare Störungen. Gleichzeitig ist es ein Treffpunkt zum Austausch: zuschauen\, Fragen stellen\, voneinander lernen. So entsteht ein individuelles\, entspanntes Training mit verlässlicher Begleitung und echter Fortschrittschance – in deinem Tempo. \nÜbungsleiter: Roland\, Susanne
URL:https://per-cani.de/event/offenes-training-3/
LOCATION:Hundewiese
ORGANIZER;CN="per-cani e.V.":MAILTO:info@per-cani.de
END:VEVENT
BEGIN:VEVENT
DTSTART;TZID=Europe/Berlin:20251016T150000
DTEND;TZID=Europe/Berlin:20251016T160000
DTSTAMP:20260421T131212
CREATED:20251010T173343Z
LAST-MODIFIED:20251010T174046Z
UID:10000277-1760626800-1760630400@per-cani.de
SUMMARY:Offenes Training\, Hundewiese
DESCRIPTION:Unser offenes Training findet wöchentlich auf dem sicheren\, vertrauten Hundeplatz statt – flexibel\, ohne festen Ablauf und ohne Zeitdruck. Du kommst\, wann es passt\, und trainierst genau das\, was euch weiterbringt: Leinenführigkeit\, Rückruf\, Impulskontrolle oder Alltagssituationen. Wir Übungsleiter sind stets ansprechbar\, geben klare\, behutsame Korrekturen und zeigen praktikable Alternativen. Der Platz bietet Übersicht und Raum für Übungen von einfach bis anspruchsvoll – ohne Verkehr und unvorhersehbare Störungen. Gleichzeitig ist es ein Treffpunkt zum Austausch: zuschauen\, Fragen stellen\, voneinander lernen. So entsteht ein individuelles\, entspanntes Training mit verlässlicher Begleitung und echter Fortschrittschance – in deinem Tempo.Übungsleiter: Susanne\, Roland
URL:https://per-cani.de/event/offenes-training-2/
LOCATION:Hundewiese
ORGANIZER;CN="per-cani e.V.":MAILTO:info@per-cani.de
END:VEVENT
END:VCALENDAR